BEGIN:VCALENDAR
VERSION:2.0
PRODID:-//digitalHUB Aachen - ECPv6.15.20//NONSGML v1.0//EN
CALSCALE:GREGORIAN
METHOD:PUBLISH
X-WR-CALNAME:digitalHUB Aachen
X-ORIGINAL-URL:https://www.aachen.digital/en/
X-WR-CALDESC:Events for digitalHUB Aachen
REFRESH-INTERVAL;VALUE=DURATION:PT1H
X-Robots-Tag:noindex
X-PUBLISHED-TTL:PT1H
BEGIN:VTIMEZONE
TZID:Europe/Berlin
BEGIN:DAYLIGHT
TZOFFSETFROM:+0100
TZOFFSETTO:+0200
TZNAME:CEST
DTSTART:20240331T010000
END:DAYLIGHT
BEGIN:STANDARD
TZOFFSETFROM:+0200
TZOFFSETTO:+0100
TZNAME:CET
DTSTART:20241027T010000
END:STANDARD
BEGIN:DAYLIGHT
TZOFFSETFROM:+0100
TZOFFSETTO:+0200
TZNAME:CEST
DTSTART:20250330T010000
END:DAYLIGHT
BEGIN:STANDARD
TZOFFSETFROM:+0200
TZOFFSETTO:+0100
TZNAME:CET
DTSTART:20251026T010000
END:STANDARD
BEGIN:DAYLIGHT
TZOFFSETFROM:+0100
TZOFFSETTO:+0200
TZNAME:CEST
DTSTART:20260329T010000
END:DAYLIGHT
BEGIN:STANDARD
TZOFFSETFROM:+0200
TZOFFSETTO:+0100
TZNAME:CET
DTSTART:20261025T010000
END:STANDARD
END:VTIMEZONE
BEGIN:VTIMEZONE
TZID:Europe/Amsterdam
BEGIN:DAYLIGHT
TZOFFSETFROM:+0100
TZOFFSETTO:+0200
TZNAME:CEST
DTSTART:20240331T010000
END:DAYLIGHT
BEGIN:STANDARD
TZOFFSETFROM:+0200
TZOFFSETTO:+0100
TZNAME:CET
DTSTART:20241027T010000
END:STANDARD
BEGIN:DAYLIGHT
TZOFFSETFROM:+0100
TZOFFSETTO:+0200
TZNAME:CEST
DTSTART:20250330T010000
END:DAYLIGHT
BEGIN:STANDARD
TZOFFSETFROM:+0200
TZOFFSETTO:+0100
TZNAME:CET
DTSTART:20251026T010000
END:STANDARD
BEGIN:DAYLIGHT
TZOFFSETFROM:+0100
TZOFFSETTO:+0200
TZNAME:CEST
DTSTART:20260329T010000
END:DAYLIGHT
BEGIN:STANDARD
TZOFFSETFROM:+0200
TZOFFSETTO:+0100
TZNAME:CET
DTSTART:20261025T010000
END:STANDARD
END:VTIMEZONE
BEGIN:VEVENT
DTSTART;TZID=Europe/Berlin:20251021T140000
DTEND;TZID=Europe/Berlin:20251021T150000
DTSTAMP:20260423T165808
CREATED:20250909T095427Z
LAST-MODIFIED:20251017T063140Z
UID:10007419-1761055200-1761058800@www.aachen.digital
SUMMARY:Geschäftsmodelle im Wandel
DESCRIPTION:David Evers erläutert in der Reihe ‘FiR Service Insights’ das Thema „Die Transformation vom Produktanbieter zum Solution Seller meistern” \nUnternehmen stehen heute unter Druck – gestiegene Markttransparenz und günstigere Wettbewerber erschweren den klassischen Produktverkauf. Sich allein über das Produkt zu differenzieren und einen klaren USP aufzubauen\, reicht nicht mehr aus. Wie können Unternehmen diesem Dilemma entkommen? \nDer Schlüssel liegt in einem lösungsorientierten Geschäftsmodell: Solution Selling stellt den Kundennutzen ins Zentrum und schafft Mehrwerte durch integrierte Angebote aus Produkt\, Service und digitalen Leistungen – und generiert so Lock-in-Effekte. In diesem Vortrag erfahren Sie\, wie Ihr Unternehmen den Wandel vom Produktanbieter zum Solution Seller erfolgreich meistern kann. \nAnmeldung bitte bis zum 20.10.2025. \n\n\nANMELDUNG
URL:https://www.aachen.digital/en/event/geschaeftsmodelle-im-wandel/
LOCATION:online
ATTACH;FMTTYPE=image/jpeg:https://www.aachen.digital/wp-content/uploads/2025/09/dc6d82529d9f674ea4f23e88413cb975.jpg
END:VEVENT
BEGIN:VEVENT
DTSTART;TZID=Europe/Berlin:20251014T140000
DTEND;TZID=Europe/Berlin:20251014T150000
DTSTAMP:20260423T165808
CREATED:20250909T095221Z
LAST-MODIFIED:20250909T095221Z
UID:10007418-1760450400-1760454000@www.aachen.digital
SUMMARY:KI im Service
DESCRIPTION:Stefan Kokorski erläutert in der Reihe ‘FiR Service Insights’ das Thema „Anwendungsfelder künstlicher Intelligenz im industriellen Service”\n\n\n35 Arbeitsstunden spart TÜV SÜD Lift Manager jeden Tag dank Predictive Maintenance\, während Lufthansa mit KI-Agenten bis zu 16 Mio. Service-Konversationen jährlich bewältigt – Wie lassen sich diese Use-Cases auch in Ihrem Unternehmen erschließen? \nDamit Künstliche Intelligenz kein Buzzword bleibt: Gewinnen Sie im Vortrag praxisorientierte Impulse – inklusive einer Step-by-Step-Anleitung zur Implementierung von KI in der Industrie. \nDies ist der Start einer Webinar-Reihe\, in dem sich Mitarbeitende des FiR an der RWTH Aachen mit den Möglichkeiten von KI im Dienstleistungsbereich beschäftigen. \nAnmeldung bitte bis zum 13.10.2025. \nANMELDUNG
URL:https://www.aachen.digital/en/event/ki-im-service/
LOCATION:online
ATTACH;FMTTYPE=image/jpeg:https://www.aachen.digital/wp-content/uploads/2025/09/4a7655210d87f01a42c76a34cbc24066.jpg
END:VEVENT
BEGIN:VEVENT
DTSTART;TZID=Europe/Amsterdam:20250611T140000
DTEND;TZID=Europe/Amsterdam:20250611T170000
DTSTAMP:20260423T165808
CREATED:20250513T102930Z
LAST-MODIFIED:20250610T081816Z
UID:10007325-1749650400-1749661200@www.aachen.digital
SUMMARY:Digital.Praktisch.Nah. – Digitalisierung bei eurogard GmbH
DESCRIPTION:„Digitalisierung und Prozessoptimierung: Einsatzbeispiele aus der Batterie- und Lebensmittelproduktion“\n\n\nDie eurogard GmbH beschäftigt sich mit smarten Digitalisierungslösungen. Als IIoT Service Provider bietet das Unternehmen ganzheitliche Soft- und Hardware-Lösungen an. Die Aixponic GmbH kultiviert lokal\, frisch und nachhaltig hochwertige Lebensmittel. Mit ihrem System setzt das Unternehmen neue Maßstäbe in der Nahrungsmittelerzeugung. Die gesamte Datenwelt – von der Aquakultur über die Hydrokultur bis hin zur digitalen Steuerung der Anlage – läuft über die IIoT-Plattform von eurogard. Diese digitale Lösung bündelt alle relevanten Messdaten an einer zentralen Stelle und ermöglicht eine effiziente\, ortsunabhängige Steuerung. \nDer Lehrstuhl für Production Engineering of E-Mobility Components (PEM) der RWTH Aachen engagiert sich in einem Umfeld\, das die Grundlagenforschung zur Elektromobilität mit sämtlichen Entwicklungsschritten bis hin zur Großserienherstellung entsprechender Komponenten oder ganzer Fahrzeuge abdeckt – dank der „Innovation Chain“. \nErhalte Einblicke in die Hard- und Software Infrastruktur für die digitale Transformation sowie in Prozessoptimierung dank Digitalisierung am Beispiel modernen Indoor Farmings. Erfahre\, wie die Qualität und Produktivität durch Digitalisierung in der Batterieproduktion gesteigert wird. \nDie AGIT mbH und der EDIH Rheinland (European Innovation Digital Hub) stellen außerdem Angebote vor\, die Unternehmen bei ihrer digitalen Transformation unterstützen. \nNutze die Chance\, vor Ort einen Blick in eine Aquaponik Anlage zu werfen\, dich zu vernetzen und potenzielle Kooperationspartner:innen kennenzulernen. \nANMELDUNG \nEine Veranstaltung der AGIT und des EDIH Rheinland in Kooperation mit eurogard\, Aixponic und dem Lehrstuhl für Production Engineering of E-Mobility Components (PEM)!
URL:https://www.aachen.digital/en/event/digital-praktisch-nah-digitalisierung-bei-eurogard-gmbh/
LOCATION:Bohr 12\, Bohr 12\, Aachen\, NRW\, 52072\, Germany
ATTACH;FMTTYPE=image/jpeg:https://www.aachen.digital/wp-content/uploads/2025/05/digital_praktisch_nah_2025.jpg
END:VEVENT
BEGIN:VEVENT
DTSTART;TZID=Europe/Berlin:20250311T110000
DTEND;TZID=Europe/Berlin:20250311T140000
DTSTAMP:20260423T165808
CREATED:20250129T112623Z
LAST-MODIFIED:20250227T083411Z
UID:10007193-1741690800-1741701600@www.aachen.digital
SUMMARY:Fördermittel nutzen – Innovationskraft stärken: Chancen für den Mittelstand
DESCRIPTION:Fördermittel für KMU in der Region Aachen\n\n\nDer EDIH Rheinland lädt Sie gemeinsam mit dem digitalHUB und der Wirtschaftsförderung der Stadt Aachen herzlich zur Informationsveranstaltung über Fördermöglichkeiten für kleine und mittelständische Unternehmen in Aachen und der Region ein! \nFreuen Sie sich auf einen informativen Vortrag von Claudia Brendt (Direktorin Förderberatung Rheinland) und Hanna Schillings (Förderberaterin NRW.Bank). Sie werden Ihnen das Fördermittel „Regionaleswirtschaftförderungsprogramm NRW” (RWP) vorstellen und und erklären\, wie Sie dieses effektiv nutzen können. \nHerr Sergej Pavevliev (Fördermittelberater ZENIT GmbH) wird Ihnen im Anschluss die Forschungszulage vorstellen. Diese Förderung stellt für viele Unternehmen eine äußerst spannende Möglichkeit dar\, um eigene Entwicklungstätigkeiten (auch rückwirkend) fördern zu lassen. Hiernach wird er in Kürze die EU Cascade Calls erläutern\, die einen unbürokratischen Zugang zu EU-Fördergeldern ermöglichen. \nDanach haben Sie die Gelegenheit\, sich in entspannter Atmosphäre mit anderen Teilnehmer:innen bei Snacks und Getränken zu vernetzen. Ansprechpartner der Wirtschaftsförderung der Stadt Aachen\, der Wirtschaftsförderung der Städteregion Aachen\, der Stabsstelle Wirtschaftsförderung des Kreises Euskirchen\, der IHK Aachen\, der EURA AG\, AGIT GmbH und des EDIH Rheinland stehen Ihnen für Fragen und einen intensiven Austausch zur Verfügung. \nNutzen Sie diese Chance\, um wertvolle Informationen zu erhalten und neue Kontakte zu knüpfen\, die Ihnen bei der Weiterentwicklung Ihrer Projekte und Ideen helfen können. \n  \nWir freuen uns auf Ihre Teilnahme! \nANMELDUNG \n\n\nDiese Veranstaltung findet statt in Kooperation mit:
URL:https://www.aachen.digital/en/event/foerdermittel-nutzen-innovationskraft-staerken-chancen-fuer-den-mittelstand/
LOCATION:digitalHUB Aachen e.V. in der digitalCHURCH\, Jülicher Straße 72a\, Aachen\, NRW\, 52070\, Germany
ATTACH;FMTTYPE=image/jpeg:https://www.aachen.digital/wp-content/uploads/2025/01/43a56e020f31b98e7476e8b19b26c7e5.jpg
END:VEVENT
BEGIN:VEVENT
DTSTART;TZID=Europe/Berlin:20250212T140000
DTEND;TZID=Europe/Berlin:20250212T180000
DTSTAMP:20260423T165808
CREATED:20250110T093933Z
LAST-MODIFIED:20250113T085204Z
UID:10007150-1739368800-1739383200@www.aachen.digital
SUMMARY:KI-Safari: Anwendungen und Perspektiven für den Mittelstand
DESCRIPTION:Digitalisierung erleben – Innovationen gemeinsam vorantreiben\n\n\nWie können Unternehmen Künstliche Intelligenz und digitale Technologien gezielt nutzen\, um effizienter zu arbeiten und innovative Lösungen zu entwickeln? Das Mittelstand-Digital Zentrum Rheinland und der European Digital Innovation Hub Rheinland laden Sie zu einer spannenden Erkundungstour durch die Welt der Digitalisierung ein. \nDie Veranstaltung richtet sich an Geschäftsführer\, IT-Entscheider\, Innovationsmanager und Fachverantwortliche aus kleinen und mittelständischen Unternehmen (KMU)\, die: \n\nneue digitale Unterstützungssysteme kennenlernen möchten\,\nihre Prozesse mit KI-Anwendungen optimieren wollen\,\nihre Herausforderungen aktiv in einen Austausch einbringen möchten\, um passgenaue Lösungen zu entwickeln.\n\n\n\nIhr Nutzen \n\nErhalten Sie praxisnahe Einblicke in neueste KI- und Digitalisierungslösungen\nDiskutieren Sie Ihre Anforderungen und Herausforderungen direkt mit Experten\nProfitieren Sie von kostenfreien Angeboten\, die speziell auf die Bedürfnisse von KMU abgestimmt sind.\n\n\n\nSichern Sie sich Wissensvorteile \nMit Ihrer Teilnahme an unserer kostenfreien Veranstaltung erhalten Sie vertiefende\, praxisnahe Einblicke in neueste KI- und Digitalisierungslösungen und profitieren von den Möglichkeiten\, Ihr eigenes Unternehmen und zugleich Ihr eigenes Netzwerk weiter auszubauen. Das Mittelstand-Digital Zentrum Rheinland und der European Digital Innovation Hub Rheinland unterstützen Sie mit ihrer Expertise dabei\, die Zukunft Ihres Unternehmens erfolgreich zu gestalten. \n\n\nAnmeldung \nDie Veranstaltung findet in Präsenz statt. Die Teilnahme ist kostenfrei. Wir bitten um eine verbind­liche Anmeldung. \nMit der Anmeldung zu dieser Veran­stal­tung erklären Sie sich mit Folgendem einver­standen: Aufnahme Ihrer Angaben auf Teil­neh­mer­listen\, Bereit­stel­lung von Kontak­t­in­for­ma­tionen für die veranstaltenden Partner für die Zusendung der Veranstaltungsunterlagen und den Erhalt von Einla­dungen zu deren weiteren Veran­stal­tungen. Die Einwil­li­gung kann jederzeit mit Wirkung für die Zukunft wider­rufen werden. \nAnmeldung \n\n\nRückfragen? \nWenden Sie sich bitte an Herrn Ole Stocks vom Werkzeugmaschinenlabor WZL der RWTH Aachen unter Tel. +49 1517 2921977.
URL:https://www.aachen.digital/en/event/ki-safari-anwendungen-und-perspektiven-fuer-den-mittelstand/
LOCATION:IT-Center der RWTH Aachen\, Kopernikusstraße 6\, Aachen\, NRW\, 52074\, Germany
ATTACH;FMTTYPE=image/jpeg:https://www.aachen.digital/wp-content/uploads/2025/01/KI-Safari-Workshop-.jpg
END:VEVENT
BEGIN:VEVENT
DTSTART;TZID=Europe/Berlin:20250205T090000
DTEND;TZID=Europe/Berlin:20250205T120000
DTSTAMP:20260423T165808
CREATED:20250116T085716Z
LAST-MODIFIED:20250116T085716Z
UID:10007149-1738746000-1738756800@www.aachen.digital
SUMMARY:Circular Economy – Potentiale erkennen und erleben
DESCRIPTION:Einführung in die Circular Economy mit praktischer Übung\n\n\nAls Unternehmen aus der Region Aachen möchten Sie sich über den Trend der Kreislaufwirtschaft und die Potentiale für ihr Unternehmen informieren? Dann nutzen Sie die Chance: Melden Sie sich an\, erhalten Sie praktische Einblicke in Forschungstätigkeiten an den Themen Kreislaufwirtschaft und Nachhaltigkeit. Erfahren Sie auf unkomplizierte Weise\, wie relevant die Kreislaufwirtschaft auch für Ihr Unternehmen sein kann. \nDie Veranstaltung bietet Ihnen und Ihrem Unternehmen eine kurze Einführung in die Circular Economy (deutsch: Kreislaufwirtschaft) und veranschaulicht die Bedeutung und Chancen der Circular Economy für eine nachhaltige Entwicklung. Der Fokus liegt auf dem praxisnahen und zugänglichen Erleben möglicher Circular Economy Strategien mittels eines Planspiels in Gruppen. Dieses erfahrungsbasierte Lernen und der gegenseitige Austausch soll Sie bei der Transformation Ihres Unternehmens unterstützen. \n\n\nAnmeldung
URL:https://www.aachen.digital/en/event/circular-economy-potentiale-erkennen-und-erleben/
LOCATION:OecherLab\, Kapuzinergraben 19D\, 52062 Aachen
ATTACH;FMTTYPE=image/jpeg:https://www.aachen.digital/wp-content/uploads/2025/01/d4c4aa2f90ba65913fed828b7882ff8c.jpg
END:VEVENT
END:VCALENDAR