BEGIN:VCALENDAR
VERSION:2.0
PRODID:-//digitalHUB Aachen - ECPv6.15.20//NONSGML v1.0//EN
CALSCALE:GREGORIAN
METHOD:PUBLISH
X-WR-CALNAME:digitalHUB Aachen
X-ORIGINAL-URL:https://www.aachen.digital/en/
X-WR-CALDESC:Events for digitalHUB Aachen
REFRESH-INTERVAL;VALUE=DURATION:PT1H
X-Robots-Tag:noindex
X-PUBLISHED-TTL:PT1H
BEGIN:VTIMEZONE
TZID:Europe/Berlin
BEGIN:DAYLIGHT
TZOFFSETFROM:+0100
TZOFFSETTO:+0200
TZNAME:CEST
DTSTART:20230326T010000
END:DAYLIGHT
BEGIN:STANDARD
TZOFFSETFROM:+0200
TZOFFSETTO:+0100
TZNAME:CET
DTSTART:20231029T010000
END:STANDARD
BEGIN:DAYLIGHT
TZOFFSETFROM:+0100
TZOFFSETTO:+0200
TZNAME:CEST
DTSTART:20240331T010000
END:DAYLIGHT
BEGIN:STANDARD
TZOFFSETFROM:+0200
TZOFFSETTO:+0100
TZNAME:CET
DTSTART:20241027T010000
END:STANDARD
BEGIN:DAYLIGHT
TZOFFSETFROM:+0100
TZOFFSETTO:+0200
TZNAME:CEST
DTSTART:20250330T010000
END:DAYLIGHT
BEGIN:STANDARD
TZOFFSETFROM:+0200
TZOFFSETTO:+0100
TZNAME:CET
DTSTART:20251026T010000
END:STANDARD
BEGIN:DAYLIGHT
TZOFFSETFROM:+0100
TZOFFSETTO:+0200
TZNAME:CEST
DTSTART:20260329T010000
END:DAYLIGHT
BEGIN:STANDARD
TZOFFSETFROM:+0200
TZOFFSETTO:+0100
TZNAME:CET
DTSTART:20261025T010000
END:STANDARD
END:VTIMEZONE
BEGIN:VEVENT
DTSTART;TZID=Europe/Berlin:20250618T170000
DTEND;TZID=Europe/Berlin:20250618T183000
DTSTAMP:20260423T165808
CREATED:20241218T104254Z
LAST-MODIFIED:20241218T104330Z
UID:10007096-1750266000-1750271400@www.aachen.digital
SUMMARY:Fröhliches Brückenbauen  von Neurowissenschaften über Computertechnik zur KI
DESCRIPTION:Referenten: \n\nProf. Dr. Rainer Waser\, Institut für Werkstoffe der Elektrotechnik RWTH\nPeter Grünberg Institut Elektronische Materialien FZ Jülich\n\nDer Vortrag findet in Kooperation mit der Fachgruppe Informatik der RWTH\, dem FZ Jülich\, der Regionalgruppe der Gesellschaft für Informatik (RIA)\, dem Regionaler Industrieclub Informatik Aachen (Regina) und der Gruppe Aachen des Deutschen Hochschulverbands statt.\nKurz nach dem Vortrag ist das Video von Vortrag und Diskussion verfügbar in dieser Playlist. \nHier mehr erfahren
URL:https://www.aachen.digital/en/event/froehliches-brueckenbauen-von-neurowissenschaften-ueber-computertechnik-zur-ki/
LOCATION:online
ATTACH;FMTTYPE=image/jpeg:https://www.aachen.digital/wp-content/uploads/2024/12/Design-ohne-Titel-49.jpg
END:VEVENT
BEGIN:VEVENT
DTSTART;TZID=Europe/Berlin:20250129T170000
DTEND;TZID=Europe/Berlin:20250129T183000
DTSTAMP:20260423T165808
CREATED:20241218T103107Z
LAST-MODIFIED:20250102T105711Z
UID:10004738-1738170000-1738175400@www.aachen.digital
SUMMARY:Hacker\, Attacken und Schädlinge - eine aktuelle Übersicht
DESCRIPTION:In den letzten Jahrzehnten haben die Bedrohungen\, denen wir als Privatpersonen aber auch im beruflichen und gesellschaftlichen Kontext durch Cyber-Angriffe ausgesetzt sind\, rapide zugenommen. \nFür das Jahr 2023/24 berichtet das Bundesamt für IT-Sicherheit in der Informationstechnik in seinem Bericht “Die Lage der IT-Sicherheit in Deutschland“ insbesondre über eine extreme Zunahme der Häufigkeit und Qualität an Verfügbarkeitsangriffen\, Ransomeware Attacken\, Angriffen auf Cloud-Infrastrukturen von IT-Dienstleistern sowie Angriffen auf politische Organisationen. \nDer Vortrag gibt einen Überblick über aktuelle Angriffe und deren Schadwirkung\, beleuchtet die Geschäftsmodelle\, die hinter der cyberkriminellen Schattenwirtschaft stehen\, und stellt eine Auswahl der an der RWTH entwickelten Lösungssätze zur Angriffserkennung mittels maschinellen Lernens vor. \nReferentin: Prof. Dr. Ulrike Meyer\, Lehr- und Forschungsgebiet IT-Sicherheit\, RWTH Aachen \nDer Vortrag findet in Kooperation mit der Fachgruppe Informatik der RWTH\, dem FZ Jülich\, der Regionalgruppe der Gesellschaft für Informatik (RIA)\, dem Regionaler Industrieclub Informatik Aachen (Regina) und der Gruppe Aachen des Deutschen Hochschulverbands statt.\nKurz nach dem Vortrag ist das Video von Vortrag und Diskussion verfügbar in dieser Playlist. \nHier mehr erfahren
URL:https://www.aachen.digital/en/event/hacker-attacken-und-schaedlinge-eine-aktuelle-uebersicht-2/
LOCATION:online
ATTACH;FMTTYPE=image/jpeg:https://www.aachen.digital/wp-content/uploads/2024/11/Design-ohne-Titel-47.jpg
END:VEVENT
BEGIN:VEVENT
DTSTART;TZID=Europe/Berlin:20241127T170000
DTEND;TZID=Europe/Berlin:20241127T183000
DTSTAMP:20260423T165808
CREATED:20241121T093845Z
LAST-MODIFIED:20241121T093845Z
UID:10006272-1732726800-1732732200@www.aachen.digital
SUMMARY:Batterien unter die Lupe genommen
DESCRIPTION:Energiewende\, Batterien und Mikroskopie\, eine spannende Verbindung\n\nDer wirtschaftliche Erfolg der Batteriezellfertigung in Deutschland erfordert eine nachhaltige\, kostengünstige Produktion hochwertiger Zellen und die ständige Weiterentwicklung von Lithium-Ionen-Batterien bzgl. Performanz bei gleichzeitiger Gewährleistung langer Lebensdauer und hoher Sicherheit.\nDie Komplexität der Prozesse in einer Batterie erfordern die Entwicklung und den Einsatz multipler\, komplementärer Analysemethoden und effizienter\, standardisierter Charakterisierungsworkflows für die Identifizierung von Eigenschafts-Strukturbeziehungen und die Qualitätssicherung bei der Zellfertigung. \nRWTH Aachen und Forschungszentrum Jülich betreiben auf nationaler Ebene einzigartige Forschungseinrichtungen zur röntgentomographischen und elektronenmikroskopischen Charakterisierung von Batteriematerialien.\nDer Vortrag gibt Überblick über die methodischen Möglichkeiten und die wesentlichen Erkenntnisse aus unserer Batterieforschung. \nReferent: Prof. Dr. Joachim Mayer\, GfE der RWTH\, Ernst-Ruska-Centrum des FZ Jülich \nDer Vortrag findet in Kooperation mit der Fachgruppe Informatik der RWTH\, dem FZ Jülich\, der Regionalgruppe der Gesellschaft für Informatik (RIA)\, dem Regionaler Industrieclub Informatik Aachen (Regina) und der Gruppe Aachen des Deutschen Hochschulverbands statt.\nKurz nach dem Vortrag ist das Video von Vortrag und Diskussion verfügbar in dieser Playlist. \nHier über Zoom teilnehmen
URL:https://www.aachen.digital/en/event/batterien-unter-die-lupe-genommen/
LOCATION:online
ATTACH;FMTTYPE=image/jpeg:https://www.aachen.digital/wp-content/uploads/2024/11/Kopie-von-Textmedia-3-x-2.jpg
END:VEVENT
END:VCALENDAR