BEGIN:VCALENDAR
VERSION:2.0
PRODID:-//digitalHUB Aachen - ECPv6.15.20//NONSGML v1.0//EN
CALSCALE:GREGORIAN
METHOD:PUBLISH
X-WR-CALNAME:digitalHUB Aachen
X-ORIGINAL-URL:https://www.aachen.digital/en/
X-WR-CALDESC:Events for digitalHUB Aachen
REFRESH-INTERVAL;VALUE=DURATION:PT1H
X-Robots-Tag:noindex
X-PUBLISHED-TTL:PT1H
BEGIN:VTIMEZONE
TZID:Europe/Berlin
BEGIN:DAYLIGHT
TZOFFSETFROM:+0100
TZOFFSETTO:+0200
TZNAME:CEST
DTSTART:20250330T010000
END:DAYLIGHT
BEGIN:STANDARD
TZOFFSETFROM:+0200
TZOFFSETTO:+0100
TZNAME:CET
DTSTART:20251026T010000
END:STANDARD
BEGIN:DAYLIGHT
TZOFFSETFROM:+0100
TZOFFSETTO:+0200
TZNAME:CEST
DTSTART:20260329T010000
END:DAYLIGHT
BEGIN:STANDARD
TZOFFSETFROM:+0200
TZOFFSETTO:+0100
TZNAME:CET
DTSTART:20261025T010000
END:STANDARD
BEGIN:DAYLIGHT
TZOFFSETFROM:+0100
TZOFFSETTO:+0200
TZNAME:CEST
DTSTART:20270328T010000
END:DAYLIGHT
BEGIN:STANDARD
TZOFFSETFROM:+0200
TZOFFSETTO:+0100
TZNAME:CET
DTSTART:20271031T010000
END:STANDARD
END:VTIMEZONE
BEGIN:VEVENT
DTSTART;TZID=Europe/Berlin:20260616T080000
DTEND;TZID=Europe/Berlin:20260717T183000
DTSTAMP:20260423T163758
CREATED:20260414T122428Z
LAST-MODIFIED:20260414T125349Z
UID:10007713-1781596800-1784313000@www.aachen.digital
SUMMARY:Nachhaltiges\, automatisiertes und digitales Bauen – Der 3. BAUKONGRESS
DESCRIPTION:Nachhaltiges\, automatisiertes und digitales Bauen – Der 3. BAUKONGRESS am 16. und 17. Juni 2026 bringt die Bau- und Immobilienbranche zu den wichtigsten Zukunftsthemen zusammen \ndie Bau- und Immobilienbranche verändert sich rasant. Unter dem Leitmotiv „Die Zukunft des Bauens“ findet am 16. und 17. Juni 2026 der 3. BAUKONGRESS im Eurogress Aachen statt. \nMit dem Fokus auf nachhaltiges\, automatisiertes und digitales Bauen bespielt er hochkarätig die aktuellen Topthemen für Entscheider:innen und Führungskräfte der Bau- und Immobilienwirtschaft. Dazu zeigt er einen breiten Überblick und Lösungsansätze zu den wichtigsten Innovationen\, Trends und Fragestellungen\, bringt führende Köpfe der Branche zusammen und setzt relevante Impulse für morgen. Sein Alleinstellungsmerkmal ist das unmittelbare Zusammenbringen von Praxis\, Wirtschaft und Wissenschaft. \nAllein neun Fachsessions – speziell für den BAUKONGRESS erarbeitet durch rund 90 Expertinnen und Experten aus Praxis\, Wissenschaft und Wirtschaft – unterstreichen die Besonderheit des Baukongresses als zentrale Plattform für interdisziplinären Austausch und praxisnahe Diskussionen zu den entscheidenden Herausforderungen und Zukunftsthemen der Branche. Die Themen der Fachsessions reichen von nachhaltigem und zirkulärem Bauen über innovative Bauweisen (seriell\, industrialisiert\, Holzbau)\, neue Formen der Projektabwicklung\, Bauen im Bestand und die digitale Transformation der Branche durch KI\, BIM und Robotik bis zu Wärmewende und energieeffizienten Gebäudekonzepten. \nDieses Selbstverständnis bekräftigt ein breit angelegtes Programm mit Keynotes\, Impulsvorträgen und Podiumsdiskussionen. Zu den hochkarätigen Sprecherinnen und \nSprechern zählen unter anderem Olaf Demuth (Vorstand Zech Group SE)\, Aygül Özkan (Hauptgeschäftsführerin ZIA Zentraler Immobilien Ausschuss e.V.)\, Prof. Stefan Leupertz (Geschäftsführer 3D2L GmbH\, Richter am Bundesgerichtshof a. D.)\, Roland Becker (JUST ADD AI GmbH) sowie Dr. Lis Hannemann-Strenger (Geschäftsführung Strenger Holding GmbH). \nIn einer weiteren Besonderheit präsentiert der Baukongress Innovationen und Wissenschaft zum Anfassen. Bei diesen exklusiven „Offsites“ erhalten die Teilnehmerinnen und Teilnehmer die Gelegenheit\, Forschungseinrichtungen\, Projekte\, Reallabore und Demonstratoren der RWTH Aachen University sowie der Fachhochschule Aachen zu besuchen und sich direkt mit den Expertinnen und Experten aus Forschung und Anwendung auszutauschen. \nGemeinschaftlich organisiert durch:\nABE\, RWTH Aachen Campus Bauen\, FH Aachen\, RWTH Aachen University \nDie Teilnahme ist kostenpflichtig. \nINFO & ANMELDUNG
URL:https://www.aachen.digital/en/event/nachhaltiges-automatisiertes-und-digitales-bauen-der-3-baukongress/
LOCATION:Eurogress Aachen\, Monheimsallee 48\, Aachen\, NRW\, 52062\, Deutschland
ATTACH;FMTTYPE=image/jpeg:https://www.aachen.digital/wp-content/uploads/2026/04/Design-ohne-Titel-65.jpg
END:VEVENT
END:VCALENDAR