BEGIN:VCALENDAR
VERSION:2.0
PRODID:-//digitalHUB Aachen - ECPv6.15.20//NONSGML v1.0//EN
CALSCALE:GREGORIAN
METHOD:PUBLISH
X-WR-CALNAME:digitalHUB Aachen
X-ORIGINAL-URL:https://www.aachen.digital/en/
X-WR-CALDESC:Events for digitalHUB Aachen
REFRESH-INTERVAL;VALUE=DURATION:PT1H
X-Robots-Tag:noindex
X-PUBLISHED-TTL:PT1H
BEGIN:VTIMEZONE
TZID:Europe/Berlin
BEGIN:DAYLIGHT
TZOFFSETFROM:+0100
TZOFFSETTO:+0200
TZNAME:CEST
DTSTART:20180325T010000
END:DAYLIGHT
BEGIN:STANDARD
TZOFFSETFROM:+0200
TZOFFSETTO:+0100
TZNAME:CET
DTSTART:20181028T010000
END:STANDARD
BEGIN:DAYLIGHT
TZOFFSETFROM:+0100
TZOFFSETTO:+0200
TZNAME:CEST
DTSTART:20190331T010000
END:DAYLIGHT
BEGIN:STANDARD
TZOFFSETFROM:+0200
TZOFFSETTO:+0100
TZNAME:CET
DTSTART:20191027T010000
END:STANDARD
BEGIN:DAYLIGHT
TZOFFSETFROM:+0100
TZOFFSETTO:+0200
TZNAME:CEST
DTSTART:20200329T010000
END:DAYLIGHT
BEGIN:STANDARD
TZOFFSETFROM:+0200
TZOFFSETTO:+0100
TZNAME:CET
DTSTART:20201025T010000
END:STANDARD
BEGIN:DAYLIGHT
TZOFFSETFROM:+0100
TZOFFSETTO:+0200
TZNAME:CEST
DTSTART:20210328T010000
END:DAYLIGHT
BEGIN:STANDARD
TZOFFSETFROM:+0200
TZOFFSETTO:+0100
TZNAME:CET
DTSTART:20211031T010000
END:STANDARD
BEGIN:DAYLIGHT
TZOFFSETFROM:+0100
TZOFFSETTO:+0200
TZNAME:CEST
DTSTART:20220327T010000
END:DAYLIGHT
BEGIN:STANDARD
TZOFFSETFROM:+0200
TZOFFSETTO:+0100
TZNAME:CET
DTSTART:20221030T010000
END:STANDARD
BEGIN:DAYLIGHT
TZOFFSETFROM:+0100
TZOFFSETTO:+0200
TZNAME:CEST
DTSTART:20230326T010000
END:DAYLIGHT
BEGIN:STANDARD
TZOFFSETFROM:+0200
TZOFFSETTO:+0100
TZNAME:CET
DTSTART:20231029T010000
END:STANDARD
END:VTIMEZONE
BEGIN:VEVENT
DTSTART;TZID=Europe/Berlin:20220621T140000
DTEND;TZID=Europe/Berlin:20220621T210000
DTSTAMP:20260423T165129
CREATED:20220420T104431Z
LAST-MODIFIED:20220531T071455Z
UID:10006218-1655820000-1655845200@www.aachen.digital
SUMMARY:Entrepreneurship Day
DESCRIPTION:Gemeinsam Gründen\nDas Gründungszentrum der FH Aachen lädt zum gemeinsamen Entdecken neuer Möglichkeiten für potenzielle Entrepreneure ein. In spannenden Sessions werden interdisziplinäre Angebote\, innovative Räumlichkeiten\, Expert:innen-Wissen und vieles mehr vorgestellt. Entdecke einen neuen Kosmos! \nWeitere Informationen: hier \nAnmeldung
URL:https://www.aachen.digital/en/event/entrepreneurship-day/
ATTACH;FMTTYPE=image/jpeg:https://www.aachen.digital/wp-content/uploads/2022/04/9.jpg
END:VEVENT
BEGIN:VEVENT
DTSTART;TZID=Europe/Berlin:20220524T080000
DTEND;TZID=Europe/Berlin:20220524T180000
DTSTAMP:20260423T165129
CREATED:20220404T123703Z
LAST-MODIFIED:20220404T124732Z
UID:10005635-1653379200-1653415200@www.aachen.digital
SUMMARY:iDA CON 22
DESCRIPTION:ReInvent Digital\n#tech \\ #change \\ #security\n\n\n\n\n\nNachdem Industrie und Bevölkerung im Jahr 2021 gelernt haben mit der Corona Pandemie und Ihren Herausforderungen umzugehen\, stellt sich nun die Frage: \nWie weiter machen?\nDer Notwendigkeit sich schnell den neuen Gegebenheiten anzupassen\, folgt nun die Chance gewonnene Erkenntnisse gewinnbringend für die Zukunft einzubringen. \nDie iDA CON 2022 zielt daher darauf ab\, Themen der Digitalisierung in Gesellschaft und Industrie neu zu denken\, praxisorientiertie Vorschläge zu unterbreiten und verständlich zu vermitteln.Es gilt\, die Entwicklungen jetzt in richtige Bahnen zu lenken\, digitale Prozesse und Abläufe zu festigen und nachhaltig in Ihrem Unternehmen zu etablieren. \nWeitere Informationen und Tickets gibt es hier.
URL:https://www.aachen.digital/en/event/ida-con-22/
LOCATION:Jülicher Strasse 72a\, Aachen\, 52070\, Germany
ATTACH;FMTTYPE=image/jpeg:https://www.aachen.digital/wp-content/uploads/2022/04/iDACON22_stage.jpg
END:VEVENT
BEGIN:VEVENT
DTSTART;TZID=Europe/Berlin:20220520T173000
DTEND;TZID=Europe/Berlin:20220520T203000
DTSTAMP:20260423T165129
CREATED:20220419T115857Z
LAST-MODIFIED:20220425T112313Z
UID:10006214-1653067800-1653078600@www.aachen.digital
SUMMARY:Abschlussveranstaltung Startup Week "Von Party zu Business"
DESCRIPTION:Wir möchten der Startup Week der Aachen Area einen gebürenden Abschluss liefern! \nNach einer kurzen Begrüßung wird Florian Eckelmann (Co-Founder von NEONSPLASH Paint-Party und Co-Founder von MUYDOZO) von seinen spannenden Erfahrungen berichten. Anschließend lassen wir den Abend in entspannter Atmosphäre mit Networking und Buffet gemeinsam ausklingen. \nAnmeldung
URL:https://www.aachen.digital/en/event/abschlussveranstaltung-startup-week-von-party-zu-business/
LOCATION:Jülicher Strasse 72a\, Aachen\, 52070\, Germany
ATTACH;FMTTYPE=image/jpeg:https://www.aachen.digital/wp-content/uploads/2022/04/Abschlussveranstaltung-Startup-Week-Von-Party-zu-Business.jpg
END:VEVENT
BEGIN:VEVENT
DTSTART;TZID=Europe/Berlin:20220517T173000
DTEND;TZID=Europe/Berlin:20220517T203000
DTSTAMP:20260423T165129
CREATED:20220505T133931Z
LAST-MODIFIED:20220505T134751Z
UID:10005674-1652808600-1652819400@www.aachen.digital
SUMMARY:Unternehmerseminar: Entrepreneurship in der Praxis - "KMU und Start-ups"
DESCRIPTION:Im Rahmen der Startup Week Aachen: \nLernt von erfolgreichen Gründer:innen! \nJede Woche präsentieren Euch Top-Speaker\, wie man ein Startup effektiv aufbaut\, welche Herausforderungen dabei bestehen und was in der Praxis wirklich funktioniert. \nDiese Woche dreht sich alles um die Frage “Familienunternehmen und Startups – wie passt das zusammen?”. Prof. Dr. Mathias Glasmacher (Head of Corporate Technology & Managing Director bei Diehl Stiftung Diehl Ventures) gibt euch spannende Einblicke und berichtet von seinen Erfahrungen. \nDie offene Ringveranstaltung von Prof. Dr. Constanze Chwallek (Fachbereich Wirtschaftswissenschaften) und Prof. Dr.-Ing Walter Reichert (Fachbereich Maschinenbau und Mechatronik) umfasst insgesamt 13 Events mit verschiedenen Themenschwerpunkten. Die Veranstaltung findet in Präsenz am Standort Goethestraße im Raum Goe 01301 statt. \nInfos & Anmeldung
URL:https://www.aachen.digital/en/event/unternehmerseminar-entrepreneurship-in-der-praxis-kmu-und-start-ups/
LOCATION:FH Aachen\, Goethestr. 1\, Aachen\, 52064
ATTACH;FMTTYPE=image/jpeg:https://www.aachen.digital/wp-content/uploads/2022/05/fh_seminar-1.jpg
END:VEVENT
BEGIN:VEVENT
DTSTART;TZID=Europe/Berlin:20211002T110000
DTEND;TZID=Europe/Berlin:20211002T150000
DTSTAMP:20260423T165129
CREATED:20210924T111338Z
LAST-MODIFIED:20210924T111338Z
UID:10006027-1633172400-1633186800@www.aachen.digital
SUMMARY:Jülicher Innovationstag
DESCRIPTION:Der Campus Jülich ist der größte Standort der FH Aachen\, forschungsstark\, innovativ und trotzdem familiär. Werfen Sie beim Jülicher Innovationstag einen Blick hinter die Kulissen: im Rahmen einer Messe präsentiert der Campus die Lehr- und Forschungsprojekte seiner drei Fachbereiche. \n1971–2021: Die FH Aachen wird 50 Jahre alt und feiert zu diesem besonderen Anlass auch an ihrem Campus Jülich das runde Jubiläum. Dazu lädt der Campus am 2. Oktober zum ersten „Jülicher Innovationstag“ ein: Besucher:innen können sich von 11 bis 15 Uhr einen Einblick in Forschungsaktivitäten und Studienmöglichkeiten der Fachbereiche Chemie und Biotechnologie\, Medizintechnik und Technomathematik sowie Energietechnik und der Institute am Campus verschaffen und dabei Beiträge zur innovativen Lehre und Forschung erleben. \nMehr Informationen zur Veranstaltung und Anmeldung findet ihr hier.
URL:https://www.aachen.digital/en/event/juelicher-innovationstag/
ATTACH;FMTTYPE=image/jpeg:https://www.aachen.digital/wp-content/uploads/2020/07/AdobeStock_297840659_Faceshape_data-rise-12zu5.jpg
END:VEVENT
BEGIN:VEVENT
DTSTART;TZID=Europe/Berlin:20210525T190000
DTEND;TZID=Europe/Berlin:20210525T203000
DTSTAMP:20260423T165129
CREATED:20210205T110753Z
LAST-MODIFIED:20210519T084504Z
UID:10005389-1621969200-1621974600@www.aachen.digital
SUMMARY:Online Event: Gründer:innen Stammtisch - Social Entrepreneurship Edition
DESCRIPTION:Am 25. Mai findet unser Gründer:innen Stammtisch als Online-Event statt. Der Stammtisch wird veranstaltet\, um die Aachener Gründerwelt während einer gemütlichen Atmosphäre zusammen zu bringen. Diesmal wird der Gründer:innen Stammtisch von der FH Aachen ausgerichtet. \nAb 19 Uhr treffen wir uns virtuell mit der Startup Community vom digitalHUB Aachen\, RWTH Innovation \, AC.E – Aachener Entrepreneurship Team e.V. und der FH-Aachen in einem ZOOM-Meeting. Während des Abends wird es 2-3 spannende Pitches von Startups aus dem Bereich Social Entrepreneurship geben. In einer abschließenden Diskussionsrunde könnt ihr all eure Fragen stellen. \nJeder\, der eine coole Idee hat und diese gerne teilen und diskutieren möchte\, ist beim Gründer:innen Stammtisch herzlich willkommen. \nSeid dabei! Wir freuen uns auf euch! \nZUR ANMELDUNG
URL:https://www.aachen.digital/en/event/online-event-gruenderinnen-stammtisch-social-entrepreneurship-edition/
ATTACH;FMTTYPE=image/jpeg:https://www.aachen.digital/wp-content/uploads/2021/01/210126_Gruenderinnen-Stammtisch_stage.jpg
END:VEVENT
BEGIN:VEVENT
DTSTART;VALUE=DATE:20190915
DTEND;VALUE=DATE:20190919
DTSTAMP:20260423T165129
CREATED:20190220T112253Z
LAST-MODIFIED:20190220T135200Z
UID:10004959-1568505600-1568851199@www.aachen.digital
SUMMARY:Wirtschaftsinformatik-Konferenz „AKWI 2019“ in Aachen
DESCRIPTION:Vom 15.-18. September 2019 findet an der FH Aachen die 32. Konferenz des Arbeitskreis Wirtschaftsinformatik (AKWI 2019) statt. \nWie in den letzten Jahren\, steht die Tagung auch dieses Mal unter dem Motto “Angewandte Forschung in der Wirtschaftsinformatik – Prozesse\, Technologie\, Anwendungen\, Systeme und Management.”\nDieses Jahr können zum ersten Mal neben wissenschaftlichen Beiträgen auch Beiträge aus der Praxis in Form von innovativen Prototypen eingereicht werden. Es ist das Ziel der diesjährigen Tagung den Diskurs zwischen Praktikern und Wissenschaftlern zu fördern\, so dass beide Seiten jeweils von den Erkenntnissen und Erfahrungen profitieren können. \nDamit sich innovationsfreudige Unternehmen und Start-ups aktiv an dieser Konferenz beteiligen\, wurde extra eine „Praxis-Session“ eingerichtet\, in der neuartige (IT-basierte) Prototypen oder innovative Geschäftsmodelle vorgestellt und diskutiert werden. \nHier kommen Sie zur offiziellen Veranstaltungswebseite:\nAKWI 2019
URL:https://www.aachen.digital/en/event/wirtschaftsinformatik-konferenz-akwi-2019-in-aachen/
ATTACH;FMTTYPE=image/jpeg:https://www.aachen.digital/wp-content/uploads/2019/02/AKWI2019-1.jpg
END:VEVENT
BEGIN:VEVENT
DTSTART;TZID=Europe/Berlin:20190321T113000
DTEND;TZID=Europe/Berlin:20190321T190000
DTSTAMP:20260423T165129
CREATED:20190221T095305Z
LAST-MODIFIED:20190222T101704Z
UID:10004962-1553167800-1553194800@www.aachen.digital
SUMMARY:Eröffnung des IDA am Tag der Forschung
DESCRIPTION:Sie sind herzlich zum Tag der Forschung am Donnerstag\, den 21. März 2019 eingeladen. Im Rahmen dieser Veranstaltung wird das „Institut für Digitalisierung“ (IDA) der FH Aachen offiziell eröffnet. \nDer Tag der Forschung steht in diesem Jahr ganz unter dem Motto Digitalisierung.\nForscherinnen und Forscher der FH Aachen geben am Tag der Forschung Einblicke in ihre Forschungs- und Entwicklungsprojekte zum Thema Digitalisierung. Beispiele hierzu sind: Industrie 4.0\, Robotik\, digitale Geschäftsmodelle\, Künstliche Intelligenz und IT-Sicherheit. \nFreuen Sie sich auf ein mitreißendes Programm mit Vorträgen von Dr. Jens-Uwe Meyer zum Thema „Digitale Disruption – Wie Sie die nächste Stufe der Innovation erreichen”\, zu Forschungsprojekten der FH Aachen und zum Thema IT-Sicherheit von Dr. Klaus Lenssen.\nIm Rahmen einer interaktiven Ausstellung werden Ihnen anschauliche Beispiele und Ideen zu weiteren Forschungs- und Entwicklungsprojekten der FH Aachen präsentiert\, sei es ein digitaler Handarbeitsplatz\, Industrie-Logistik-Roboter\, Pflanzenroboter\, Drohnen zur Inspektion von Windkraftanlagen\, Air Taxis und nicht zuletzt eine Cocktailmaschine.\nNutzen Sie die Gelegenheit\, sich mit unseren Forscherinnen und Forschern auszutauschen.\nDie Veranstaltung wird abgerundet durch die Vorstellung zwei neu gegründeter Institute zum Thema Digitalisierung und die Verleihung des Forschungspreises 2019. \nWeiter Informationen finden Sie unter diesem Link: Tag der Forschung
URL:https://www.aachen.digital/en/event/eroeffnung-des-ida-am-tag-der-forschung/
LOCATION:FH Aachen Campus Eupener Str.\, Eupener Straße 70\, Aachen\, 52066
ATTACH;FMTTYPE=image/jpeg:https://www.aachen.digital/wp-content/uploads/2019/02/Tag-der-Forschung.jpg
END:VEVENT
BEGIN:VEVENT
DTSTART;VALUE=DATE:20190321
DTEND;VALUE=DATE:20190322
DTSTAMP:20260423T165129
CREATED:20190206T134756Z
LAST-MODIFIED:20190214T142500Z
UID:10004947-1553126400-1553212799@www.aachen.digital
SUMMARY:Tag der Forschung 2019 an der FH Aachen
DESCRIPTION:Digital. Innovativ. Vernetzt.\n\n\nGanz im Zeichen der Digitalisierung steht der Tag der Forschung\, den die FH Aachen am \nDonnerstag\, 21. März 2019\, auf dem FH-Campus Eupener Straße 70  \nveranstaltet. \nGäste aus Wirtschaft\, Wissenschaft und Politik sind eingeladen\, aktuelle Einblicke in die Forschungsaktivitäten der Hochschule zu gewinnen. Die FH Aachen präsentiert an diesem Tag ihre aktuellen unternehmensnahen Projekte zu Industrie 4.0\, Robotik\, IT-Sicherheit und digitalen Geschäftsmodellen. Auch in diesem Jahr wird wieder eine Forscherin oder ein Forscher mit dem Forschungspreis für herausragende wissenschaftliche Leistungen ausgezeichnet. \nEin wichtiges Ziel beim Tag der Forschung ist der Austausch: Die Hochschule stellt ihr forschungsstarkes Netzwerk aus Hochschule\, Industrie und Mittelstand vor. Gäste haben die Chance\, mit den Wissenschaftlerinnen und Wissenschaftlern in Kontakt zu treten und gemeinsame Projekte auf den Weg zu bringen.
URL:https://www.aachen.digital/en/event/tag-der-forschung-2019-an-der-fh-aachen/
LOCATION:FH Aachen Campus Eupener Str.\, Eupener Straße 70\, Aachen\, 52066
ATTACH;FMTTYPE=image/jpeg:https://www.aachen.digital/wp-content/uploads/2019/02/FH_Tag-der-Forschung-.jpg
END:VEVENT
END:VCALENDAR