BEGIN:VCALENDAR
VERSION:2.0
PRODID:-//digitalHUB Aachen - ECPv6.15.20//NONSGML v1.0//EN
CALSCALE:GREGORIAN
METHOD:PUBLISH
X-WR-CALNAME:digitalHUB Aachen
X-ORIGINAL-URL:https://www.aachen.digital/en/
X-WR-CALDESC:Events for digitalHUB Aachen
REFRESH-INTERVAL;VALUE=DURATION:PT1H
X-Robots-Tag:noindex
X-PUBLISHED-TTL:PT1H
BEGIN:VTIMEZONE
TZID:Europe/Berlin
BEGIN:DAYLIGHT
TZOFFSETFROM:+0100
TZOFFSETTO:+0200
TZNAME:CEST
DTSTART:20180325T010000
END:DAYLIGHT
BEGIN:STANDARD
TZOFFSETFROM:+0200
TZOFFSETTO:+0100
TZNAME:CET
DTSTART:20181028T010000
END:STANDARD
BEGIN:DAYLIGHT
TZOFFSETFROM:+0100
TZOFFSETTO:+0200
TZNAME:CEST
DTSTART:20190331T010000
END:DAYLIGHT
BEGIN:STANDARD
TZOFFSETFROM:+0200
TZOFFSETTO:+0100
TZNAME:CET
DTSTART:20191027T010000
END:STANDARD
BEGIN:DAYLIGHT
TZOFFSETFROM:+0100
TZOFFSETTO:+0200
TZNAME:CEST
DTSTART:20200329T010000
END:DAYLIGHT
BEGIN:STANDARD
TZOFFSETFROM:+0200
TZOFFSETTO:+0100
TZNAME:CET
DTSTART:20201025T010000
END:STANDARD
BEGIN:DAYLIGHT
TZOFFSETFROM:+0100
TZOFFSETTO:+0200
TZNAME:CEST
DTSTART:20210328T010000
END:DAYLIGHT
BEGIN:STANDARD
TZOFFSETFROM:+0200
TZOFFSETTO:+0100
TZNAME:CET
DTSTART:20211031T010000
END:STANDARD
END:VTIMEZONE
BEGIN:VEVENT
DTSTART;VALUE=DATE:20201118
DTEND;VALUE=DATE:20201121
DTSTAMP:20260423T192240
CREATED:20201113T134220Z
LAST-MODIFIED:20210104T115210Z
UID:10005035-1605657600-1605916799@www.aachen.digital
SUMMARY:RWTH-Zertifikatskurs "Digital Strategist"
DESCRIPTION:Erwerben Sie mit diesem Qualifikationsangebot das RWTH-Zertifikat “Digital Strategist”! \nDigitale Veranstaltung: 18. – 20.11. & 02. – 04.12.2020 \nSie sind als Mitglied der Geschäftsführung\, Führungskraft oder involvierte Person für unternehmensstrategische Veränderungsvorhaben verantwortlich und möchten sich im Rahmen dieser Tätigkeit auf die damit verknüpften Herausforderungen vorbereiten? Dann ist der Zertifikatskurs “Digital Strategist” für Sie die beste Wahl! \nWir befähigen Sie zur Führung Ihrer Mitarbeiter durch die digitale Transformation. \nDurch die Teilnahme am Zertifikatskurs „Digital Strategist“ erwerben Sie umfassende und zielgerichtete Schlüsselkompetenzen zur erfolgreichen Umsetzung des digitalen Wandels. Dabei erlernen Sie die relevanten Tools und Methoden\, um den gesamten Veränderungsprozess von den Auslösern und Treibern über die Formulierung einer Digitalisierungsstrategie bis zur Implementierung selbständig und kompetent aus der Perspektive des Leaderships zu führen. Die abwechslungsreiche Kombination aus theoretischen Komponenten\, interaktiven Teamübungen und gezielten Workshops sowie die Einbindung von hochkarätigen Referenten aus Wissenschaft und Praxis fördern dabei den Anwendungsbezug und Erfahrungsaustausch. \nDer Kurs “Digital Strategist” ist Bestandteil eines zertifizierten Weiterbildungsprogramms der RWTH Aachen. Mit erfolgreich abgelegtem Kurs erhalten Sie ein RWTH-Academy-Zertifikat\, welches Ihnen einen Umfang von zwei ECTS (European-Credit-Transfer-System) bestätigt. Somit können Sie sich Ihre Leistungen bei MBA und Aufbaustudiengängen anrechnen lassen. \nKursinhalte\nDer Kurs setzt sich zusammen aus zwei dreitägigen Digitalmodulen in Aachen und einer Case-Study\, die Sie ortsungebunden und selbständig auch während des übrigen Kurszeitraums bearbeiten: \n\n1. Digitalmodul: Mi.\, 18. – Fr.\, 20.11.2020\nCase-Study: Mi.\, 18.11. – Fr.\, 04.12.2020\n2. Digitalmodul: Mi.\, 02. – Fr.\, 04.12.2020\n\nDas erste dreitägige Digitalmodul:\n\nTag 1 – Transformation und Strategie\nWas heißt eigentlich Führung in Zeiten der digitalen Transformation? Wie entwickle ich meine Strategie für die digitale Transformation?\nTag 2 – Technologie\nWas steckt hinter technologischen Plattformen und Cloud Computing? Was muss ich als Führungskraft über IoT (Internet of Things) wissen?\nTag 3 – Readiness-Check\nWie reif ist mein Unternehmen bereits für die digitale Welt und wo stehe ich gerade mit meinem Unternehmen?\n\nDie Case-Study:\nEine Case-Study wird bis zum 4.12.2020 über das Modul I hinausgehend von den Teilnehmern bearbeitet\, in der sie das erarbeitete Wissen vertiefen und anwenden können. \nDas zweite dreitägige Digitalmodul:\n\nTag 1 – Verhalten\nWie kommuniziere ich mit meinen Mitarbeitern? Wie finde ich geeignetes Personal? Welche Arbeitsmodelle sind heute relevant?\nTag 2 – Kultur\nWie sollten die physischen Arbeitsplätze aussehen? Was ist eigentlich digitale Kultur und wie beeinflusse ich meine Kultur? Was bedeutet Changemanagement für mich als Führungskraft?\nTag 3 – Prüfung und Abschluss\nSchriftliche Klausur sowie die Präsentation der Ergebnisse der Case-Studies\n\nHier klicken für weitere Informationen.
URL:https://www.aachen.digital/en/event/24764/
LOCATION:Jülicher Strasse 72a\, Aachen\, 52070\, Germany
ATTACH;FMTTYPE=image/jpeg:https://www.aachen.digital/wp-content/uploads/2020/08/Visual-FIR12zu5.JPG.jpg
ORGANIZER;CN="FIR an der RWTH Aachen":MAILTO:info@fir.rwth-aachen.de
END:VEVENT
BEGIN:VEVENT
DTSTART;VALUE=DATE:20201112
DTEND;VALUE=DATE:20201114
DTSTAMP:20260423T192240
CREATED:20200731T090346Z
LAST-MODIFIED:20200731T090346Z
UID:10004970-1605139200-1605311999@www.aachen.digital
SUMMARY:CDO Aachen 2020 – Convention on Digital Opportunities
DESCRIPTION:Damit Digitalisierungslösungen zukünftig nicht mehr nur Insellösungen sind\, sondern einem nachhaltigen Digitalisierungsnutzen folgen\, zeigt die CDO Aachen 2020 unter dem Motto Digital Architecture Management – Mit System zum Erfolg\, wie Unternehmen ihre Strategie\, Prozesse und Infrastruktur anhand einer Digitalarchitektur ausrichten können. Dabei geht es sowohl um die Einführung betrieblicher Anwendungssysteme zur Auftragsabwicklung als auch die Regelung der Rollen und Gremien in einer Digital Governance. \nDie Teilnehmer lernen\, wie sie die Realisierung digitaler Geschäftsmodelle technisch gestalten\, die Umsetzung ganzheitlicher Digitalisierungslösungen in ihrer Organisation mit einer Governance unterstützen und ganz konkret die Einführung von neuen Informationssystemen mit Hilfe von gezielten Methoden umsetzen.\nErfahren Sie\, wie die Produktionsplanung und -steuerung sowie die Auftragsabwicklung gestaltet sein müssen\, um langfristig zum Erfolg zu führen. Innovative Lösungen wie Process Mining oder der Einsatz von 5G helfen Ihnen dabei\, die Prozesse in Ihrem Unternehmen zu optimieren. \nDatum: 12. + 13.11.2020 von 12:30 Uhr (Tag 1) bis 16:15 Uhr (Tag 2) \nWeitere Informationen und Anmeldung unter https://cdo-aachen.de. \n 
URL:https://www.aachen.digital/en/event/cdo-aachen-2020-convention-on-digital-opportunities/
LOCATION:Cluster Smart Logistik\, Campus-Boulevard 55\, Aachen\, NRW\, Deutschland
ATTACH;FMTTYPE=image/jpeg:https://www.aachen.digital/wp-content/uploads/2020/07/AdobeStock_211845830_Data-control-wall.jpeg
ORGANIZER;CN="FIR an der RWTH Aachen":MAILTO:info@fir.rwth-aachen.de
END:VEVENT
BEGIN:VEVENT
DTSTART;TZID=Europe/Berlin:20201027T100000
DTEND;TZID=Europe/Berlin:20201027T150000
DTSTAMP:20260423T192240
CREATED:20200731T082725Z
LAST-MODIFIED:20200731T082725Z
UID:10004968-1603792800-1603810800@www.aachen.digital
SUMMARY:Thementage 2020: Voice Control – Spracherkennung im Gebäude
DESCRIPTION:Das Center Smart Commercial Building auf dem RWTH Aachen Campus ist einzigartig und setzt sich zum Ziel\, die Ära des Software Defined Buildings zu prägen: zusammen mit Projektentwicklern\, Investoren\, Betreibern\, Planern\, Technologieanbietern und Softwareunternehmen werden die Softwarekonzepte und Sicherheitslösungen für das Gebäude der Zukunft entwickelt und erprobt. \nDie Thementage des Centers Smart Commercial Building bieten den optimalen Rahmen\, um tiefere Einblicke in die Möglichkeiten moderner Gebäudetechnik zu erhalten und einen Dialog zwischen Branchenexperten zu ermöglichen. Hierzu kommen Experten und Referenten der Branche zusammen\, um konkrete Fragestellungen und Herausforderungen zu diskutieren und Einblicke in Best Practices zu bieten. Ziel der Thementage ist ein intensiver Austausch und Diskussionen unter Marktbegleitern\, die Vorstellung innovativer Projekte sowie gemeinsame Workshops. \nDie Teilnahme ist kostenfrei. Um verbindliche Anmeldung wird gebeten. Die Anmeldung erfolgt per Mail an: alexandra.koether@smart-commercial-building.de. \nAnsprechpartner: \nAlexandra Köther\, M. Eng.\nE-Mail: alexandra.koether@smart-commercial-building.de\nTelefon: +49 241 47705-605
URL:https://www.aachen.digital/en/event/thementage-2020-voice-control-spracherkennung-im-gebaeude/
LOCATION:Cluster Smart Logistik\, Campus-Boulevard 55\, Aachen\, NRW\, Deutschland
ATTACH;FMTTYPE=image/png:https://www.aachen.digital/wp-content/uploads/2020/03/User_2-2-1024x380.png
ORGANIZER;CN="FIR an der RWTH Aachen":MAILTO:info@fir.rwth-aachen.de
END:VEVENT
BEGIN:VEVENT
DTSTART;TZID=Europe/Berlin:20201020T093000
DTEND;TZID=Europe/Berlin:20201020T170000
DTSTAMP:20260423T192240
CREATED:20200731T092313Z
LAST-MODIFIED:20200731T092313Z
UID:10005597-1603186200-1603213200@www.aachen.digital
SUMMARY:FIR-Thementag: Supply-Chain-Mangement – Wertschöpfungsnetzwerke in turbulenten Zeiten
DESCRIPTION:Unternehmen sind heute Teil komplexer Wertschöpfungsnetzwerke mit vielen Akteuren\, in denen Produktion und Logistik wie ein Uhrwerk ineinandergreifen. Gleichzeitig bewegen wir uns in einer Geschwindigkeit\, in der jedes Element der Supply-Chain stets funktionieren muss. Die Abhängigkeit des eigenen Unternehmen von anderen Akteuren in der Kette ist größer denn je.\nBeim Thementag „Supply-Chain-Management“ zeigen wir\, worauf es bei der Gestaltung zukunftsfähiger Wertschöpfungsnetzwerke ankommt und wie Sie als Teil davon nicht nur ein passiver Beobachter sind\, sondern aktiv die Richtung bestimmen. Dabei stehen die vier Themenfelder Risikomanagement\, Planung\, Transparenz und Technologien im Fokus. \nAnsprechpartner:\nAndreas Kraut\, Dipl.-Kfm.\nE-Mail: fir-thementag@fir.rwth-aachen.de\nTelefon: +49 241 47705-411 \nWeitere Informationen und Anmeldung unter https://fir-thementag.de.
URL:https://www.aachen.digital/en/event/fir-thementag-supply-chain-mangement-wertschoepfungsnetzwerke-in-turbulenten-zeiten/
LOCATION:Cluster Smart Logistik\, Campus-Boulevard 55\, Aachen\, NRW\, Deutschland
ATTACH;FMTTYPE=image/jpeg:https://www.aachen.digital/wp-content/uploads/2020/01/AdobeStock_93452229.jpeg
ORGANIZER;CN="FIR an der RWTH Aachen":MAILTO:info@fir.rwth-aachen.de
END:VEVENT
BEGIN:VEVENT
DTSTART;TZID=Europe/Berlin:20200827T140000
DTEND;TZID=Europe/Berlin:20200827T150000
DTSTAMP:20260423T192240
CREATED:20200814T081014Z
LAST-MODIFIED:20200814T081014Z
UID:10005600-1598536800-1598540400@www.aachen.digital
SUMMARY:Process Mining – Vom Hype zum Standardanalysewerkzeug für Geschäftsprozesse
DESCRIPTION:Process Mining als neuartiges Werkzeug der Datenanalyse ist zurzeit in aller Munde. Zahlreiche Tools treten auf den Markt und versprechen großes Einsparungspotenzial durch die datengetriebene Analyse der eigenen Geschäftsprozesse. \nWas Process Mining wirklich auszeichnet und warum Sie es für die Optimierung Ihrer Geschäftsprozesse nutzen sollten\, erfahren Sie in unserem Online-Seminar \n“Process Mining – Vom Hype zum Standardanalysewerkzeug für Geschäftsprozesse”\nam 27.08.2020\, 14:00 – 15:00 Uhr. \nGemeinsam mit den Process-Mining-Experten aus dem FIR an der RWTH Aachen gehen Sie folgenden Fragen nach: \n• Wie funktioniert Process Mining und welche Software-Lösungen sind am Markt verfügbar?\n• Wie unterstützt Process Mining das Geschäftsprozessmanagement?\n• Welche Input- und Outputdaten werden für eine Analyse benötigt?\n• Wie geht man Analyse mittels Process Mining systematisch an?\n• Welche Kompetenzen sind zur erfolgreichen Einführung erforderlich? \nGewinnen Sie in 60 Minuten wertvolle Einblicke\, tauschen Sie sich mit anderen Unternehmen aus und teilen Sie Ihr Wissen – schnell\, kostenfrei und ohne Reiseaufwand. \nWir würden uns freuen\, Sie in unserer Zoom-Sitzung begrüßen zu dürfen. \nHIER GEHT´S ZUR KOSTENLOSEN ANMELDUNG.
URL:https://www.aachen.digital/en/event/process-mining-vom-hype-zum-standardanalysewerkzeug-fuer-geschaeftsprozesse/
LOCATION:Jülicher Strasse 72a\, Aachen\, 52070\, Germany
ATTACH;FMTTYPE=image/jpeg:https://www.aachen.digital/wp-content/uploads/2020/08/Visual-FIR12zu5.JPG.jpg
ORGANIZER;CN="FIR an der RWTH Aachen":MAILTO:info@fir.rwth-aachen.de
END:VEVENT
BEGIN:VEVENT
DTSTART;TZID=Europe/Berlin:20200821T100000
DTEND;TZID=Europe/Berlin:20200821T150000
DTSTAMP:20260423T192240
CREATED:20200731T082219Z
LAST-MODIFIED:20200731T082219Z
UID:10004965-1598004000-1598022000@www.aachen.digital
SUMMARY:Thementage 2020: Parking & Charging Infrastructure
DESCRIPTION:Das Center Smart Commercial Building auf dem RWTH Aachen Campus ist einzigartig und setzt sich zum Ziel\, die Ära des Software Defined Buildings zu prägen: zusammen mit Projektentwicklern\, Investoren\, Betreibern\, Planern\, Technologieanbietern und Softwareunternehmen werden die Softwarekonzepte und Sicherheitslösungen für das Gebäude der Zukunft entwickelt und erprobt. \nDie Thementage des Centers Smart Commercial Building bieten den optimalen Rahmen\, um tiefere Einblicke in die Möglichkeiten moderner Gebäudetechnik zu erhalten und einen Dialog zwischen Branchenexperten zu ermöglichen. Hierzu kommen Experten und Referenten der Branche zusammen\, um konkrete Fragestellungen und Herausforderungen zu diskutieren und Einblicke in Best Practices zu bieten. Ziel der Thementage ist ein intensiver Austausch und Diskussionen unter Marktbegleitern\, die Vorstellung innovativer Projekte sowie gemeinsame Workshops. \nDie Teilnahme ist kostenfrei. Um verbindliche Anmeldung wird gebeten. Die Anmeldung erfolgt per Mail an: alexandra.koether@smart-commercial-building.de. \nAnsprechpartner: \nAlexandra Köther\, M. Eng.\nE-Mail: alexandra.koether@smart-commercial-building.de\nTelefon: +49 241 47705-605
URL:https://www.aachen.digital/en/event/thementage-2020-parking-charging-infrastructure/
LOCATION:Cluster Smart Logistik\, Campus-Boulevard 55\, Aachen\, NRW\, Deutschland
ATTACH;FMTTYPE=image/png:https://www.aachen.digital/wp-content/uploads/2020/03/User_2-2-1024x380.png
ORGANIZER;CN="FIR an der RWTH Aachen":MAILTO:info@fir.rwth-aachen.de
END:VEVENT
BEGIN:VEVENT
DTSTART;TZID=Europe/Berlin:20200715T140000
DTEND;TZID=Europe/Berlin:20200715T150000
DTSTAMP:20260423T192240
CREATED:20200707T140640Z
LAST-MODIFIED:20200707T140640Z
UID:10005589-1594821600-1594825200@www.aachen.digital
SUMMARY:Online-Seminar: Process Mining
DESCRIPTION:Vom Hype zum Standardanalysewerkzeug für Geschäftsprozesse\nProcess Mining als neuartiges Werkzeug der Datenanalyse ist zurzeit in aller Munde. Zahlreiche Tools treten auf den Markt und versprechen großes Einsparungspotenzial durch die datengetriebene Analyse der eigenen Geschäftsprozesse.\nWas Process Mining wirklich auszeichnet und warum Sie es für die Optimierung Ihrer Geschäftsprozesse nutzen sollten\, erfahren Sie in unserem kostenfreien Online-Seminar. \nGemeinsam mit den Process-Mining-Experten aus dem FIR an der RWTH Aachen gehen Sie folgenden Fragen nach: \n\nWie funktioniert Process Mining und welche Software-Lösungen sind am Markt verfügbar?\nWie unterstützt Process Mining das Geschäftsprozessmanagement?\nWelche Input- und Outputdaten werden für eine Analyse benötigt?\nWie geht man Analyse mittels Process Mining systematisch an?\nWelche Kompetenzen sind zur erfolgreichen Einführung erforderlich?\n\nWEITERE INFOS & KOSTENLOSE ANMELDUNG
URL:https://www.aachen.digital/en/event/online-seminar-process-mining/
LOCATION:Jülicher Strasse 72a\, Aachen\, 52070\, Germany
ATTACH;FMTTYPE=image/jpeg:https://www.aachen.digital/wp-content/uploads/2020/07/fir-veranstaltungen_stage.jpg
ORGANIZER;CN="FIR an der RWTH Aachen":MAILTO:info@fir.rwth-aachen.de
END:VEVENT
BEGIN:VEVENT
DTSTART;VALUE=DATE:20200317
DTEND;VALUE=DATE:20200318
DTSTAMP:20260423T192240
CREATED:20191203T125657Z
LAST-MODIFIED:20191203T125657Z
UID:10005465-1584403200-1584489599@www.aachen.digital
SUMMARY:Save the Date    - 6. Telematik-Fachtagung
DESCRIPTION:Seit drei Jahren veranstaltet Couplink in regelmäßigen Abständen Fachtagungen\, die sich bei namhaften Logistikern etabliert haben. Merken Sie sich jetzt schon den Termin der mittlerweile 6. Fachtagung vor und besuchen Sie uns am FIR in Aachen. Auch dieses Mal werden wir die Frage „Wie kann eine Vernetzung aller Logistikbeteiligten funktionieren?“ diskutieren und standardisierte Lösungsbeispiele präsentieren. \nNeben einer Führung durch die innovative Produktionsstätte des Elektrofahrzeugs e.GO mobile im FIR\, werden in kurzen Vorträgen Fragen zu Vernetzungsmöglichkeiten\, künstlicher Intelligenz\, Sensortechnik und sicheren Kommunikationsplattformen von hochkarätigen Experten u. a. vom FIR geklärt. \nDarüber hinaus erwarten Sie Praxisberichte über Digitalisierungslösungen und die Möglichkeit zum Networking und Brainstorming. \n„In der letzten Zeit war ich auf vielen etablierten Veranstaltungen. Die von Couplink war für mich wirklich die beste – sehr informativ und viel Zeit für konstruktive Diskussionen. Dafür bin ich gerne aus Hessen angereist“\, so Herr Steffen Redetzky\, Senior Director Distribution bei Fresenius Kabi Logistik. \nHier geht es zur Anmeldung. \nBei Fragen können Sie sich bei Kirsten Bittmner melden: \nE-Mail: KBittner@couplink.de \nTel.: +49 (0) 2464-909 36 10
URL:https://www.aachen.digital/en/event/save-the-date-6-telematik-fachtagung/
LOCATION:FIR e. V. an der RWTH Aachen\, Campus-Boulevard 55\, Aachen\, 52074\, Deutschland
ATTACH;FMTTYPE=image/jpeg:https://www.aachen.digital/wp-content/uploads/2019/12/Telematik-Fachtagung12zu5.jpg
ORGANIZER;CN="FIR an der RWTH Aachen":MAILTO:info@fir.rwth-aachen.de
END:VEVENT
BEGIN:VEVENT
DTSTART;VALUE=DATE:20191113
DTEND;VALUE=DATE:20191115
DTSTAMP:20260423T192240
CREATED:20190410T082908Z
LAST-MODIFIED:20191022T144457Z
UID:10004764-1573603200-1573775999@www.aachen.digital
SUMMARY:CDO Aachen 2019 – Convention on Digital Opportunities
DESCRIPTION:Digital Value\nErkennen | Gestalten | Umsetzen \nDie zunehmende Digitalisierung hat branchenübergreifend Einzug gehalten und ihr Nutzen\, etwa höhere Produktivität\, Effektivitätssteigerung und bessere Produkt- und Servicequalität\, sind deutlich erkennbar. Gleichzeitig stehen Unternehmen vor der Herausforderung\, den Digital Value in Ihrem Unternehmen überhaupt zu erkennen\, individuell zu gestalten und erfolgreich umzusetzen.\nInteressante Impulse und Lösungsansätze\, um diese Herausforderungen zu meistern\, erhalten Sie auf der CDO Aachen 2019\, die unter dem Motto „Digital Value – Erkennen | Gestalten | Umsetzen“ eine ideale Austauschplattform für alle Digitalisierungsverantwortlichen bietet. Die CDO Aachen richtet sich daher an den Chief-Digital-Officer\, den Chief-Information-Officer sowie innovationstreibende Projektmanager und impulsgebende Führungskräfte mit ausgeprägter Technologiebegeisterung. \nDie Teilnehmer der CDO erfahren in mehrdimensionalen Ansätzen\, wie sich mit der Digitalisierung und digitaler Transformation gewinnbringend Nutzen realisieren lässt.\nNeben hochkarätigen Referenten aus Forschung und Industrie erwarten Sie während der Veranstaltung exklusive Führungen\, Workshops\, ein Ausstellerforum und hervorragende Netzwerkmöglichkeiten\, insbesondere während unserer Abendveranstaltun \nTermine und Orte \n\nMi.\, 13. und Do.\, 14. November 2019:\nFachtagung\, Ausstellerforum\nOrt: Cluster Smart Logistik auf dem RWTH Aachen Campus\, Aachen\nMi.\, 13. November 2019:\nAbendveranstaltung\nOrt: Karls – Museumscafe im Centre Charlemagne\, Aachen\n\nAktuelle Informationen finden Sie hier. \nSichern Sie sich als digitalHUB-Mitglied unsere attraktiven Sonderkonditionen von 595 Euro (statt 795 Euro). Dazu senden Sie eine kurze Nachricht an events@hubaachen.de. \nHIER GEHTS ZUR ANMELDUNG
URL:https://www.aachen.digital/en/event/cdo-aachen-2019-convention-on-digital-opportunities/
ATTACH;FMTTYPE=image/png:https://www.aachen.digital/wp-content/uploads/2019/04/cdo-aachen.png
ORGANIZER;CN="FIR an der RWTH Aachen":MAILTO:info@fir.rwth-aachen.de
END:VEVENT
END:VCALENDAR