BEGIN:VCALENDAR
VERSION:2.0
PRODID:-//digitalHUB Aachen - ECPv6.15.20//NONSGML v1.0//EN
CALSCALE:GREGORIAN
METHOD:PUBLISH
X-ORIGINAL-URL:https://www.aachen.digital/en/
X-WR-CALDESC:Events for digitalHUB Aachen
REFRESH-INTERVAL;VALUE=DURATION:PT1H
X-Robots-Tag:noindex
X-PUBLISHED-TTL:PT1H
BEGIN:VTIMEZONE
TZID:Europe/Berlin
BEGIN:DAYLIGHT
TZOFFSETFROM:+0100
TZOFFSETTO:+0200
TZNAME:CEST
DTSTART:20240331T010000
END:DAYLIGHT
BEGIN:STANDARD
TZOFFSETFROM:+0200
TZOFFSETTO:+0100
TZNAME:CET
DTSTART:20241027T010000
END:STANDARD
BEGIN:DAYLIGHT
TZOFFSETFROM:+0100
TZOFFSETTO:+0200
TZNAME:CEST
DTSTART:20250330T010000
END:DAYLIGHT
BEGIN:STANDARD
TZOFFSETFROM:+0200
TZOFFSETTO:+0100
TZNAME:CET
DTSTART:20251026T010000
END:STANDARD
BEGIN:DAYLIGHT
TZOFFSETFROM:+0100
TZOFFSETTO:+0200
TZNAME:CEST
DTSTART:20260329T010000
END:DAYLIGHT
BEGIN:STANDARD
TZOFFSETFROM:+0200
TZOFFSETTO:+0100
TZNAME:CET
DTSTART:20261025T010000
END:STANDARD
END:VTIMEZONE
BEGIN:VEVENT
DTSTART;TZID=Europe/Berlin:20250127T190000
DTEND;TZID=Europe/Berlin:20250127T203000
DTSTAMP:20260423T153938
CREATED:20241218T091613Z
LAST-MODIFIED:20241218T091716Z
UID:10007091-1738004400-1738009800@www.aachen.digital
SUMMARY:Wie sicher ist die Demokratie vor Cyberangriffen? - Wahlmanipulation erkennen und verstehen
DESCRIPTION:Demokratie schützen durch Information: Wie werden Wahlen manipuliert? Wie lassen sich gefälschte Meldungen und Beiträge in den sozialen Medien erkennen? \nCyberattacken und digitale Desinformationskampagnen bedrohen die Integrität demokratischer Wahlen. Wie funktionieren solche Angriffe und welche Risiken gibt es? \nAnschauliche Information und fundierte Erläuterungen helfen\, die Mechanismen hinter Wahlmanipulation und digitalen Angriffen nachzuvollziehen. Verständlich wird erklärt\, wie die Einflussnahmen ablaufen\, wie Fälschungen mithilfe künstlicher Intelligenz („deepfakes“) entstehen und woran man sie erkennen kann. \nAlle\, die sich gut informiert gegen Wahlmanipulation wappnen und selbst andere informieren möchten\, bekommen Hinweise\, was auch Einzelne tun können\, um Auswirkungen zu minimieren und die Demokratie selbst zu schützen. \nMehr erfahren
URL:https://www.aachen.digital/en/event/wie-sicher-ist-die-demokratie-vor-cyberangriffen-wahlmanipulation-erkennen-und-verstehen/
LOCATION:Bischöfliche Akademie des Bistums Aachen\, Leonhardstr. 18-20\, Aachen\, 52064\, Deutschland
ATTACH;FMTTYPE=image/jpeg:https://www.aachen.digital/wp-content/uploads/2024/12/Design-ohne-Titel-44.jpg
END:VEVENT
END:VCALENDAR