BEGIN:VCALENDAR
VERSION:2.0
PRODID:-//digitalHUB Aachen - ECPv6.15.20//NONSGML v1.0//EN
CALSCALE:GREGORIAN
METHOD:PUBLISH
X-WR-CALNAME:digitalHUB Aachen
X-ORIGINAL-URL:https://www.aachen.digital/en/
X-WR-CALDESC:Events for digitalHUB Aachen
REFRESH-INTERVAL;VALUE=DURATION:PT1H
X-Robots-Tag:noindex
X-PUBLISHED-TTL:PT1H
BEGIN:VTIMEZONE
TZID:Europe/Berlin
BEGIN:DAYLIGHT
TZOFFSETFROM:+0100
TZOFFSETTO:+0200
TZNAME:CEST
DTSTART:20230326T010000
END:DAYLIGHT
BEGIN:STANDARD
TZOFFSETFROM:+0200
TZOFFSETTO:+0100
TZNAME:CET
DTSTART:20231029T010000
END:STANDARD
BEGIN:DAYLIGHT
TZOFFSETFROM:+0100
TZOFFSETTO:+0200
TZNAME:CEST
DTSTART:20240331T010000
END:DAYLIGHT
BEGIN:STANDARD
TZOFFSETFROM:+0200
TZOFFSETTO:+0100
TZNAME:CET
DTSTART:20241027T010000
END:STANDARD
BEGIN:DAYLIGHT
TZOFFSETFROM:+0100
TZOFFSETTO:+0200
TZNAME:CEST
DTSTART:20250330T010000
END:DAYLIGHT
BEGIN:STANDARD
TZOFFSETFROM:+0200
TZOFFSETTO:+0100
TZNAME:CET
DTSTART:20251026T010000
END:STANDARD
END:VTIMEZONE
BEGIN:VEVENT
DTSTART;TZID=Europe/Berlin:20241016T160000
DTEND;TZID=Europe/Berlin:20241016T180000
DTSTAMP:20260423T201520
CREATED:20240911T114833Z
LAST-MODIFIED:20240911T114833Z
UID:10006871-1729094400-1729101600@www.aachen.digital
SUMMARY:Treffen der Fokusgruppe  New Education: "KI in der Lehre"
DESCRIPTION:KI\, oder Künstliche Intelligenz\, spielt in unserem Alltag eine immer größere Rolle. Auch in der Bildung wird immer öfter auf KI-gestützte Lösungen gesetzt. Von personalisierten Lernplattformen bis hin zu automatisierten Bewertungssystemen – KI hilft dabei\, den Bildungsprozess effizienter und individueller zu gestalten – so das Versprechen. Lehrkräfte sollen sich stärker auf die persönliche Betreuung der Schüler konzentrieren können\, indem administrative Aufgaben abgenommen werden. \nHaben Sie sich vor diesem Kontext schon mal gefragt: \n\nwelche Herausforderungen die Beschaffung und Bereitstellung der Technik mit sich bringen\,\nwie KI funktioniert und Einsatz in der Lehre findet\,\nwas es für das Lernen in der Zukunft bedeutet\nund welche Kompetenzen benötigt werden?\n\nDie Fokusgruppe New Education lädt mit der Veranstaltung “KI in der Lehre” zur Diskussion dieser und weiterer Fragen ein. \nEs erwartet Sie eine spannende Keynote von Dr. Malte Persike (Scientific Director Center for Learning- and Teaching Services (CLS) an der RWTH Aachen University) sowie die Möglichkeit zur offenen Diskussion und zum informellen Austausch im Anschluss. \nDie Veranstaltung ist kostenlos. Für Getränke ist gesorgt. \nJETZT ANMELDEN
URL:https://www.aachen.digital/en/event/treffen-der-fokusgruppe-new-education-ki-in-der-lehre/
LOCATION:digitalHUB Aachen\, Jülicher Str. 72a\, Aachen\, Nordrhein-Westfalen\, 52070\, Germany
ATTACH;FMTTYPE=image/jpeg:https://www.aachen.digital/wp-content/uploads/2024/09/Stage-FG-New-Education.jpg
END:VEVENT
END:VCALENDAR