BEGIN:VCALENDAR
VERSION:2.0
PRODID:-//digitalHUB Aachen - ECPv6.15.20//NONSGML v1.0//EN
CALSCALE:GREGORIAN
METHOD:PUBLISH
X-ORIGINAL-URL:https://www.aachen.digital/en/
X-WR-CALDESC:Events for digitalHUB Aachen
REFRESH-INTERVAL;VALUE=DURATION:PT1H
X-Robots-Tag:noindex
X-PUBLISHED-TTL:PT1H
BEGIN:VTIMEZONE
TZID:Europe/Berlin
BEGIN:DAYLIGHT
TZOFFSETFROM:+0100
TZOFFSETTO:+0200
TZNAME:CEST
DTSTART:20240331T010000
END:DAYLIGHT
BEGIN:STANDARD
TZOFFSETFROM:+0200
TZOFFSETTO:+0100
TZNAME:CET
DTSTART:20241027T010000
END:STANDARD
BEGIN:DAYLIGHT
TZOFFSETFROM:+0100
TZOFFSETTO:+0200
TZNAME:CEST
DTSTART:20250330T010000
END:DAYLIGHT
BEGIN:STANDARD
TZOFFSETFROM:+0200
TZOFFSETTO:+0100
TZNAME:CET
DTSTART:20251026T010000
END:STANDARD
BEGIN:DAYLIGHT
TZOFFSETFROM:+0100
TZOFFSETTO:+0200
TZNAME:CEST
DTSTART:20260329T010000
END:DAYLIGHT
BEGIN:STANDARD
TZOFFSETFROM:+0200
TZOFFSETTO:+0100
TZNAME:CET
DTSTART:20261025T010000
END:STANDARD
END:VTIMEZONE
BEGIN:VEVENT
DTSTART;TZID=Europe/Berlin:20250612T160000
DTEND;TZID=Europe/Berlin:20250612T183000
DTSTAMP:20260423T204451
CREATED:20250429T064513Z
LAST-MODIFIED:20250610T122652Z
UID:10007311-1749744000-1749753000@www.aachen.digital
SUMMARY:KI-Café - Planen + Bauen | Use-Cases aus der Praxis
DESCRIPTION:Erfahre beim KI-Café\, wie KI bereits jetzt ganz konkret in der Bau- und Immobilienbranche eingesetzt wird. Es erwarten dich mehrere Use-Cases aus der Praxis zu den Themen Planen + Bauen. \nEvent-Beschreibung: \nDie folgenden Impulse und Referent:innen erwarten dich: \n🔵 Beyond Script: Automation\, Computational Design and AI  \nViktor Lorentz (Geschäftsführer) | ATP architekten ingenieure \nLila Rossi (Senior Expert) | ATP architekten ingenieure \n🔵 Ein Jahr KI bei Landmarken – Praxiserfahrungen\, Learnings und Ausblick \nDavid Beumers (Geschäftsführer) | Stadtmarken GmbH \nBastian Maiworm (Geschäftsführer) | amberSearch \n🔵 Poliere und Künstliche Intelligenz – Zwei Welten verbunden über BIM \nOliver Eischet (Geschäftsführer) | specter automation GmbH \n🔵 Potential von KI im Bauhandwerk \nDaniel Günther (Innovationsberater AKzentE4.0) | Handwerkskammer Aachen \n— \nAnschließend hast du bei einem Get-together die Möglichkeit zum Austausch mit den übrigen Teilnehmenden und den Referent:innen. \nAls Moderatorin führt die Fokusgruppensprecherin Sylvia C. Schuster (ABE-Mitglied Projektitekt) durch die Veranstaltung. \nDie Fokusgruppe “Planen & Bauen – Digitale Prozesse” ist eine Gruppe des ABE unter dem Dach des digitalHUB Aachen e.V.\, in dessen eindrucksvoller digitalCHURCH das Event stattfinden wird. \n— \nFür die Teilnahme am KI-Café ist eine kostenlose Anmeldung erforderlich. \nHINWEIS: Die Veranstaltung ist derzeit ausgebucht. Eine Anmeldung ist nur noch über die Warteliste möglich. \nHier kostenlos anmelden!
URL:https://www.aachen.digital/en/event/ki-cafe-planen-bauen-use-cases-aus-der-praxis/
LOCATION:digitalHUB Aachen\, Jülicher Str. 72a\, Aachen\, Nordrhein-Westfalen\, 52070\, Germany
ATTACH;FMTTYPE=image/jpeg:https://www.aachen.digital/wp-content/uploads/2025/04/Design-ohne-Titel-69.jpg
END:VEVENT
END:VCALENDAR