BEGIN:VCALENDAR
VERSION:2.0
PRODID:-//digitalHUB Aachen - ECPv6.15.20//NONSGML v1.0//EN
CALSCALE:GREGORIAN
METHOD:PUBLISH
X-WR-CALNAME:digitalHUB Aachen
X-ORIGINAL-URL:https://www.aachen.digital/en/
X-WR-CALDESC:Events for digitalHUB Aachen
REFRESH-INTERVAL;VALUE=DURATION:PT1H
X-Robots-Tag:noindex
X-PUBLISHED-TTL:PT1H
BEGIN:VTIMEZONE
TZID:Europe/Berlin
BEGIN:DAYLIGHT
TZOFFSETFROM:+0100
TZOFFSETTO:+0200
TZNAME:CEST
DTSTART:20210328T010000
END:DAYLIGHT
BEGIN:STANDARD
TZOFFSETFROM:+0200
TZOFFSETTO:+0100
TZNAME:CET
DTSTART:20211031T010000
END:STANDARD
BEGIN:DAYLIGHT
TZOFFSETFROM:+0100
TZOFFSETTO:+0200
TZNAME:CEST
DTSTART:20220327T010000
END:DAYLIGHT
BEGIN:STANDARD
TZOFFSETFROM:+0200
TZOFFSETTO:+0100
TZNAME:CET
DTSTART:20221030T010000
END:STANDARD
BEGIN:DAYLIGHT
TZOFFSETFROM:+0100
TZOFFSETTO:+0200
TZNAME:CEST
DTSTART:20230326T010000
END:DAYLIGHT
BEGIN:STANDARD
TZOFFSETFROM:+0200
TZOFFSETTO:+0100
TZNAME:CET
DTSTART:20231029T010000
END:STANDARD
END:VTIMEZONE
BEGIN:VEVENT
DTSTART;TZID=Europe/Berlin:20221025T190000
DTEND;TZID=Europe/Berlin:20221025T220000
DTSTAMP:20260424T011634
CREATED:20221006T113655Z
LAST-MODIFIED:20221019T122150Z
UID:10006321-1666724400-1666735200@www.aachen.digital
SUMMARY:Nacht der Startups 2022
DESCRIPTION:Im Anschluß an die Nacht der Unternehmen 2022\, die in direkter Nachbarschaft im Technologiezentrum Aachen stattfindet\, lädt die Fokusgruppe Startups aus dem digitalHUB Aachen unter Federführung von bobbie zur Nacht der Startups 2022 in die digitalCHURCH. \nHier gibt es Drinks\, Musik\, Pizza und natürlich spannende Jobs bei den Startups der Region!\nEs ist alles zu finden\, vom Hiwi-Job über Abschlussarbeiten bis hin zu Senior Positionen! \nWeitere Infos & Anmeldung \n  \n 
URL:https://www.aachen.digital/en/event/nacht-der-startups-2022/
LOCATION:digitalHUB Aachen\, Jülicher Str. 72a\, Aachen\, Nordrhein-Westfalen\, 52070\, Germany
ATTACH;FMTTYPE=image/jpeg:https://www.aachen.digital/wp-content/uploads/2022/10/Nacht-der-Startups-Stage-1632x644-1.jpg
END:VEVENT
END:VCALENDAR