BEGIN:VCALENDAR
VERSION:2.0
PRODID:-//digitalHUB Aachen - ECPv6.15.20//NONSGML v1.0//EN
CALSCALE:GREGORIAN
METHOD:PUBLISH
X-WR-CALNAME:digitalHUB Aachen
X-ORIGINAL-URL:https://www.aachen.digital/en/
X-WR-CALDESC:Events for digitalHUB Aachen
REFRESH-INTERVAL;VALUE=DURATION:PT1H
X-Robots-Tag:noindex
X-PUBLISHED-TTL:PT1H
BEGIN:VTIMEZONE
TZID:Europe/Berlin
BEGIN:DAYLIGHT
TZOFFSETFROM:+0100
TZOFFSETTO:+0200
TZNAME:CEST
DTSTART:20220327T010000
END:DAYLIGHT
BEGIN:STANDARD
TZOFFSETFROM:+0200
TZOFFSETTO:+0100
TZNAME:CET
DTSTART:20221030T010000
END:STANDARD
BEGIN:DAYLIGHT
TZOFFSETFROM:+0100
TZOFFSETTO:+0200
TZNAME:CEST
DTSTART:20230326T010000
END:DAYLIGHT
BEGIN:STANDARD
TZOFFSETFROM:+0200
TZOFFSETTO:+0100
TZNAME:CET
DTSTART:20231029T010000
END:STANDARD
BEGIN:DAYLIGHT
TZOFFSETFROM:+0100
TZOFFSETTO:+0200
TZNAME:CEST
DTSTART:20240331T010000
END:DAYLIGHT
BEGIN:STANDARD
TZOFFSETFROM:+0200
TZOFFSETTO:+0100
TZNAME:CET
DTSTART:20241027T010000
END:STANDARD
END:VTIMEZONE
BEGIN:VEVENT
DTSTART;TZID=Europe/Berlin:20231128T180000
DTEND;TZID=Europe/Berlin:20231128T200000
DTSTAMP:20260423T225533
CREATED:20231123T135004Z
LAST-MODIFIED:20231123T135004Z
UID:10006639-1701194400-1701201600@www.aachen.digital
SUMMARY:Fach- und Arbeitskräftemangel: Diskussionsrunde „FOM & Friends“
DESCRIPTION:Der Fach- und Arbeitskräftemangel betrifft viele Unternehmen in der Region Aachen. Im Mittelpunkt steht die Frage\, wie groß das Problem ist und vor allem\, welche Maßnahmen dagegen ergriffen werden können. In der Veranstaltung der FOM-Hoschule zusammen mit der Aachener Zeitung wird mit Praktikern über die Herausforderungen und mögliche Lösungsansätze diskutiert. \nViele Unternehmen stehen im Wettbewerb um hochqualifiziertes Personal und sehen sich mit der Herausforderung des Arbeits- und Fachkräftemangels konfrontiert. Der Arbeitsmarkt wandelt sich jedoch von einem Arbeitgeber- zu einem Arbeitnehmermarkt\, auf dem die Bewerberinnen und Bewerber mehr Einfluss und konkrete Vorstellungen haben. Das bedeutet\, dass Unternehmen neue Strategien entwickeln müssen\, um qualifiziertes Personal zu finden. In der Diskussionsveranstaltung mit Expertinnen und Experten aus verschiedenen Branchen werden Einblicke in die Maßnahmen\, die Unternehmen ergreifen\, geteilt. \nIm Mittelpunkt der von Prof. Dr. Axel Minten moderierten Gesprächsrunde stehen zwei zentrale Fragen: \n\nWie wirkt sich der Fach- und Arbeitskräftemangel in der Region aus?\nUnd welche Maßnahmen können dagegen ergriffen werden?\n\nIm Anschluss besteht die Möglichkeit\, Fragen zu stellen und sich aktiv an der Diskussion zu beteiligen. Die Teilnahme an der Veranstaltung ist kostenlos. Melden Sie sich an und nutzen Sie die Chance\, neue Impulse imUmgang mit dem Fach- und Arbeitskräftemangel zu erhalten. \nZUR ANMELDUNG
URL:https://www.aachen.digital/en/event/fach-und-arbeitskraeftemangel-diskussionsrunde-fom-friends/
LOCATION:Campus Forum Medienhaus Aachen\, Dresdener Straße 3\, Aachen\, 52068
ATTACH;FMTTYPE=image/jpeg:https://www.aachen.digital/wp-content/uploads/2023/11/Diskussionsrunde-stage.jpg
END:VEVENT
END:VCALENDAR