BEGIN:VCALENDAR
VERSION:2.0
PRODID:-//digitalHUB Aachen - ECPv6.15.20//NONSGML v1.0//EN
CALSCALE:GREGORIAN
METHOD:PUBLISH
X-WR-CALNAME:digitalHUB Aachen
X-ORIGINAL-URL:https://www.aachen.digital/en/
X-WR-CALDESC:Events for digitalHUB Aachen
REFRESH-INTERVAL;VALUE=DURATION:PT1H
X-Robots-Tag:noindex
X-PUBLISHED-TTL:PT1H
BEGIN:VTIMEZONE
TZID:Europe/Berlin
BEGIN:DAYLIGHT
TZOFFSETFROM:+0100
TZOFFSETTO:+0200
TZNAME:CEST
DTSTART:20220327T010000
END:DAYLIGHT
BEGIN:STANDARD
TZOFFSETFROM:+0200
TZOFFSETTO:+0100
TZNAME:CET
DTSTART:20221030T010000
END:STANDARD
BEGIN:DAYLIGHT
TZOFFSETFROM:+0100
TZOFFSETTO:+0200
TZNAME:CEST
DTSTART:20230326T010000
END:DAYLIGHT
BEGIN:STANDARD
TZOFFSETFROM:+0200
TZOFFSETTO:+0100
TZNAME:CET
DTSTART:20231029T010000
END:STANDARD
BEGIN:DAYLIGHT
TZOFFSETFROM:+0100
TZOFFSETTO:+0200
TZNAME:CEST
DTSTART:20240331T010000
END:DAYLIGHT
BEGIN:STANDARD
TZOFFSETFROM:+0200
TZOFFSETTO:+0100
TZNAME:CET
DTSTART:20241027T010000
END:STANDARD
BEGIN:DAYLIGHT
TZOFFSETFROM:+0100
TZOFFSETTO:+0200
TZNAME:CEST
DTSTART:20250330T010000
END:DAYLIGHT
BEGIN:STANDARD
TZOFFSETFROM:+0200
TZOFFSETTO:+0100
TZNAME:CET
DTSTART:20251026T010000
END:STANDARD
END:VTIMEZONE
BEGIN:VEVENT
DTSTART;TZID=Europe/Berlin:20240314T170000
DTEND;TZID=Europe/Berlin:20240314T180000
DTSTAMP:20260423T192806
CREATED:20240223T100706Z
LAST-MODIFIED:20240227T092651Z
UID:10006746-1710435600-1710439200@www.aachen.digital
SUMMARY:BIM-Basics: Projekteinstieg für die Fachkoordination
DESCRIPTION:In diesem Webinar erhalten Sie einen Einblick in die Rolle und Bedeutung der BIM-Fachkoordination in BIM-Projekten. Dies umfasst grundlegende Aufgaben\, Verantwortlichkeiten und Schlüsselkompetenzen. Wir geben Tipps\, wie Fachkoordinatoren die Qualitätssicherung eigener Fach- und Teilmodelle gewährleisten und die BIM-Ziele entsprechend den Auftraggeber-Informationsanforderungen (AIA) bzw. dem BIM-Abwicklungsplan (BAP) umsetzen. Das Webinar richtet sich an Neueinsteiger im Bereich BIM\, die sich auf ihre Rolle in der Fachkoordination vorbereiten möchten. \nDozentin: Isabel Niepel\, BIM-Managerin\, Formitas AG \nWeitere Infos und Anmeldung
URL:https://www.aachen.digital/en/event/bim-basics-projekteinstieg-fuer-die-fachkoordination/
LOCATION:online
ATTACH;FMTTYPE=image/jpeg:https://www.aachen.digital/wp-content/uploads/2023/04/Formitas_stage.jpg
END:VEVENT
BEGIN:VEVENT
DTSTART;TZID=Europe/Berlin:20240222T170000
DTEND;TZID=Europe/Berlin:20240222T180000
DTSTAMP:20260423T192806
CREATED:20240116T132209Z
LAST-MODIFIED:20240116T132209Z
UID:10006060-1708621200-1708624800@www.aachen.digital
SUMMARY:Revit-Projektvorlage - das Rezept für die erfolgreiche Projektabwicklung
DESCRIPTION:Eine gute Projektvorlage ist der Grundbaustein eines sauberen und nutzbaren Revit-Modells. Was sollte vorbereitet werden\, um den reibungslosen Projektablauf durch Struktur und Standards zu unterstützen? BIM-Manager Angel Monev spricht in diesem Webinar über die verschiedenen Aspekte einer Vorlage\, die Ihre Produktivität steigern können. \n\n\nDauer: 1 Std. \n\nDozent: Angel Monev\, BIM-Manager\, Formitas AG \nWeitere Infos und Anmeldung
URL:https://www.aachen.digital/en/event/revit-projektvorlage-das-rezept-fuer-die-erfolgreiche-projektabwicklung/
LOCATION:online
ATTACH;FMTTYPE=image/jpeg:https://www.aachen.digital/wp-content/uploads/2023/04/Formitas_stage.jpg
END:VEVENT
BEGIN:VEVENT
DTSTART;TZID=Europe/Berlin:20240201T170000
DTEND;TZID=Europe/Berlin:20240201T180000
DTSTAMP:20260423T192806
CREATED:20240116T132244Z
LAST-MODIFIED:20240118T131018Z
UID:10006063-1706806800-1706810400@www.aachen.digital
SUMMARY:Modellbasierte Qualitätssicherung in fortgeschrittenen BIM-Projekten
DESCRIPTION:Sowohl in Pilotprojekten als auch in fortgeschrittenen BIM-Projekten ist die Qualitätssicherung bei der Implementierung von BIM ein zentraler Vorgang\, der wesentlich dazu beiträgt\, die Wertschöpfungsziele des Bauherrn zu erreichen. Es geht dabei um die Qualität des digitalen Zwillings\, welche zweifelsfrei von der Intensität der Qualitätssicherung abhängig ist. Je erfahrener ein Planungsteam ist\, desto weitreichender sind die Einsatzmöglichkeiten dieser BIM-basierten Managementaufgabe. Anhand von Praxisbeispielen stellt BIM-Berater Dr. Joaquin Ramirez Brey in diesem Webinar die Nutzungsmöglichkeiten der modellbasierten Kommunikation vor – dem Basis-Anwendungsfall zur Qualitätssicherung. \nDauer: 1 Std. \nDozent: Dr. Joaquin Remirez Brey\, BIM-Berater\, Formitas AG \nWeitere Infos und Anmeldung
URL:https://www.aachen.digital/en/event/modellbasierte-qualitaetssicherung-in-fortgeschrittenen-bim-projekten/
LOCATION:online
ATTACH;FMTTYPE=image/jpeg:https://www.aachen.digital/wp-content/uploads/2023/04/Formitas_stage.jpg
END:VEVENT
BEGIN:VEVENT
DTSTART;TZID=Europe/Berlin:20240125T170000
DTEND;TZID=Europe/Berlin:20240125T180000
DTSTAMP:20260423T192806
CREATED:20240118T113816Z
LAST-MODIFIED:20240118T131021Z
UID:10006072-1706202000-1706205600@www.aachen.digital
SUMMARY:Möglichkeiten und Grenzen des DWG-Exports aus Revit
DESCRIPTION:In BIM-Projekten können DWG-Exporte vereinbart werden\, z.B. zur Übergabe in eine FM-Software. In diesen Fällen wird häufig mit Anforderungen aus veralteten CAD-Richtlinien gearbeitet\, die selten der Revit-Struktur entsprechen und meist nur partiell mit den Exporteinstellungen erfüllt werden können. Um aufwendige manuelle Nachbearbeitung der DWGs zu vermeiden\, wollen wir in diesem Webinar über die Möglichkeiten und Einschränkungen aufklären.Dauer: 1Std.\nDozent: Thomas Schütz\, BIM-Manager\, Formitas AG \nWeitere Infos und Anmeldung
URL:https://www.aachen.digital/en/event/moeglichkeiten-und-grenzen-des-dwg-exports-aus-revit/
LOCATION:online
ATTACH;FMTTYPE=image/jpeg:https://www.aachen.digital/wp-content/uploads/2023/04/Formitas_stage.jpg
END:VEVENT
BEGIN:VEVENT
DTSTART;TZID=Europe/Berlin:20231207T170000
DTEND;TZID=Europe/Berlin:20231207T180000
DTSTAMP:20260423T192806
CREATED:20231122T125933Z
LAST-MODIFIED:20231122T125933Z
UID:10006635-1701968400-1701972000@www.aachen.digital
SUMMARY:BIM-Live-Webinar - Strategische BIM-Implementierung in komplexen Betrieben
DESCRIPTION:Wie erfolgt die strategische Umstellung auf BIM inmitten komplexer laufender Geschäftsprozesse bei einem großen Bauherren? Anhand von Praxisbeispielen demonstriert BIM-Berater Dr. Ramirez Brey den Workflow im geschäftlichen Betrieb\, angefangen mit einem Pilotprojekt bis hin zur erfolgreichen BIM-Einführung. Er zeigt Partizipationsverfahren zur Identifikation von Bedürfnissen des Betriebs sowie technische Voraussetzungen und notwendige Strukturen\, unter denen BIM seine maximale Wirkung entfaltet. \nZUR ANMELDUNG \nDozent: Dr. Joaquin Ramirez Brey\, Formitas Akademie
URL:https://www.aachen.digital/en/event/bim-live-webinar-strategische-bim-implementierung-in-komplexen-betrieben/
LOCATION:Jülicher Strasse 72a\, Aachen\, 52070\, Germany
ATTACH;FMTTYPE=image/jpeg:https://www.aachen.digital/wp-content/uploads/2023/04/Formitas_stage.jpg
END:VEVENT
BEGIN:VEVENT
DTSTART;TZID=Europe/Berlin:20231130T170000
DTEND;TZID=Europe/Berlin:20231130T180000
DTSTAMP:20260423T192806
CREATED:20231025T104644Z
LAST-MODIFIED:20231026T102707Z
UID:10006618-1701363600-1701367200@www.aachen.digital
SUMMARY:BIM-Live-Webinar - Wie kommt das BIM-Know-how in die Betriebe?
DESCRIPTION:Suchen Sie nach gut ausgebildetem BIM-Personal für Ihr Unternehmen oder möchten Ihre Teams in BIM-Themen schulen lassen? Wieso bleiben BIM-Stellen so lange unbesetzt\, obgleich es an Expertise in den Unternehmen fehlt? Basierend auf Ergebnissen aus Forschung und Praxis geben Ihnen Prof. Henriette Strotmann und Leonie Magnolo von der FH Münster und der Formitas Akademie einen Überblick über den Stand\, die Möglichkeiten und auch die Fallstricke der BIM-Aus- und Weiterbildung in Deutschland. Sie präsentieren den Aufbau eines für 2024 geplanten interdisziplinären BIM-Masterstudiengangs und flexible Weiterbildungsmöglichkeiten wie BIM-E-Learning. \nZUR ANMELDUNG \nDozentinnen: Prof. Henriette Strotmann und Leonie Magnolo\, Formitas Akademie
URL:https://www.aachen.digital/en/event/bim-live-webinar-wie-kommt-das-bim-know-how-in-die-betriebe/
LOCATION:Jülicher Strasse 72a\, Aachen\, 52070\, Germany
ATTACH;FMTTYPE=image/jpeg:https://www.aachen.digital/wp-content/uploads/2023/04/Formitas_stage.jpg
END:VEVENT
BEGIN:VEVENT
DTSTART;TZID=Europe/Berlin:20231116T170000
DTEND;TZID=Europe/Berlin:20231116T180000
DTSTAMP:20260423T192806
CREATED:20231025T103812Z
LAST-MODIFIED:20231025T103812Z
UID:10006617-1700154000-1700157600@www.aachen.digital
SUMMARY:BIM-Live-Webinar - Optimierung des Arbeitsalltags mit Revit-Plug-ins
DESCRIPTION:Erweiterungen für Revit können den Funktionsumfang ergänzen oder bestehende Workflows optimieren. Sie helfen dabei\, die angestrebten Ziele schneller zu erreichen oder überhaupt erst zu ermöglichen. Da es eine Vielzahl an kostenlosen und kostenpflichtigen Plug-ins im Autodesk-Store gibt\, werden in diesem Webinar die nützlichsten vorgestellt\, die in der alltäglichen Arbeit nicht mehr wegzudenken sind.\nPlug-in-Kategorien: – Familienverwaltung – Arbeitsoptimierung in Revit – Im-/Export – Multifunktionstools \nZUR ANMELDUNG \nDozent: Thomas Schütz\, BIM-Manager\, Formitas AG
URL:https://www.aachen.digital/en/event/bim-live-webinar-optimierung-des-arbeitsalltags-mit-revit-plug-ins/
LOCATION:Jülicher Strasse 72a\, Aachen\, 52070\, Germany
ATTACH;FMTTYPE=image/jpeg:https://www.aachen.digital/wp-content/uploads/2023/04/Formitas_stage.jpg
END:VEVENT
BEGIN:VEVENT
DTSTART;TZID=Europe/Berlin:20230928T170000
DTEND;TZID=Europe/Berlin:20230928T180000
DTSTAMP:20260423T192806
CREATED:20230824T071819Z
LAST-MODIFIED:20230824T075517Z
UID:10006533-1695920400-1695924000@www.aachen.digital
SUMMARY:BIM-Implementierung in Planungs- und Ingenieurbüros
DESCRIPTION:Kostenloses BIM-Live-Webinar \nSie wollen BIM in Ihrem Unternehmen einführen. Aber wissen Sie bereits\, was Sie damit konkret erreichen möchten? Wie wird sich der Planungsprozess ändern und welche Schritte sind zur Umsetzung erforderlich? Aufgrund des hohen Interesses am Thema wird dieses Webinar aus dem Vorjahr wiederholt. Denn so individuell jedes Unternehmen ist\, hilft es doch\, sich einen ersten Überblick zu verschaffen\, wie man an die Implementierung herangehen möchte. Dabei nimmt sich Formitas Zeit für Ihre unterschiedlichen Ausgangssituationen. Bringen Sie daher gerne Ihre Fragen mit\, sodass gemeinsam überlegt werden kann\, wie Ihr Unternehmen in einer digitalisierten Planungswelt erfolgreich agiert. \nZUR ANMELDUNG \nDozent: Dr. Joaquin Ramirez Brey
URL:https://www.aachen.digital/en/event/bim-implementierung-in-planungs-und-ingenieurbueros/
LOCATION:Jülicher Strasse 72a\, Aachen\, 52070\, Germany
ATTACH;FMTTYPE=image/jpeg:https://www.aachen.digital/wp-content/uploads/2023/04/Formitas_stage.jpg
END:VEVENT
BEGIN:VEVENT
DTSTART;TZID=Europe/Berlin:20230914T170000
DTEND;TZID=Europe/Berlin:20230914T180000
DTSTAMP:20260423T192806
CREATED:20230824T070957Z
LAST-MODIFIED:20230824T075608Z
UID:10006532-1694710800-1694714400@www.aachen.digital
SUMMARY:Stahlbauwerkzeug-Tipps für Revit
DESCRIPTION:Kostenloses BIM-Live-Webinar \nDie Stahlbauwerkzeuge in Revit scheinen des Öfteren ein Eigenleben zu führen. Insbesondere die Verbindungserstellung zwischen mehreren Stahlbauelementen verhält sich nicht immer vorhersehbar. Welche Automatismen verbergen sich hinter diesem Eindruck\, welche Vorteilen bringen sie und wie können wir die Funktionsweise verstehen und nutzen? Darum wird es in diesem Webinar gehen. Des Weiteren zeigt Formitas die Bestandteile individualisierter Verbindungen sowie Tipps und Tricks wie Sie häufige Fehler vermeiden können auf. \nZUR ANMELDUNG \nDozent: Thomas Schütz\, BIM-Manager\, Formitas AG
URL:https://www.aachen.digital/en/event/stahlbauwerkzeug-tipps-fuer-revit/
LOCATION:Jülicher Strasse 72a\, Aachen\, 52070\, Germany
ATTACH;FMTTYPE=image/jpeg:https://www.aachen.digital/wp-content/uploads/2023/04/Formitas_stage.jpg
END:VEVENT
BEGIN:VEVENT
DTSTART;TZID=Europe/Berlin:20230622T170000
DTEND;TZID=Europe/Berlin:20230622T180000
DTSTAMP:20260423T192806
CREATED:20230531T080720Z
LAST-MODIFIED:20230531T103657Z
UID:10005912-1687453200-1687456800@www.aachen.digital
SUMMARY:BIM mit Archicad
DESCRIPTION:Archicad wurde speziell von Architekten für Architekten konzipiert\, um sie in der Anwendung der BIM-Methodik zu unterstützen. Was das aufbauend auf der regulären Arbeitsweise bedeutet und welche Prozesse und Tools das Programm für das eigene BIM-Projekt bietet\, betrachten wir in diesem Webinar: \n\nBIM-gerechtes Modellieren\nAustausch mit IFC\nInformationsmanagement\n\nDozent:\nLarissa Hecht\, BIM-Koordinatorin\, Formitas AG \nWEITERE INFORMATIONEN UND ANMELDUNG
URL:https://www.aachen.digital/en/event/bim-mit-archicad/
LOCATION:Jülicher Strasse 72a\, Aachen\, 52070\, Germany
ATTACH;FMTTYPE=image/jpeg:https://www.aachen.digital/wp-content/uploads/2023/05/210407_VerhandlungsHUBinar_stage.jpg
END:VEVENT
BEGIN:VEVENT
DTSTART;TZID=Europe/Berlin:20230615T170000
DTEND;TZID=Europe/Berlin:20230615T180000
DTSTAMP:20260423T192806
CREATED:20230531T080421Z
LAST-MODIFIED:20230531T103630Z
UID:10005909-1686848400-1686852000@www.aachen.digital
SUMMARY:BIM und Nachhaltigkeit – Synergien für eine zukunftsorientierte Bauindustrie
DESCRIPTION:Die Bauindustrie steht vor der Herausforderung\, nachhaltige und umweltfreundliche Praktiken zu integrieren\, um zukunftsfähige Gebäude und Infrastrukturen zu schaffen. In diesem Webinar erforschen die BIM-Berater Jan Philipp Mertens und Dr. Joaquin Ramirez Brey (beide Formitas AG) die Verbindung zwischen Building Information Modeling (BIM) und Nachhaltigkeit. Sie zeigen auf\, wie diese beiden Bereiche zusammenarbeiten können\, um eine nachhaltige Bauindustrie zu fördern. Die Veranstaltung bietet eine seltene Plattform für den Austausch von Wissen\, Erfahrungen und bewährten Praktiken an der Schnittstelle zwischen BIM und Nachhaltigkeit. Die Experten werden ihre Erkenntnisse und Perspektiven teilen und beleuchten\, wie BIM als Werkzeug genutzt werden kann\, um Nachhaltigkeitsaspekte in den gesamten Planungs- und Bauprozess zu integrieren. Das Webinar richtet sich an Bauherren\, Architekten\, Ingenieure\, Bauunternehmen\, Planer\, BIM- und Nachhaltigkeitsexperten sowie an alle Interessierten\, die an der Schnittstelle von BIM und Nachhaltigkeit tätig sind oder sich für diese Themen interessieren. \nDozent:\nDr. Joaquin Ramirez Brey\, BIM-Berater\, Formitas AG \nWEITERE INFORMATIONEN UND ANMELDUNG
URL:https://www.aachen.digital/en/event/bim-und-nachhaltigkeit-synergien-fuer-eine-zukunftsorientierte-bauindustrie/
LOCATION:Jülicher Strasse 72a\, Aachen\, 52070\, Germany
ATTACH;FMTTYPE=image/jpeg:https://www.aachen.digital/wp-content/uploads/2023/05/210407_VerhandlungsHUBinar_stage.jpg
END:VEVENT
BEGIN:VEVENT
DTSTART;TZID=Europe/Berlin:20230525T170000
DTEND;TZID=Europe/Berlin:20230525T180000
DTSTAMP:20260423T192806
CREATED:20230426T083801Z
LAST-MODIFIED:20230428T140626Z
UID:10006463-1685034000-1685037600@www.aachen.digital
SUMMARY:BIM-Live-Webinar - Was ist neu in Revit 2024 und lohnt sich der Umstieg?
DESCRIPTION:In diesem Webinar werden die wichtigsten neuen Funktionen in Revit 2024 für Architekten vorgeführt. Von der neu entwickelten Topografiebearbeitung\, über erweiterte Koordinationsmodelle\, bis hin zur nun inklusiven Echtzeit-Visualisierung mit Twinmotion\, gibt es zahlreiche Verbesserungen und Neuerungen\, die einen Blick wert sind. \nZUR ANMELDUNG \nDozent: Thomas Schütz\, BIM-Manager\, Formitas AG
URL:https://www.aachen.digital/en/event/bim-live-webinar-was-ist-neu-in-revit-2024-und-lohnt-sich-der-umstieg/
LOCATION:Jülicher Strasse 72a\, Aachen\, 52070\, Germany
ATTACH;FMTTYPE=image/jpeg:https://www.aachen.digital/wp-content/uploads/2023/04/Formitas_stage.jpg
END:VEVENT
END:VCALENDAR