BEGIN:VCALENDAR
VERSION:2.0
PRODID:-//digitalHUB Aachen - ECPv6.15.20//NONSGML v1.0//EN
CALSCALE:GREGORIAN
METHOD:PUBLISH
X-ORIGINAL-URL:https://www.aachen.digital/en/
X-WR-CALDESC:Events for digitalHUB Aachen
REFRESH-INTERVAL;VALUE=DURATION:PT1H
X-Robots-Tag:noindex
X-PUBLISHED-TTL:PT1H
BEGIN:VTIMEZONE
TZID:Europe/Berlin
BEGIN:DAYLIGHT
TZOFFSETFROM:+0100
TZOFFSETTO:+0200
TZNAME:CEST
DTSTART:20230326T010000
END:DAYLIGHT
BEGIN:STANDARD
TZOFFSETFROM:+0200
TZOFFSETTO:+0100
TZNAME:CET
DTSTART:20231029T010000
END:STANDARD
BEGIN:DAYLIGHT
TZOFFSETFROM:+0100
TZOFFSETTO:+0200
TZNAME:CEST
DTSTART:20240331T010000
END:DAYLIGHT
BEGIN:STANDARD
TZOFFSETFROM:+0200
TZOFFSETTO:+0100
TZNAME:CET
DTSTART:20241027T010000
END:STANDARD
BEGIN:DAYLIGHT
TZOFFSETFROM:+0100
TZOFFSETTO:+0200
TZNAME:CEST
DTSTART:20250330T010000
END:DAYLIGHT
BEGIN:STANDARD
TZOFFSETFROM:+0200
TZOFFSETTO:+0100
TZNAME:CET
DTSTART:20251026T010000
END:STANDARD
END:VTIMEZONE
BEGIN:VEVENT
DTSTART;TZID=Europe/Berlin:20240606T100000
DTEND;TZID=Europe/Berlin:20240606T140000
DTSTAMP:20260423T221355
CREATED:20240531T072225Z
LAST-MODIFIED:20240531T092030Z
UID:10006811-1717668000-1717682400@www.aachen.digital
SUMMARY:2. Bioökonomie Feldtag im Rheinischen Revier
DESCRIPTION:AGRITECH & FOOD beim 2. Bioökonomie Feldtag in der Region – Vorführung innovativer Konzepte für die Landwirtschaft der Zukunft in der Praxis: Freuen Sie sich auf Agrartechnik vom praxisnahen Sä- und Hack-Roboter bis zur autonomen\, intelligenten Sensorplattform. Zudem gibt es Erfahrungsberichte mit Agri-Photovoltaik und dem Anbau alternativer Nutzpflanzen\, neuen Lebensmittelangeboten\, Methoden der klimaangepaßten Landwirtschaft\, Dürrevorhersagen\, Möglichkeiten für regionale Geschäftsmodelle und vieles mehr. \nDie Landwirtschaft gehört in Ihrer Funktion als Lebensmittel- und Rohstofflieferant sowie der Prägung der Landschaft zu den wirtschaftlich wie landschaftlich relevantesten Bioökonomie-Branchen im Rheinischen Revier. Hier ist eine nachhaltige\, biobasierte Kreislaufwirtschaft gelebte Tradition. Neben dem Strukturwandel durch den Braunkohleausstieg\, von der die Landwirtschaft durch ihre Flächen direkt betroffen ist\, ist die Branche von weiteren Umbrüchen und sich laufend ändernden Rahmenbedingungen betroffen. \nViele treibt daher die Frage um\, wie die Landwirtschaft der Zukunft aussehen wird: welche Methoden und Feldfrüchte bieten Wertschöpfung? Und sind diese nachhaltig für Umwelt und Klima? \nHiermit laden wir Sie herzlich ein zu einem spannenden Austausch! Wir möchten Ihnen zeigen\, was heute und zukünftig möglich ist. \nZUR ANMELDUNG
URL:https://www.aachen.digital/en/event/2-biooekonomie-feldtag-im-rheinischen-revier/
LOCATION:Agri-Food-Energy Park Morschenich-Alt\, Ellener Straße 34\, Merzenich\, 52399
ATTACH;FMTTYPE=image/jpeg:https://www.aachen.digital/wp-content/uploads/2024/05/Design-ohne-Titel-7.jpg
END:VEVENT
END:VCALENDAR