BEGIN:VCALENDAR
VERSION:2.0
PRODID:-//digitalHUB Aachen - ECPv6.15.20//NONSGML v1.0//EN
CALSCALE:GREGORIAN
METHOD:PUBLISH
X-WR-CALNAME:digitalHUB Aachen
X-ORIGINAL-URL:https://www.aachen.digital/en/
X-WR-CALDESC:Events for digitalHUB Aachen
REFRESH-INTERVAL;VALUE=DURATION:PT1H
X-Robots-Tag:noindex
X-PUBLISHED-TTL:PT1H
BEGIN:VTIMEZONE
TZID:Europe/Berlin
BEGIN:DAYLIGHT
TZOFFSETFROM:+0100
TZOFFSETTO:+0200
TZNAME:CEST
DTSTART:20240331T010000
END:DAYLIGHT
BEGIN:STANDARD
TZOFFSETFROM:+0200
TZOFFSETTO:+0100
TZNAME:CET
DTSTART:20241027T010000
END:STANDARD
BEGIN:DAYLIGHT
TZOFFSETFROM:+0100
TZOFFSETTO:+0200
TZNAME:CEST
DTSTART:20250330T010000
END:DAYLIGHT
BEGIN:STANDARD
TZOFFSETFROM:+0200
TZOFFSETTO:+0100
TZNAME:CET
DTSTART:20251026T010000
END:STANDARD
BEGIN:DAYLIGHT
TZOFFSETFROM:+0100
TZOFFSETTO:+0200
TZNAME:CEST
DTSTART:20260329T010000
END:DAYLIGHT
BEGIN:STANDARD
TZOFFSETFROM:+0200
TZOFFSETTO:+0100
TZNAME:CET
DTSTART:20261025T010000
END:STANDARD
END:VTIMEZONE
BEGIN:VEVENT
DTSTART;TZID=Europe/Berlin:20250122T190000
DTEND;TZID=Europe/Berlin:20250122T203000
DTSTAMP:20260423T220744
CREATED:20241209T102333Z
LAST-MODIFIED:20241209T102333Z
UID:10006990-1737572400-1737577800@www.aachen.digital
SUMMARY:Exascale Computing - Eine neue Ära des Hochleistungsrechnens
DESCRIPTION:Mit JUPITER geht am Forschungszentrum Jülich der erste europäische Supercomputer der Exascale-Klasse an den Start und wird damit wissenschaftliche Simulationen auf eine neue Stufe heben sowie Durchbrüche beim Einsatz künstlicher Intelligenz ermöglichen. \nWas macht diesen Rechner so besonders? \nWas bedeutet es\, so eine Maschine zu bauen? \nWofür braucht man sie? \nSolche und weitere Fragen werden im Rahmen dieses Vortrags näher beleuchtet und mit den Teilnehmenden diskutiert. \nHier mehr erfahren \n  \n 
URL:https://www.aachen.digital/en/event/exascale-computing/
LOCATION:Volkshochschule Rur-Eifel\, Violinengasse 2\, Düren\, 52349\, Germany
ATTACH;FMTTYPE=image/jpeg:https://www.aachen.digital/wp-content/uploads/2024/12/Stadt-Dueren-Super-Computer-Eventvisual-169-.jpg
END:VEVENT
END:VCALENDAR