BEGIN:VCALENDAR
VERSION:2.0
PRODID:-//digitalHUB Aachen - ECPv6.15.20//NONSGML v1.0//EN
CALSCALE:GREGORIAN
METHOD:PUBLISH
X-ORIGINAL-URL:https://www.aachen.digital/en/
X-WR-CALDESC:Events for digitalHUB Aachen
REFRESH-INTERVAL;VALUE=DURATION:PT1H
X-Robots-Tag:noindex
X-PUBLISHED-TTL:PT1H
BEGIN:VTIMEZONE
TZID:Europe/Berlin
BEGIN:DAYLIGHT
TZOFFSETFROM:+0100
TZOFFSETTO:+0200
TZNAME:CEST
DTSTART:20230326T010000
END:DAYLIGHT
BEGIN:STANDARD
TZOFFSETFROM:+0200
TZOFFSETTO:+0100
TZNAME:CET
DTSTART:20231029T010000
END:STANDARD
BEGIN:DAYLIGHT
TZOFFSETFROM:+0100
TZOFFSETTO:+0200
TZNAME:CEST
DTSTART:20240331T010000
END:DAYLIGHT
BEGIN:STANDARD
TZOFFSETFROM:+0200
TZOFFSETTO:+0100
TZNAME:CET
DTSTART:20241027T010000
END:STANDARD
BEGIN:DAYLIGHT
TZOFFSETFROM:+0100
TZOFFSETTO:+0200
TZNAME:CEST
DTSTART:20250330T010000
END:DAYLIGHT
BEGIN:STANDARD
TZOFFSETFROM:+0200
TZOFFSETTO:+0100
TZNAME:CET
DTSTART:20251026T010000
END:STANDARD
BEGIN:DAYLIGHT
TZOFFSETFROM:+0100
TZOFFSETTO:+0200
TZNAME:CEST
DTSTART:20260329T010000
END:DAYLIGHT
BEGIN:STANDARD
TZOFFSETFROM:+0200
TZOFFSETTO:+0100
TZNAME:CET
DTSTART:20261025T010000
END:STANDARD
END:VTIMEZONE
BEGIN:VEVENT
DTSTART;TZID=Europe/Berlin:20251209T133000
DTEND;TZID=Europe/Berlin:20251209T200000
DTSTAMP:20260423T201544
CREATED:20251113T103150Z
LAST-MODIFIED:20251113T103150Z
UID:10007535-1765287000-1765310400@www.aachen.digital
SUMMARY:ICNAP Open Industry Day
DESCRIPTION:✨ ICNAP Open Industry Day – Einladung nach Aachen! \nDas Fraunhofer IPT\, ILT und IME laden gemeinsam mit dem International Center for Networked\, Adaptive Production (ICNAP) alle Interessierten herzlich zum Open Industry Day ein – einem spannenden Tag rund um die Zukunft der Digitalisierung in der Produktion. \nWas erwartet Sie? \n🔹 Exklusive Führungen durch unsere Maschinenhalle und Labore \n🔹 Inspirierende Keynotes zu den Potenzialen von #KI in der Fertigung\, #5G und #Industrie40 \n🔹 Austausch- und Networking-Möglichkeiten mit Expertinnen und Experten aus Industrie und Forschung \nTeilnahme: kostenfrei \n📅 09. Dezember 2025 \n📍 Steinbachstr. 17\, 52072 Aachen \n👉 Jetzt anmelden bis zum 25. November 2025 \nDas Fraunhofer IPT\, ILT und IME freuen sich darauf\, Sie in Aachen begrüßen zu dürfen! \nANMELDUNG
URL:https://www.aachen.digital/en/event/icnap-open-industry-day-2/
LOCATION:Campus Melaten\, RWTH Aachen\, Deutschland
ATTACH;FMTTYPE=image/jpeg:https://www.aachen.digital/wp-content/uploads/2025/11/Design-ohne-Titel-24.jpg
END:VEVENT
BEGIN:VEVENT
DTSTART;TZID=Europe/Berlin:20240701T133000
DTEND;TZID=Europe/Berlin:20240701T143000
DTSTAMP:20260423T201544
CREATED:20240522T075607Z
LAST-MODIFIED:20240614T081306Z
UID:10006801-1719840600-1719844200@www.aachen.digital
SUMMARY:AI Everywhere - Generative AI for Production and Business Operations
DESCRIPTION:ChatGPT (Erzeugung von Text) und Dall-E (Erzeugung von Bildern) als prominente Beispiele für Generative KI werden bereits von vielen Menschen tagtäglich eingesetzt. Auch für die Industrie lassen sich zahlreiche Einsatzmöglichkeiten identifizieren. Eine systematische Aufbereitung der industriellen Anwendungsgebiete inklusive Best Practices und Implementierungsleitfäden fehlt allerdings aufgrund des Neuheitsgrades der Technologie. Dies adressieren wir in unserer ICNAP-Studie „AI Everywhere – Generative AI for Production and Business Operations“ am Fraunhofer IPT. In diesem Vortrag geben wir spannende Einblicke in die bisherigen Ergebnisse unserer Studie und zeigen Potenziale des Einsatzes von Generativer KI im industriellen Kontext. \nAgenda: \n\nEinführung in die Grundlagen der Künstlichen Intelligenz (KI)\nPotenziale der Nutzung von KI in der Industrie\nGenerative KI: Definition\, Modalitäten und Beispiele\nVorgehen in der Studie „AI Everywhere – Generative AI for Production and Business Operations“\nBeispiele für Anwendungsgebiete Generativer KI im industriellen Kontext\nFragen und Ausblick\n\nDieses Event ist Teil der STARTUP WEEK AACHEN. \nJetzt anmelden \n  \nSTARTUP WEEK AACHEN: \nVom 01.07.2024 bis zum 05.07.2024 kommt die gesamte Startup-Szene der Aachener Region zusammen und teilt mit euch Know-how und spannende\, innovative Ideen für die Zukunft! In dieser Woche erwarten euch zahlreiche Veranstaltungen rund um die Themen Startup\, Wachstum\, Digitalisierung und Innovation. Das Angebot reicht von Workshops\, Keynotes und TalkUp Stories bis hin zum TOP-Event: #neuland x atec am 02. und 03.07.2024 (Aachener Technologie- und Entrepreneurship-Kongress). \nZur Webseite
URL:https://www.aachen.digital/en/event/ai-everywhere-generative-ai-for-production-and-business-operations/
LOCATION:digitalHUB Aachen\, Jülicher Str. 72a\, Aachen\, Nordrhein-Westfalen\, 52070\, Germany
ATTACH;FMTTYPE=image/jpeg:https://www.aachen.digital/wp-content/uploads/2024/06/stage-startupweek.jpg
END:VEVENT
END:VCALENDAR