BEGIN:VCALENDAR
VERSION:2.0
PRODID:-//digitalHUB Aachen - ECPv6.15.20//NONSGML v1.0//EN
CALSCALE:GREGORIAN
METHOD:PUBLISH
X-ORIGINAL-URL:https://www.aachen.digital/en/
X-WR-CALDESC:Events for digitalHUB Aachen
REFRESH-INTERVAL;VALUE=DURATION:PT1H
X-Robots-Tag:noindex
X-PUBLISHED-TTL:PT1H
BEGIN:VTIMEZONE
TZID:Europe/Berlin
BEGIN:DAYLIGHT
TZOFFSETFROM:+0100
TZOFFSETTO:+0200
TZNAME:CEST
DTSTART:20170326T010000
END:DAYLIGHT
BEGIN:STANDARD
TZOFFSETFROM:+0200
TZOFFSETTO:+0100
TZNAME:CET
DTSTART:20171029T010000
END:STANDARD
BEGIN:DAYLIGHT
TZOFFSETFROM:+0100
TZOFFSETTO:+0200
TZNAME:CEST
DTSTART:20180325T010000
END:DAYLIGHT
BEGIN:STANDARD
TZOFFSETFROM:+0200
TZOFFSETTO:+0100
TZNAME:CET
DTSTART:20181028T010000
END:STANDARD
BEGIN:DAYLIGHT
TZOFFSETFROM:+0100
TZOFFSETTO:+0200
TZNAME:CEST
DTSTART:20190331T010000
END:DAYLIGHT
BEGIN:STANDARD
TZOFFSETFROM:+0200
TZOFFSETTO:+0100
TZNAME:CET
DTSTART:20191027T010000
END:STANDARD
BEGIN:DAYLIGHT
TZOFFSETFROM:+0100
TZOFFSETTO:+0200
TZNAME:CEST
DTSTART:20200329T010000
END:DAYLIGHT
BEGIN:STANDARD
TZOFFSETFROM:+0200
TZOFFSETTO:+0100
TZNAME:CET
DTSTART:20201025T010000
END:STANDARD
BEGIN:DAYLIGHT
TZOFFSETFROM:+0100
TZOFFSETTO:+0200
TZNAME:CEST
DTSTART:20210328T010000
END:DAYLIGHT
BEGIN:STANDARD
TZOFFSETFROM:+0200
TZOFFSETTO:+0100
TZNAME:CET
DTSTART:20211031T010000
END:STANDARD
BEGIN:DAYLIGHT
TZOFFSETFROM:+0100
TZOFFSETTO:+0200
TZNAME:CEST
DTSTART:20220327T010000
END:DAYLIGHT
BEGIN:STANDARD
TZOFFSETFROM:+0200
TZOFFSETTO:+0100
TZNAME:CET
DTSTART:20221030T010000
END:STANDARD
BEGIN:DAYLIGHT
TZOFFSETFROM:+0100
TZOFFSETTO:+0200
TZNAME:CEST
DTSTART:20230326T010000
END:DAYLIGHT
BEGIN:STANDARD
TZOFFSETFROM:+0200
TZOFFSETTO:+0100
TZNAME:CET
DTSTART:20231029T010000
END:STANDARD
BEGIN:DAYLIGHT
TZOFFSETFROM:+0100
TZOFFSETTO:+0200
TZNAME:CEST
DTSTART:20240331T010000
END:DAYLIGHT
BEGIN:STANDARD
TZOFFSETFROM:+0200
TZOFFSETTO:+0100
TZNAME:CET
DTSTART:20241027T010000
END:STANDARD
BEGIN:DAYLIGHT
TZOFFSETFROM:+0100
TZOFFSETTO:+0200
TZNAME:CEST
DTSTART:20250330T010000
END:DAYLIGHT
BEGIN:STANDARD
TZOFFSETFROM:+0200
TZOFFSETTO:+0100
TZNAME:CET
DTSTART:20251026T010000
END:STANDARD
END:VTIMEZONE
BEGIN:VEVENT
DTSTART;TZID=Europe/Berlin:20241202T133000
DTEND;TZID=Europe/Berlin:20241202T200000
DTSTAMP:20260423T192312
CREATED:20241016T125057Z
LAST-MODIFIED:20241126T102720Z
UID:10006892-1733146200-1733169600@www.aachen.digital
SUMMARY:ICNAP Open Industry Day
DESCRIPTION:Innovation hautnah: ICNAP lädt zum Open Industry Day ein \nDas International Center for Networked\, Adaptive Production (ICNAP) der Aachener Fraunhofer-Institute ist ein Netzwerk von Industrieunternehmen und Forschungseinrichtungen und erarbeitet Lösungen für eine vernetzte\, adaptive Produktion. Am 02.12.2024 veranstaltet ICNAP einen kostenlosen »Open Industry Day«\, der sich dem Thema Digitalisierung in der Produktion widmet\, und lädt alle Interessierten nach Aachen ein. Gastgeber sind das Fraunhofer-Institut für Produktionstechnologie IPT\, das Fraunhofer-Institut für Lasertechnik ILT sowie das Fraunhofer-Institut für Molekularbiologie und Angewandte Oekologie IME. Der Open Day bietet produzierenden Unternehmen und Anbietern von Digitalisierungslösungen die Gelegenheit\, verschiedene Anwendungen von Industry 4.0 in der Produktion zu entdecken. \n  \nDas Programm umfasst: \n\nFührungen durch die Maschinenhallen und Labore\,\nKeynote-Vorträge von Fraunhofer-Expert:innen\,\nDiskussionen mit Forscherinnen und Forschern der beteiligten Institute und und der Industrie-Community sowie\neine Industrieausstellung der ICNAP-Partner.\n\n  \nDer Eintritt ist kostenfrei. Die Veranstaltung richtet sich an produzierende Unternehmen und digitale Enabler\, die an der Gestaltung der Fabrik der Zukunft interessiert sind. \nZUR ANMELDUNG
URL:https://www.aachen.digital/en/event/icnap-open-industry-day/
LOCATION:Fraunhofer IPT\, Steinbachstraße 17\, Aachen\, 52074\, Germany
ATTACH;FMTTYPE=image/jpeg:https://www.aachen.digital/wp-content/uploads/2024/10/Kopie-von-Eventvisuals-169-1920x1080-1.jpg
END:VEVENT
BEGIN:VEVENT
DTSTART;TZID=Europe/Berlin:20220517T140000
DTEND;TZID=Europe/Berlin:20220517T173000
DTSTAMP:20260423T192312
CREATED:20220502T094218Z
LAST-MODIFIED:20220512T093728Z
UID:10006237-1652796000-1652808600@www.aachen.digital
SUMMARY:LamA: Laden am Arbeitsplatz - Zeitenwende Elektromobilität?
DESCRIPTION:Die Bereitstellung bzw. Schaffung einer Infrastruktur für Elektrofahrzeuge bietet Unternehmen die einzigartige Chance\, den Wandel zur nachhaltigen Mobilität mitzugestalten. Die konkrete Umsetzung wirft jedoch noch viele Fragen auf: Welche Herausforderungen treten bei der Errichtung und dem Betrieb der Ladeinfrastruktur auf? Mit welchen Lösungsansätzen können diese gemeistert werden? Mit dem Projekt »LamA – Laden am Arbeitsplatz« erprobt die Fraunhofer-Gesellschaft bundesweit die Herausforderungen einer Ladeinfrastruktur und plant\, die daraus gewonnenen Erkenntnisse für interessierte Unternehmen zugänglich zu machen. Bei dieser Veranstaltung sprechen Expert*innen aus dem Großraum Aachen über ihre Erfahrungen bei der Umsetzung von Elektromobilität und Ladeinfrastruktur. \nMit dem Ziel\, Elektromobilität bei Unternehmen voranzutreiben und einem breiten Kreis von Nutzenden zugänglich zu machen\, wird im Zuge des Verbundprojekts »LamA – Laden am Arbeitsplatz« bundesweit an 38 Fraunhofer-Instituten eine Ladeinfrastruktur für Elektrofahrzeuge installiert. Insgesamt werden ca. 500 Ladepunkte für Mitarbeitende\, Dienstwagenflotten und Dritte zur Verfügung stehen. \nDie dabei aufkommenden Herausforderungen und das erworbene Wissen möchte das Fraunhofer IAO gemeinsam mit Partnern an Unternehmen und Interessierte weitergeben und somit beim Transformationsprozess zu einer nachhaltigen Mobilität unterstützen. Bei dieser Veranstaltung werfen wir einen konkreten Blick auf die Umsetzung im Großraum Aachen. \nDie Themen im Überblick: \n\nLaden am Arbeitsplatz: 6 Schritte zur Implementierung einer Ladeinfrastruktur\nLaden am Arbeitsplatz: Technologie- und Lösungsangebote\nEnergie- und Verkehrswende gemeinsam gestalten\nUnterstützungs- und Fördermöglichkeiten für E-Mobilität\nHerausforderungen und Chancen bei der Erstellung einer Ladeinfrastruktur\nHerausforderung Elektromobilität aus Sicht des Netzbetreibers\nProjekt ALigN: Ausbau von Ladeinfrastruktur – Herausforderungen und Optimierungsansätze\nBest Practice: umlaut energy GmbH\nPodiumsdiskussion mit den Referent*innen\n\nWeitere Informationen und Anmeldung: hier
URL:https://www.aachen.digital/en/event/lama-laden-am-arbeitsplatz-zeitenwende-elektromobilitaet/
LOCATION:Jülicher Strasse 72a\, Aachen\, 52070\, Germany
ATTACH;FMTTYPE=image/jpeg:https://www.aachen.digital/wp-content/uploads/2022/05/stage_mobilitaet.jpg
END:VEVENT
BEGIN:VEVENT
DTSTART;VALUE=DATE:20190206
DTEND;VALUE=DATE:20190208
DTSTAMP:20260423T192312
CREATED:20190205T093136Z
LAST-MODIFIED:20190205T093305Z
UID:10004910-1549411200-1549583999@www.aachen.digital
SUMMARY:ICTM Conference 2019 in Aachen
DESCRIPTION:
URL:https://www.aachen.digital/en/event/ictm-conference-2019-in-aachen/
LOCATION:Eurogress Aachen\, Monheimsallee 48\, Aachen\, NRW\, 52062\, Deutschland
ATTACH;FMTTYPE=image/jpeg:https://www.aachen.digital/wp-content/uploads/2019/01/fraunhofer-1024x281-1-1.jpg
END:VEVENT
BEGIN:VEVENT
DTSTART;TZID=Europe/Berlin:20180904T150000
DTEND;TZID=Europe/Berlin:20180904T190000
DTSTAMP:20260423T192312
CREATED:20180619T151452Z
LAST-MODIFIED:20181211T081226Z
UID:10004780-1536073200-1536087600@www.aachen.digital
SUMMARY:Aachener Smart Glasses Day - Der Arbeitsplatz der Zukunft
DESCRIPTION:Am 4. September in der DIGITAL CHURCH Datenbrillen hautnah erleben!\nDer Aachener Smart Glasses Day richtet sich an Mitarbeiter und Führungskräfte aus den Bereichen Produktion\, Logistik und Service sowie an interessierte Aachener und Studenten. \nDer digitalHUB Aachen e.V.\, das Fraunhofer-Institut für Produktionstechnologie IPT und die Aachener Smart Glasses Unternehmen oculavis GmbH und Picavi GmbH präsentieren verschiedene Anwendungen mit Smart Glasses und Augmented Reality. \nErfahren Sie mehr über die beeindruckenden Technologien in praxisorientierten Vorträgen und erleben Sie die Anwendungen und Geräte live an den Demoständen der Aussteller. \nAgenda\n15:00 – 16:00 Uhr\nAnkunft und Livetests von Smart Glasses an den Demoständen\n16:00 – 16:15 Uhr\n„digitalHUB Aachen – Smart Ecosystem“ (digitalHUB Aachen e.V.)\n16:15 – 16:45 Uhr\nVortrag „Von der Regelkarte zur Smart Glass – Das Qualitätsmanagement wird digital“ (Fraunhofer-Institut für Produktionstechnologie IPT)\n16:45 – 17:15 Uhr\n„Science Fiction oder Realität? Smart Glasses in Produktion und Service“ (oculavis GmbH\, Dr. Markus Große Böckmann)\n17:15 – 17:45 Uhr\nVortrag „Erfolgsfaktor Datenbrille: Die intuitive Unterstützung des Menschen “ (Picavi GmbH\, Marie-Louis Mersch)\nab 17:45 Uhr\nSnacks und Livetests von Smart Glasses an den Demoständen \nWann:\nAm 04. September 2018 ab 15:00 Uhr. \nWo:\nDIGITAL CHURCH \ndigitalHUB Aachen\nin der DIGITAL CHURCH\nJülicherstr. 72a\n52070 Aachen \nAnmeldung:\nDer Eintritt ist frei\, eine Anmeldung unter folgendem Link ist erforderlich: aachener-smart-glasses-day.eventbrite.de
URL:https://www.aachen.digital/en/event/aachener-smart-glasses-day-der-arbeitsplatz-der-zukunft/
LOCATION:digitalHUB Aachen\, Jülicher Str. 72a\, Aachen\, Nordrhein-Westfalen\, 52070\, Germany
ATTACH;FMTTYPE=image/jpeg:https://www.aachen.digital/wp-content/uploads/2018/06/1486558537015_oculavis-SHARE-BannerDE.jpg
ORGANIZER;CN="digitalHUB Aachen":MAILTO:kontakt@hubaachen.de
END:VEVENT
END:VCALENDAR