BEGIN:VCALENDAR
VERSION:2.0
PRODID:-//digitalHUB Aachen - ECPv6.15.20//NONSGML v1.0//EN
CALSCALE:GREGORIAN
METHOD:PUBLISH
X-WR-CALNAME:digitalHUB Aachen
X-ORIGINAL-URL:https://www.aachen.digital/en/
X-WR-CALDESC:Events for digitalHUB Aachen
REFRESH-INTERVAL;VALUE=DURATION:PT1H
X-Robots-Tag:noindex
X-PUBLISHED-TTL:PT1H
BEGIN:VTIMEZONE
TZID:Europe/Berlin
BEGIN:DAYLIGHT
TZOFFSETFROM:+0100
TZOFFSETTO:+0200
TZNAME:CEST
DTSTART:20240331T010000
END:DAYLIGHT
BEGIN:STANDARD
TZOFFSETFROM:+0200
TZOFFSETTO:+0100
TZNAME:CET
DTSTART:20241027T010000
END:STANDARD
BEGIN:DAYLIGHT
TZOFFSETFROM:+0100
TZOFFSETTO:+0200
TZNAME:CEST
DTSTART:20250330T010000
END:DAYLIGHT
BEGIN:STANDARD
TZOFFSETFROM:+0200
TZOFFSETTO:+0100
TZNAME:CET
DTSTART:20251026T010000
END:STANDARD
BEGIN:DAYLIGHT
TZOFFSETFROM:+0100
TZOFFSETTO:+0200
TZNAME:CEST
DTSTART:20260329T010000
END:DAYLIGHT
BEGIN:STANDARD
TZOFFSETFROM:+0200
TZOFFSETTO:+0100
TZNAME:CET
DTSTART:20261025T010000
END:STANDARD
END:VTIMEZONE
BEGIN:VEVENT
DTSTART;TZID=Europe/Berlin:20250514T130000
DTEND;TZID=Europe/Berlin:20250515T140000
DTSTAMP:20260423T192313
CREATED:20250324T084422Z
LAST-MODIFIED:20250324T084422Z
UID:10007284-1747227600-1747317600@www.aachen.digital
SUMMARY:TuWAs-Netzwerktage
DESCRIPTION:Die Automobilindustrie erlebt gegenwärtig einen tiefgreifenden Wandel\, getrieben von mehreren gleichzeitig wirkenden Trends. Unternehmen stehen vor der Herausforderung\, ihre Wertschöpfungsketten und Geschäftsmodelle zukunftsorientiert auszurichten\, insbesondere\, wenn sie bisher als Zulieferer der Automobilindustrie Teile für den Verbrennungsmotor produzieren und nun den Übergang zur E-Mobilität erfolgreich gestalten müssen. \nErfahren Sie bei den zweiten TuWAs-Netzwerktagen\, wie Sie Ihre Wertschöpfungsmodelle im Strukturwandel der Automobilindustrie neu ausrichten sowie Produkte und Prozesse an geänderte Anforderungen anpassen können. Es erwarten Sie Fachvorträge und Praxisworkshops in den vier Themenfeldern Neue Märkte\, Energie\, Digitalisierung und Flexibilisierung der Produktion sowie eine Führung durch die Demonstrationsfabrik Aachen. \nDiskutieren Sie mit Expert:innen und Branchenvertreter:innen. Nutzen Sie die Nutzwerktage als Forum für Wissen und Austausch. \nHier kostenfrei anmelden!
URL:https://www.aachen.digital/en/event/tuwas-netzwerktage/
LOCATION:FIR-Konferenzzentrum auf dem RWTH Aachen Campus\, Campus-Boulevard 55\, Aachen\, 52074\, Germany
ATTACH;FMTTYPE=image/png:https://www.aachen.digital/wp-content/uploads/2025/03/TuWAs-Netzwerktage.png
END:VEVENT
END:VCALENDAR