BEGIN:VCALENDAR
VERSION:2.0
PRODID:-//digitalHUB Aachen - ECPv6.15.20//NONSGML v1.0//EN
CALSCALE:GREGORIAN
METHOD:PUBLISH
X-ORIGINAL-URL:https://www.aachen.digital/en/
X-WR-CALDESC:Events for digitalHUB Aachen
REFRESH-INTERVAL;VALUE=DURATION:PT1H
X-Robots-Tag:noindex
X-PUBLISHED-TTL:PT1H
BEGIN:VTIMEZONE
TZID:Europe/Berlin
BEGIN:DAYLIGHT
TZOFFSETFROM:+0100
TZOFFSETTO:+0200
TZNAME:CEST
DTSTART:20200329T010000
END:DAYLIGHT
BEGIN:STANDARD
TZOFFSETFROM:+0200
TZOFFSETTO:+0100
TZNAME:CET
DTSTART:20201025T010000
END:STANDARD
BEGIN:DAYLIGHT
TZOFFSETFROM:+0100
TZOFFSETTO:+0200
TZNAME:CEST
DTSTART:20210328T010000
END:DAYLIGHT
BEGIN:STANDARD
TZOFFSETFROM:+0200
TZOFFSETTO:+0100
TZNAME:CET
DTSTART:20211031T010000
END:STANDARD
BEGIN:DAYLIGHT
TZOFFSETFROM:+0100
TZOFFSETTO:+0200
TZNAME:CEST
DTSTART:20220327T010000
END:DAYLIGHT
BEGIN:STANDARD
TZOFFSETFROM:+0200
TZOFFSETTO:+0100
TZNAME:CET
DTSTART:20221030T010000
END:STANDARD
END:VTIMEZONE
BEGIN:VEVENT
DTSTART;TZID=Europe/Berlin:20210520T090000
DTEND;TZID=Europe/Berlin:20210520T160000
DTSTAMP:20260423T230356
CREATED:20210511T112001Z
LAST-MODIFIED:20210519T093911Z
UID:10005449-1621501200-1621526400@www.aachen.digital
SUMMARY:Co-creation Workshop: “Welche Vorteile kann die neue 5G Technologie Ihrem Unternehmen bieten?"
DESCRIPTION:Beschleunigen Sie Ihre digitale Transformation mit unseren Workshops \nWir bieten halb- oder ganztägige\, ergebnisorientierte Workshops im Rahmen unseres Fujitsu Co-creating Program an. Sie basieren auf einer Auswahl von Themen\, die zusammengestellt wurden\, um bei der Zukunftsgestaltung Ihres Unternehmens zu helfen. Sie entscheiden\, wer teilnimmt und wo der Workshop stattfindet. Sie können sich zwischen einem der Fujitsu Digital Transformation Center (DTC)\, dem mobilen DTC\, bei dem wir mit dem Workshop Equipment zu Ihnen kommen\, oder der virtuellen Co-creation Experience im virtuellen Raum entscheiden. \nWir geben Ihnen gerne Tipps für die Auswahl der Teilnehmer und Vorbereitung der Workshops. Grundsätzlich sollten Sie den Workshop (im DTC oder als Standalone-Variante) als gemeinsame Investition von Ihrem Unternehmen und Fujitsu betrachten. Denn es handelt sich dabei nicht um einen honorarpflichtigen Beratungsauftrag\, sondern um ein Projekt mit Beteiligten aus Ihrem und unserem Unternehmen\, von dem wir beide profitieren. \n\nCo-creating Program\nHuman Centric Experience Design\nCase Studies\n\nWenn Sie Interesse haben und sich in der Pascalstraße befinden\, melden Sie sich gerne bei roman.vonderlohe@hubaachen.de
URL:https://www.aachen.digital/en/event/co-creation-workshop-welche-vorteile-kann-die-neue-5g-technologie-ihrem-unternehmen-bieten/
LOCATION:Jülicher Strasse 72a\, Aachen\, 52070\, Germany
ATTACH;FMTTYPE=image/png:https://www.aachen.digital/wp-content/uploads/2021/05/Design-ohne-Titel.png
END:VEVENT
END:VCALENDAR