BEGIN:VCALENDAR
VERSION:2.0
PRODID:-//digitalHUB Aachen - ECPv6.15.20//NONSGML v1.0//EN
CALSCALE:GREGORIAN
METHOD:PUBLISH
X-ORIGINAL-URL:https://www.aachen.digital/en/
X-WR-CALDESC:Events for digitalHUB Aachen
REFRESH-INTERVAL;VALUE=DURATION:PT1H
X-Robots-Tag:noindex
X-PUBLISHED-TTL:PT1H
BEGIN:VTIMEZONE
TZID:Europe/Berlin
BEGIN:DAYLIGHT
TZOFFSETFROM:+0100
TZOFFSETTO:+0200
TZNAME:CEST
DTSTART:20200329T010000
END:DAYLIGHT
BEGIN:STANDARD
TZOFFSETFROM:+0200
TZOFFSETTO:+0100
TZNAME:CET
DTSTART:20201025T010000
END:STANDARD
BEGIN:DAYLIGHT
TZOFFSETFROM:+0100
TZOFFSETTO:+0200
TZNAME:CEST
DTSTART:20210328T010000
END:DAYLIGHT
BEGIN:STANDARD
TZOFFSETFROM:+0200
TZOFFSETTO:+0100
TZNAME:CET
DTSTART:20211031T010000
END:STANDARD
BEGIN:DAYLIGHT
TZOFFSETFROM:+0100
TZOFFSETTO:+0200
TZNAME:CEST
DTSTART:20220327T010000
END:DAYLIGHT
BEGIN:STANDARD
TZOFFSETFROM:+0200
TZOFFSETTO:+0100
TZNAME:CET
DTSTART:20221030T010000
END:STANDARD
BEGIN:DAYLIGHT
TZOFFSETFROM:+0100
TZOFFSETTO:+0200
TZNAME:CEST
DTSTART:20230326T010000
END:DAYLIGHT
BEGIN:STANDARD
TZOFFSETFROM:+0200
TZOFFSETTO:+0100
TZNAME:CET
DTSTART:20231029T010000
END:STANDARD
END:VTIMEZONE
BEGIN:VEVENT
DTSTART;TZID=Europe/Berlin:20220707T163000
DTEND;TZID=Europe/Berlin:20220707T180000
DTSTAMP:20260424T001644
CREATED:20220613T101852Z
LAST-MODIFIED:20220704T102349Z
UID:10006266-1657211400-1657216800@www.aachen.digital
SUMMARY:Open Innovation Lounge Vol.3
DESCRIPTION:Find Your Path: Different Approaches to Open Innovation.\nOpen Innovation ermöglicht zukunftsweisende Ideen auch außerhalb traditioneller Firmestrukturen. Wie das aussehen kann? \nZusammen mit RWTH Aachen sind wir Partner der virtuellen Eventreihe Open Innovation Lounge von German Entrepreneurship. Im Zentrum dieser Ausgabe stehen diesmal die verschiedenen Ansätze von Open Innovation\, die es Unternehmen ermöglicht\, zukunftsweisende Ideen\, Innovationen und Entwicklungen sowohl in als auch außerhalb der traditionellen Firmenstruktur zu finden. Die große Vielfalt an Möglichkeiten ermöglicht eine passgenaue Lösung für jedes Unternehmen. \nMit Venturing Partnership\, Venture Client und Corporate Venture Capital beleuchten wir drei dieser Kollaborationsmodelle genauer und thematisieren die Möglichkeiten\, sich darüber Open Innovation zu nähern so wie Chancen als auch Risiken der einzelnen Ansätze. \nINFORMATIONEN & ANMELDUNG
URL:https://www.aachen.digital/en/event/open-innovation-lounge-vol-3/
LOCATION:Jülicher Strasse 72a\, Aachen\, 52070\, Germany
ATTACH;FMTTYPE=image/png:https://www.aachen.digital/wp-content/uploads/2022/06/GE_2022_OIL_Visual_WS_Header-2.png
END:VEVENT
BEGIN:VEVENT
DTSTART;TZID=Europe/Berlin:20210916T163000
DTEND;TZID=Europe/Berlin:20210916T173000
DTSTAMP:20260424T001644
CREATED:20210817T133603Z
LAST-MODIFIED:20210908T110440Z
UID:10006004-1631809800-1631813400@www.aachen.digital
SUMMARY:Open Innovation Lounge Vol 2: Startup Collaboration - A Clash of Cultures?
DESCRIPTION:In Kooperation mit der RWTH Aachen und dem digitalHUB Aachen widmet sich die German Entrepreneurship GmbH in ihrer zweiten Ausgabe der “Open Innovation Lounge” der Frage: “Startup Collaboration – A Clash of Cultures?”. \nWir thematisieren die Schwierigkeiten einer Kollaboration und wie der Weg geebnet werden kann\, damit die Zusammenarbeit von Unternehmen und Startups gelingt.
URL:https://www.aachen.digital/en/event/open-innovation-lounge-vol-2/
LOCATION:Jülicher Strasse 72a\, Aachen\, 52070\, Germany
ATTACH;FMTTYPE=image/jpeg:https://www.aachen.digital/wp-content/uploads/2021/08/stage-OIL1-1.jpg
END:VEVENT
END:VCALENDAR