BEGIN:VCALENDAR
VERSION:2.0
PRODID:-//digitalHUB Aachen - ECPv6.15.20//NONSGML v1.0//EN
CALSCALE:GREGORIAN
METHOD:PUBLISH
X-WR-CALNAME:digitalHUB Aachen
X-ORIGINAL-URL:https://www.aachen.digital/en/
X-WR-CALDESC:Events for digitalHUB Aachen
REFRESH-INTERVAL;VALUE=DURATION:PT1H
X-Robots-Tag:noindex
X-PUBLISHED-TTL:PT1H
BEGIN:VTIMEZONE
TZID:Europe/Berlin
BEGIN:DAYLIGHT
TZOFFSETFROM:+0100
TZOFFSETTO:+0200
TZNAME:CEST
DTSTART:20220327T010000
END:DAYLIGHT
BEGIN:STANDARD
TZOFFSETFROM:+0200
TZOFFSETTO:+0100
TZNAME:CET
DTSTART:20221030T010000
END:STANDARD
BEGIN:DAYLIGHT
TZOFFSETFROM:+0100
TZOFFSETTO:+0200
TZNAME:CEST
DTSTART:20230326T010000
END:DAYLIGHT
BEGIN:STANDARD
TZOFFSETFROM:+0200
TZOFFSETTO:+0100
TZNAME:CET
DTSTART:20231029T010000
END:STANDARD
BEGIN:DAYLIGHT
TZOFFSETFROM:+0100
TZOFFSETTO:+0200
TZNAME:CEST
DTSTART:20240331T010000
END:DAYLIGHT
BEGIN:STANDARD
TZOFFSETFROM:+0200
TZOFFSETTO:+0100
TZNAME:CET
DTSTART:20241027T010000
END:STANDARD
BEGIN:DAYLIGHT
TZOFFSETFROM:+0100
TZOFFSETTO:+0200
TZNAME:CEST
DTSTART:20250330T010000
END:DAYLIGHT
BEGIN:STANDARD
TZOFFSETFROM:+0200
TZOFFSETTO:+0100
TZNAME:CET
DTSTART:20251026T010000
END:STANDARD
END:VTIMEZONE
BEGIN:VEVENT
DTSTART;TZID=Europe/Berlin:20241010T170000
DTEND;TZID=Europe/Berlin:20241010T213000
DTSTAMP:20260423T214953
CREATED:20241008T105736Z
LAST-MODIFIED:20241008T105736Z
UID:10006879-1728579600-1728595800@www.aachen.digital
SUMMARY:Meet\, Greet + Beat\, Vol. 3 in Düsseldorf
DESCRIPTION:Im Oktober geht die Roadshow Meet\, Greet + Beat\, Vol. 3 mit einem Stopp in Düsseldorf zu Ende. Die Sieger:innen-Teams der sechs vorangegangenen Veranstaltungen sind zum großen Finale eingeladen. In einem letzten Pitch-Wettbewerb treten die sechs Teams gegeneinander an und sorgen für Nervenkitzel: Wer schafft es\, sich durchzusetzen und den Hauptgewinn in Höhe von 5.000 Euro mit nach Hause zu nehmen? Dem zweitplatzierten Startup winkt zudem ein Preisgeld in Höhe von 3.000 Euro. Und auch das Publikum stimmt ab und entscheidet\, welches Startup sich über den Publikumspreis in Höhe von 1.000 Euro freuen darf. \nNeben Spannung und Inspiration im Pitch-Wettbewerb gibt es mit Themenimpulsen und Networking-Angeboten von unseren Partner:innen aus der Region wieder ein spannendes Rahmenprogramm für Gründungsinteressierte und Gründende! \nFür Aachen tritt das Team von RecyCoal GmbH an. Wir drücken die Daumen! \nINFOS & ANMELDUNG
URL:https://www.aachen.digital/en/event/meet-greet-beat-vol-3-in-duesseldorf/
LOCATION:Philosophische Fakultät Uni Düsseldorf\, Universitätsstraße 1\, Düsseldorf\, 40225
ATTACH;FMTTYPE=image/jpeg:https://www.aachen.digital/wp-content/uploads/2024/06/Meet-Greet-stage-1632-x-644-px.jpg
END:VEVENT
BEGIN:VEVENT
DTSTART;TZID=Europe/Berlin:20240618T170000
DTEND;TZID=Europe/Berlin:20240618T203000
DTSTAMP:20260423T214953
CREATED:20240607T093849Z
LAST-MODIFIED:20240607T093849Z
UID:10006175-1718730000-1718742600@www.aachen.digital
SUMMARY:Meet\, Greet + Beat\, Vol. 3 – Die Roadshow für Gründende in NRW
DESCRIPTION:Im Juni geht’s mit Meet\, Greet + Beat\, Vol. 3 in die Dom-Stadt am Rhein – nach Köln. \nDie Veranstaltung findet im KOMED-Saal im Mediapark statt. Euch erwarten fünf spannende Pitches von Start-ups aus der Region: Die beste zukunftsweisende Gründungsidee gewinnt und das Gründungsteam zieht in das große Düsseldorfer-Finale im Herbst 2024 ein! \nDazu gibt es wieder zahlreiche Networking-Angebote\, Impulse und Inspiration – für Gründende und die\, die es werden wollen. \nZUR ANMELDUNG
URL:https://www.aachen.digital/en/event/meet-greet-beat-vol-3-die-roadshow-fuer-gruendende-in-nrw/
LOCATION:Mediapark Köln\, Im Mediapark 7\, Köln\, 50670
ATTACH;FMTTYPE=image/jpeg:https://www.aachen.digital/wp-content/uploads/2024/06/Meet-Greet-stage-1632-x-644-px.jpg
END:VEVENT
BEGIN:VEVENT
DTSTART;TZID=Europe/Berlin:20240418T170000
DTEND;TZID=Europe/Berlin:20240418T203000
DTSTAMP:20260423T214953
CREATED:20240208T093712Z
LAST-MODIFIED:20240208T093712Z
UID:10006731-1713459600-1713472200@www.aachen.digital
SUMMARY:Meet\, Greet + Beat – Das Gründungsevent in NRW
DESCRIPTION:In der dritten Auflage von Meet\, Greet + Beat dreht sich alles um die Themen Social Entrepreneurship und Klimaschutz. Fünf Start-ups pitchen ihre zukunftsweisenden Gründungsideen vor einer Jury\, mit der Chance auf den Einzug ins große Roadshow-Finale in Düsseldorf. Kreative Ideen\, spannende Antworten auf die großen Fragen unserer Zeit und die richtige Prise Nervenkitzel sind also vorprogrammiert. Seid dabei und überzeugt euch selbst davon\, wie Innovationskraft und der Wille zur positiven Mitgestaltung unseres Lebensraums und Zusammenlebens das Gründungsland NRW prägen. \nIhr habt selbst eine Gründungsidee\, mit der ihr zur Lösung sozialer Probleme beitragt oder euch für den Klimaschutz einsetzt? Dann erweitert euer Netzwerk und holt für euer Gründungsvorhaben die richtigen Partner:innen aus der regionalen Gründungsszene an Bord! Ein gutes Netzwerk und ein direkter Zugang zu Förder- und Beratungsmöglichkeiten sind das A und O für eure erfolgreiche Gründung. Ganz egal\, ob ihr bereits erfolgreich gegründet habt\, noch mit dem Gedanken spielt oder aktuell auf der Suche nach den passenden Partner:innen für euer Gründungsvorhaben seid. \nLangweilige Frontalveranstaltungen und steife Netzwerk-Events gehören der Vergangenheit an: Bei Meet\, Greet + Beat erwarten euch spannende Angebote und neue Kontakte im Rahmen einer kurzweiligen Abendveranstaltung in gemütlicher Lounge-Atmosphäre! \nErfahre mehr
URL:https://www.aachen.digital/en/event/meet-greet-beat-das-gruendungsevent-in-nrw/
LOCATION:Akzelerator OWL\, Driburger Str. 73\, Paderborn\, 33100
ATTACH;FMTTYPE=image/jpeg:https://www.aachen.digital/wp-content/uploads/2024/02/Meet-Greet-stage-1632-x-644-px.jpg
END:VEVENT
BEGIN:VEVENT
DTSTART;TZID=Europe/Berlin:20230526T180000
DTEND;TZID=Europe/Berlin:20230526T220000
DTSTAMP:20260423T214953
CREATED:20230322T125334Z
LAST-MODIFIED:20230511T120741Z
UID:10006436-1685124000-1685138400@www.aachen.digital
SUMMARY:Roadshow Meet\, Greet & Beat 2023/2024
DESCRIPTION:Die Veranstaltungssprache ist Deutsch. \nDie diesjährige Roadshow Meet\, Greet & Beat 2023/2024 startet in Aachen. Auf der Roadshow Pitchen fünf ausgewählte Teams aus der Region\, die das Gründerstipendium NRW erhalten haben. Die Gewinner aus der Region erhalten Preise und der Gewinner des Abends wird zu Folgeveranstaltungen eingeladen. \nHier sollen Gründer:innen\, die das Gründerstipendium erhalten haben\, die Möglichkeit bekommen sich zu Präsentieren. Mehr noch als zuvor sollen innovative unternehmerische Vorhaben von Gründerstipendiat:innen im Fokus der Veranstaltungsreihe stehen\, die einen Beitrag zur Lösung gesellschaftlicher\, d.h. sozialer und ökologischer Herausforderungen leisten. \nDabei sind: \n\nBeeBag\nEnmatch\nRecycoal\nUpstair\n\nMEHR INFOS & KOSTENLOSE ANMELDUNG \nDieses Event findet im Rahmen der STARTUP WEEK AACHEN 2023 statt.
URL:https://www.aachen.digital/en/event/roadshow-meet-greet-beat-2023-2024/
LOCATION:digitalHUB Aachen\, Jülicher Str. 72a\, Aachen\, Nordrhein-Westfalen\, 52070\, Germany
ATTACH;FMTTYPE=image/jpeg:https://www.aachen.digital/wp-content/uploads/2023/03/SUW-Stage-1632-×-644-px.jpg
END:VEVENT
END:VCALENDAR