BEGIN:VCALENDAR
VERSION:2.0
PRODID:-//digitalHUB Aachen - ECPv6.15.20//NONSGML v1.0//EN
CALSCALE:GREGORIAN
METHOD:PUBLISH
X-WR-CALNAME:digitalHUB Aachen
X-ORIGINAL-URL:https://www.aachen.digital/en/
X-WR-CALDESC:Events for digitalHUB Aachen
REFRESH-INTERVAL;VALUE=DURATION:PT1H
X-Robots-Tag:noindex
X-PUBLISHED-TTL:PT1H
BEGIN:VTIMEZONE
TZID:Europe/Berlin
BEGIN:DAYLIGHT
TZOFFSETFROM:+0100
TZOFFSETTO:+0200
TZNAME:CEST
DTSTART:20240331T010000
END:DAYLIGHT
BEGIN:STANDARD
TZOFFSETFROM:+0200
TZOFFSETTO:+0100
TZNAME:CET
DTSTART:20241027T010000
END:STANDARD
BEGIN:DAYLIGHT
TZOFFSETFROM:+0100
TZOFFSETTO:+0200
TZNAME:CEST
DTSTART:20250330T010000
END:DAYLIGHT
BEGIN:STANDARD
TZOFFSETFROM:+0200
TZOFFSETTO:+0100
TZNAME:CET
DTSTART:20251026T010000
END:STANDARD
BEGIN:DAYLIGHT
TZOFFSETFROM:+0100
TZOFFSETTO:+0200
TZNAME:CEST
DTSTART:20260329T010000
END:DAYLIGHT
BEGIN:STANDARD
TZOFFSETFROM:+0200
TZOFFSETTO:+0100
TZNAME:CET
DTSTART:20261025T010000
END:STANDARD
BEGIN:DAYLIGHT
TZOFFSETFROM:+0100
TZOFFSETTO:+0200
TZNAME:CEST
DTSTART:20270328T010000
END:DAYLIGHT
BEGIN:STANDARD
TZOFFSETFROM:+0200
TZOFFSETTO:+0100
TZNAME:CET
DTSTART:20271031T010000
END:STANDARD
END:VTIMEZONE
BEGIN:VEVENT
DTSTART;TZID=Europe/Berlin:20260330T180000
DTEND;TZID=Europe/Berlin:20260330T210000
DTSTAMP:20260423T153822
CREATED:20260226T103356Z
LAST-MODIFIED:20260226T103356Z
UID:10007689-1774893600-1774904400@www.aachen.digital
SUMMARY:Founders' Roundtable
DESCRIPTION:The Founders’ Roundtable creates a relaxed atmosphere for the Aachen start-up community to exchange ideas.\n\n\nThe Founders’ Roundtable creates a relaxed atmosphere for the Aachen start-up community to exchange ideas. \nJoin the Monthly Founders’ Roundtable in Aachen! \nThe Founders’ Roundtable is a monthly gathering organized to bring Aachen’s startup community together in a relaxed and inspiring atmosphere. \nStarting at 6 PM\, we meet with the startup community of the AC.E\, Collective Incubator\, digitalHUB Aachen\, Enactus Aachen\, RWTH Innovation\, and Gründungszentrum FH Aachen to connect\, exchange ideas\, and support aspiring founders. \nAs always\, (future) founders will have the chance to pitch their ideas. After each presentation\, there will be time for discussion and feedback. If you have a great idea you’d like to share\, you’re more than welcome to join! \nIf you’d like to pitch\, reach out to Jeffrey (jeffrey.momoh@rwth-innovation.de) to sign up in advance. You can also present an idea spontaneously and get feedback from the community. Whether you prefer to prepare slides or go without is completely up to you! \nNot pitching? No problem! Just come by\, grab a drink and some pizza\, and enjoy an evening full of inspiring ideas and great conversations with like-minded people. \nThis month’s Founders’ Roundtable is hosted by the RWTH Innovation and will take place at the Collective Incubator\, Jülicher Str. 209 q-s\, 52070 Aachen. \nBe part of it! We’d love to see you there! \nREGISTER NOW!
URL:https://www.aachen.digital/en/event/founders-roundtable-20/
LOCATION:Collective Incubator\, Jülicher Str. 209 q-s\, Aachen\, 52070
ATTACH;FMTTYPE=image/jpeg:https://www.aachen.digital/wp-content/uploads/2026/01/aca11a070e26a939e4f33a676d43581d.jpg
END:VEVENT
BEGIN:VEVENT
DTSTART;TZID=Europe/Berlin:20260223T180000
DTEND;TZID=Europe/Berlin:20260223T210000
DTSTAMP:20260423T153822
CREATED:20260113T071027Z
LAST-MODIFIED:20260113T071027Z
UID:10007643-1771869600-1771880400@www.aachen.digital
SUMMARY:Founders' Roundtable
DESCRIPTION:The Founders’ Roundtable creates a relaxed atmosphere for the Aachen start-up community to exchange ideas.\n\n\nJoin the Monthly Founders’ Roundtable in Aachen! \nThe Founders’ Roundtable is a monthly gathering organized to bring Aachen’s startup community together in a relaxed and inspiring atmosphere. \nStarting at 6 PM\, we meet with the startup community of the AC.E\, Collective Incubator\, digitalHUB Aachen\, Enactus Aachen\, RWTH Innovation\, and Gründungszentrum FH Aachen to connect\, exchange ideas\, and support aspiring founders. \nAs always\, (future) founders will have the chance to pitch their ideas. After each presentation\, there will be time for discussion and feedback. If you have a great idea you’d like to share\, you’re more than welcome to join! \nNot pitching? No problem! Just come by\, grab a drink and some pizza\, and enjoy an evening full of inspiring ideas and great conversations with like-minded people. \nThis month’s Founders’ Roundtable is hosted by the Gründungszentrum FH Aachen. \nBe part of it! We’d love to see you there! \nREGISTER NOW
URL:https://www.aachen.digital/en/event/founders-roundtable-18/
LOCATION:Gründungszentrum FH Aachen\, Eupener Straße 70 - Raum A103\, Aachen\, 52066
ATTACH;FMTTYPE=image/jpeg:https://www.aachen.digital/wp-content/uploads/2026/01/aca11a070e26a939e4f33a676d43581d.jpg
END:VEVENT
BEGIN:VEVENT
DTSTART;TZID=Europe/Berlin:20251124T180000
DTEND;TZID=Europe/Berlin:20251124T210000
DTSTAMP:20260423T153822
CREATED:20251111T075502Z
LAST-MODIFIED:20251111T111044Z
UID:10007516-1764007200-1764018000@www.aachen.digital
SUMMARY:Founders' Roundtable
DESCRIPTION:The Founders’ Roundtable creates a relaxed atmosphere for the Aachen start-up community to exchange ideas.\n\n\nJoin the Monthly Founders’ Roundtable in Aachen! \nThe Founders’ Roundtable is a monthly gathering organized to bring Aachen’s startup community together in a relaxed and inspiring atmosphere. \nStarting at 6 PM\, we meet with the startup community of the AC.E\, Collective Incubator\, digitalHUB Aachen\, Enactus Aachen\, RWTH Innovation\, and Gründungszentrum FH Aachen to connect\, exchange ideas\, and support aspiring founders. \nAs always\, (future) founders will have the chance to pitch their ideas. After each presentation\, there will be time for discussion and feedback. If you have a great idea you’d like to share\, you’re more than welcome to join! \nIf you’d like to pitch\, reach out to Henrik (henrik.steffens@ac-e.org) to sign up in advance. You can also present an idea spontaneously and get feedback from the community. Whether you prefer to prepare slides or go without is completely up to you! \nNot pitching? No problem! Just come by\, grab a drink and some pizza\, and enjoy an evening full of inspiring ideas and great conversations with like-minded people. \nThis month’s Founders’ Roundtable is hosted by AC.E and will take place at the digitalChurch\, Jülicher Str. 72a\, 52070 Aachen. \nBe part of it! We’d love to see you there! \nSign up
URL:https://www.aachen.digital/en/event/founders-roundtable-6/
LOCATION:digitalHUB Aachen e.V. in der digitalCHURCH\, Jülicher Straße 72a\, Aachen\, NRW\, 52070\, Germany
ATTACH;FMTTYPE=image/jpeg:https://www.aachen.digital/wp-content/uploads/2025/11/8d23240e93ecaca51a298aec6a4accb9.jpg
END:VEVENT
BEGIN:VEVENT
DTSTART;TZID=Europe/Berlin:20250929T180000
DTEND;TZID=Europe/Berlin:20250929T210000
DTSTAMP:20260423T153822
CREATED:20250909T094416Z
LAST-MODIFIED:20250922T073331Z
UID:10007421-1759168800-1759179600@www.aachen.digital
SUMMARY:Founders' Roundtable
DESCRIPTION:The Founders’ Roundtable creates a relaxed atmosphere for the Aachen start-up community to exchange ideas.\n\n\nJoin the Monthly Founders’ Roundtable! \nThe Founders’ Roundtable is a monthly gathering organized to bring Aachen’s startup community together in a relaxed and inspiring atmosphere. \nStarting at 6 PM\, we meet with the startup community of the AC.E\, Collective Incubator\, digitalHUB Aachen\, Enactus Aachen\, RWTH Innovation\, and Gründungszentrum FH Aachen to connect\, exchange ideas\, and support aspiring founders. \nAs always\, (future) founders will have the chance to pitch their ideas. After each presentation\, there will be time for discussion and feedback. If you have a great idea you’d like to share\, you’re more than welcome to join! \nYou can also present an idea spontaneously and get feedback from the community. Whether you prefer to prepare slides or go without is completely up to you! \nNot pitching? No problem! Just come by\, grab a drink and some pizza\, and enjoy an evening full of inspiring ideas and great conversations with like-minded people. \n  \nBe part of it! We’d love to see you there! \nGET YOUR FREE TICKET
URL:https://www.aachen.digital/en/event/founders-roundtable-5/
LOCATION:digitalHUB Aachen e.V. in der digitalCHURCH\, Jülicher Straße 72a\, Aachen\, NRW\, 52070\, Germany
ATTACH;FMTTYPE=image/jpeg:https://www.aachen.digital/wp-content/uploads/2025/09/29aac4bbed0ff776ec9f76d4dfdd9e01.jpg
END:VEVENT
BEGIN:VEVENT
DTSTART;TZID=Europe/Berlin:20250825T180000
DTEND;TZID=Europe/Berlin:20250825T220000
DTSTAMP:20260423T153822
CREATED:20250808T131719Z
LAST-MODIFIED:20250821T120304Z
UID:10007407-1756144800-1756159200@www.aachen.digital
SUMMARY:Founders' Roundtable
DESCRIPTION:The Founders’ Roundtable creates a relaxed atmosphere for the Aachen start-up community to exchange ideas.\n\n\nJoin the Monthly Founders’ Roundtable in Aachen! \nThe Founders’ Roundtable is a monthly gathering organized to bring Aachen’s startup community together in a relaxed and inspiring atmosphere. \nStarting at 6 PM\, we meet with the startup community of the AC.E\, Collective Incubator\, digitalHUB Aachen\, Enactus Aachen\, RWTH Innovation\, and Gründungszentrum FH Aachen to connect\, exchange ideas\, and support aspiring founders. \nAs always\, (future) founders will have the chance to pitch their ideas. After each presentation\, there will be time for discussion and feedback. If you have a great idea you’d like to share\, you’re more than welcome to join! \nYou can also present an idea spontaneously and get feedback from the community. Whether you prefer to prepare slides or go without is completely up to you! \nNot pitching? No problem! Just come by\, grab a drink and some pizza\, and enjoy an evening full of inspiring ideas and great conversations with like-minded people. \nThis month’s Founders’ Roundtable is hosted by the Gründungszentrum FH Aachen and will take place at the Startup Village Jülich. \nBe part of it! We’d love to see you there! \nSing up for free!
URL:https://www.aachen.digital/en/event/founders-roundtable-3/
LOCATION:Startup Village NRW\, Marie-Curie-Straße 4\, Jülich\, NRW\, 52428\, Germany
ATTACH;FMTTYPE=image/jpeg:https://www.aachen.digital/wp-content/uploads/2025/08/https___cdn.evbuc_.com_images_1096560173_531176030515_1_original.jpeg
END:VEVENT
BEGIN:VEVENT
DTSTART;TZID=Europe/Berlin:20250630T180000
DTEND;TZID=Europe/Berlin:20250630T210000
DTSTAMP:20260423T153822
CREATED:20250409T074611Z
LAST-MODIFIED:20250623T075403Z
UID:10007300-1751306400-1751317200@www.aachen.digital
SUMMARY:Founders' Roundtable
DESCRIPTION:The Founders’ Roundtable creates a relaxed atmosphere for the Aachen start-up community to exchange ideas.\n\n\nJoin the Monthly Founders’ Roundtable in Aachen! \nThe Founders’ Roundtable is a monthly gathering organized to bring Aachen’s startup community together in a relaxed and inspiring atmosphere. \nStarting at 6 PM\, we meet with the startup community of the AC.E\, Collective Incubator\, digitalHUB Aachen\, Enactus Aachen\, RWTH Innovation\, and Gründungszentrum FH Aachen to connect\, exchange ideas\, and support aspiring founders. \nAs always\, (future) founders will have the chance to pitch their ideas. After each presentation\, there will be time for discussion and feedback. If you have a great idea you’d like to share\, you’re more than welcome to join! \nIf you’d like to pitch\, reach out to Vincent (vincent.weller@hubaachen.de) or Johann (johann.vonschroeter@hubaachen.de) to sign up in advance. You can also present an idea spontaneously and get feedback from the community. Whether you prefer to prepare slides or go without is completely up to you! \nNot pitching? No problem! Just come by\, grab a drink and some pizza\, and enjoy an evening full of inspiring ideas and great conversations with like-minded people. \nThis month’s Founders’ Roundtable is hosted by the digitalHUB Aachen and will take place at the digtialHUB\, Jülicher Str. 72a\, 52070 Aachen. \nBe part of it! We’d love to see you there! \n\n\n Register here!
URL:https://www.aachen.digital/en/event/founders-roundtable-11/
LOCATION:digitalHUB Aachen e.V. in der digitalCHURCH\, Jülicher Straße 72a\, Aachen\, NRW\, 52070\, Germany
ATTACH;FMTTYPE=image/jpeg:https://www.aachen.digital/wp-content/uploads/2025/04/2f08b0d57306d60e330083c89963d884.jpg
END:VEVENT
BEGIN:VEVENT
DTSTART;TZID=Europe/Berlin:20250526T180000
DTEND;TZID=Europe/Berlin:20250526T210000
DTSTAMP:20260423T153822
CREATED:20250409T074802Z
LAST-MODIFIED:20250808T131651Z
UID:10007301-1748282400-1748293200@www.aachen.digital
SUMMARY:Founders' Roundtable
DESCRIPTION:The Founders’ Roundtable creates a relaxed atmosphere for the Aachen start-up community to exchange ideas.\n\n\nJoin the Monthly Founders’ Roundtable in Aachen! \nThe Founders’ Roundtable is a monthly gathering organized to bring Aachen’s startup community together in a relaxed and inspiring atmosphere. \nStarting at 6 PM\, we meet with the startup community of the AC.E\, Collective Incubator\, digitalHUB Aachen\, Enactus Aachen\, RWTH Innovation\, and Gründungszentrum FH Aachen to connect\, exchange ideas\, and support aspiring founders. \nAs always\, (future) founders will have the chance to pitch their ideas. After each presentation\, there will be time for discussion and feedback. If you have a great idea you’d like to share\, you’re more than welcome to join! \nIIf you’d like to pitch\, reach out to Henrik (henrik.steffens@ac-e.org) to sign up in advance. You can also present an idea spontaneously and get feedback from the community. Whether you prefer to prepare slides or go without is completely up to you! \nNot pitching? No problem! Just come by\, grab a drink and some pizza\, and enjoy an evening full of inspiring ideas and great conversations with like-minded people. \nThis month’s Founders’ Roundtable is hosted by AC.E and will take place at the digitalHUB\, Jülicher Str. 72a\, 52070 Aachen. \nBe part of it! We’d love to see you there! \n  \n\n\nSign up fro free!
URL:https://www.aachen.digital/en/event/founders-roundtable-12/
LOCATION:digitalHUB Aachen e.V. in der digitalCHURCH\, Jülicher Straße 72a\, Aachen\, NRW\, 52070\, Germany
ATTACH;FMTTYPE=image/jpeg:https://www.aachen.digital/wp-content/uploads/2025/04/41e552c0ef2a9318b0bd707bb971c619.jpg
END:VEVENT
BEGIN:VEVENT
DTSTART;TZID=Europe/Berlin:20250224T180000
DTEND;TZID=Europe/Berlin:20250224T210000
DTSTAMP:20260423T153822
CREATED:20250213T132937Z
LAST-MODIFIED:20250213T133020Z
UID:10007221-1740420000-1740430800@www.aachen.digital
SUMMARY:Gründer:innen Stammtisch
DESCRIPTION:Der monatliche Stammtisch wird veranstaltet\, um die Aachener Gründer:innenwelt bei gemütlicher Atmosphäre zusammenzubringen.\n\n\nDer monatliche Stammtisch wird veranstaltet\, um die Aachener Gründer:innenwelt bei gemütlicher Atmosphäre zusammenzubringen. Ab 18 Uhr treffen wir uns mit der Startup Community von AC.E\, dem Collective Incubator\, digitalHUB Aachen\, Enactus Aachen\, RWTH Innovation und dem Gründungszentrum der FH Aachen. \n  \nWie immer werden Ideen von (zukünftigen) Gründer:innen präsentiert. Im Anschluss gibt es die Möglichkeit zur Diskussion oder Feedback. Jede:r\, der eine coole Idee hat und diese gerne teilen und diskutieren möchte\, ist beim Gründer:innen Stammtisch herzlich willkommen! Du möchtest Deine Idee pitchen? Dann melde dich bitte bei Sophia (s.ludwig@fh-aachen.de). Es gibt ebenfalls die Möglichkeit\, spontan eine Idee zu präsentieren\, um Feedback von der Community zu erhalten. Ob spontan oder vorbereitet\, mit oder ohne Folien\, ist Dir überlassen. \n  \nNatürlich bist du auch herzlich willkommen\, um dir bei Getränken 🥂 und Pizza 🍕 die spannenden Ideen anzuhören und dich mit der Community zu vernetzen! \n  \nSeid dabei! Wir freuen uns auf Euch! 🤍 \nKostenlose Anmeldung \n  \nDiesmal wird der Gründer:innen Stammtisch vom Gründungszentrum der FH Aachen ausgerichtet und findet im Gründungszentrum am Campus Eupener Straße 70 im Raum A103 statt. Kostenlose Parkmöglichkeiten sind vorhanden.
URL:https://www.aachen.digital/en/event/gruenderinnen-stammtisch-26/
LOCATION:Gründungszentrum FH Aachen\, Eupener Straße 70 - Raum A103\, Aachen\, 52066
ATTACH;FMTTYPE=image/jpeg:https://www.aachen.digital/wp-content/uploads/2025/02/bedad8e5d516d5f8d02bce80d01a9bae.jpg
END:VEVENT
END:VCALENDAR