BEGIN:VCALENDAR
VERSION:2.0
PRODID:-//digitalHUB Aachen - ECPv6.15.20//NONSGML v1.0//EN
CALSCALE:GREGORIAN
METHOD:PUBLISH
X-WR-CALNAME:digitalHUB Aachen
X-ORIGINAL-URL:https://www.aachen.digital/en/
X-WR-CALDESC:Events for digitalHUB Aachen
REFRESH-INTERVAL;VALUE=DURATION:PT1H
X-Robots-Tag:noindex
X-PUBLISHED-TTL:PT1H
BEGIN:VTIMEZONE
TZID:Europe/Berlin
BEGIN:DAYLIGHT
TZOFFSETFROM:+0100
TZOFFSETTO:+0200
TZNAME:CEST
DTSTART:20230326T010000
END:DAYLIGHT
BEGIN:STANDARD
TZOFFSETFROM:+0200
TZOFFSETTO:+0100
TZNAME:CET
DTSTART:20231029T010000
END:STANDARD
BEGIN:DAYLIGHT
TZOFFSETFROM:+0100
TZOFFSETTO:+0200
TZNAME:CEST
DTSTART:20240331T010000
END:DAYLIGHT
BEGIN:STANDARD
TZOFFSETFROM:+0200
TZOFFSETTO:+0100
TZNAME:CET
DTSTART:20241027T010000
END:STANDARD
BEGIN:DAYLIGHT
TZOFFSETFROM:+0100
TZOFFSETTO:+0200
TZNAME:CEST
DTSTART:20250330T010000
END:DAYLIGHT
BEGIN:STANDARD
TZOFFSETFROM:+0200
TZOFFSETTO:+0100
TZNAME:CET
DTSTART:20251026T010000
END:STANDARD
END:VTIMEZONE
BEGIN:VEVENT
DTSTART;TZID=Europe/Berlin:20240314T173000
DTEND;TZID=Europe/Berlin:20240314T210000
DTSTAMP:20260423T204502
CREATED:20221107T134356Z
LAST-MODIFIED:20240221T090630Z
UID:10005746-1710437400-1710450000@www.aachen.digital
SUMMARY:Gründerszene im Kreis Düren - Stories. Impulse. Dialoge.
DESCRIPTION:Drei spannende Gründerstories! Vernetzung pur!\nSei dabei und höre Dir drei inspirierende Gründer-Stories an\, gib Impulse für Dürens GründerSZENE und starte mit uns in einen gemeinsamen Dialog! \nAblauf: \n\n17:30 Einlass\n18:00 Begrüßung durch die Partner:innen der GründerSZENE im Kreis Düren\nDrei Gründer-Stories: 15 Minuten eine Story. 10 Minuten Impulse. 10 Minuten Dialoge\n\nDie erste Story: Laura\, Lisa und Sarah sind Gründerinnen vom Molli Café in Koslar.\n\nDie Idee\, einen sozialen Treffpunkt für Jung und Alt mit einer modernen Meisterkonditorei zu schaffen\, zeigt die spannende Verbindung von Kreativität und sozialer Innovation.\n\n\nDie zweite Story: Max ist Gründer von Roslance aus Düren.\n\nRoslance ist eine Online-Plattform\, die Dienstleister wie Kunden im Bereich des 3D-Drucks zusammenbringt und einen nahtlosen Ablauf von der Auftragserteilung bis zur Produktübergabe bietet.\n\n\nDie dritte Story: Louis und Simon sind die Gründer von People Made aus Düren.\n\n Die Gründungsidee einer Agentur zwischen Inklusion und offener Wirtschaft zielt darauf ab\, einen nachhaltigen sozialen Wandel zu fördern\, indem sie Menschen mit Benachteiligungen und deren Leistungen in der Fordergrund stellt\, damit wird ein Mehrwert auf allen Seiten geschaffen.\n\n\n\n\nGet-to-gether und Vernetzung im Coworking Space Düren\n21:00 Ende des Events\n\nZUR ANMELDUNG
URL:https://www.aachen.digital/en/event/gruenderszene-im-kreis-dueren-stories-impulse-dialoge/
LOCATION:CO_SPACE.DN\, August-Klotz-Straße 21\, Düren\, 52349\, Deutschland
ATTACH;FMTTYPE=image/jpeg:https://www.aachen.digital/wp-content/uploads/2022/11/Gruenderszene-Dueren_Stage.jpg
END:VEVENT
END:VCALENDAR