BEGIN:VCALENDAR
VERSION:2.0
PRODID:-//digitalHUB Aachen - ECPv6.15.20//NONSGML v1.0//EN
CALSCALE:GREGORIAN
METHOD:PUBLISH
X-WR-CALNAME:digitalHUB Aachen
X-ORIGINAL-URL:https://www.aachen.digital/en/
X-WR-CALDESC:Events for digitalHUB Aachen
REFRESH-INTERVAL;VALUE=DURATION:PT1H
X-Robots-Tag:noindex
X-PUBLISHED-TTL:PT1H
BEGIN:VTIMEZONE
TZID:Europe/Berlin
BEGIN:DAYLIGHT
TZOFFSETFROM:+0100
TZOFFSETTO:+0200
TZNAME:CEST
DTSTART:20200329T010000
END:DAYLIGHT
BEGIN:STANDARD
TZOFFSETFROM:+0200
TZOFFSETTO:+0100
TZNAME:CET
DTSTART:20201025T010000
END:STANDARD
BEGIN:DAYLIGHT
TZOFFSETFROM:+0100
TZOFFSETTO:+0200
TZNAME:CEST
DTSTART:20210328T010000
END:DAYLIGHT
BEGIN:STANDARD
TZOFFSETFROM:+0200
TZOFFSETTO:+0100
TZNAME:CET
DTSTART:20211031T010000
END:STANDARD
BEGIN:DAYLIGHT
TZOFFSETFROM:+0100
TZOFFSETTO:+0200
TZNAME:CEST
DTSTART:20220327T010000
END:DAYLIGHT
BEGIN:STANDARD
TZOFFSETFROM:+0200
TZOFFSETTO:+0100
TZNAME:CET
DTSTART:20221030T010000
END:STANDARD
END:VTIMEZONE
BEGIN:VEVENT
DTSTART;TZID=Europe/Berlin:20210311T160000
DTEND;TZID=Europe/Berlin:20210311T173000
DTSTAMP:20260424T011542
CREATED:20210311T083255Z
LAST-MODIFIED:20221213T132206Z
UID:10005839-1615478400-1615483800@www.aachen.digital
SUMMARY:HELLO CREATOR  X WANDERFUL.STREAM
DESCRIPTION:Das euroregionale Projekt wanderful.stream wird auf hello creator TV vorgestellt! \nWanderful.stream macht lokalisierte Restströme von KMUs\, also Materialien oder bei der Herstellung anfallende Produkte\, mit der Hilfe von Designern\, Technologen und Unternehmensentwicklern wieder brauchbar. \nDabei soll kleineren und mittleren Unternehmen mit der Hilfe von wanderful.stream zu einer stärker zirkulären Wirtschaft verholfen werden. \nVerschiedene Speaker werden wanderful.stream und ihre Projekte vorstellen. \nDas Event ist gratis und es ist keine Voranmeldung notwendig. \nEinfach auf das Live-Event klicken: \nlive.creatopia.org \n 
URL:https://www.aachen.digital/en/event/hello-creator-x-wanderful-stream/
LOCATION:Jülicher Strasse 72a\, Aachen\, 52070\, Germany
ATTACH;FMTTYPE=image/png:https://www.aachen.digital/wp-content/uploads/2021/03/wanderful_stage.png
END:VEVENT
END:VCALENDAR