BEGIN:VCALENDAR
VERSION:2.0
PRODID:-//digitalHUB Aachen - ECPv6.15.20//NONSGML v1.0//EN
CALSCALE:GREGORIAN
METHOD:PUBLISH
X-ORIGINAL-URL:https://www.aachen.digital/en/
X-WR-CALDESC:Events for digitalHUB Aachen
REFRESH-INTERVAL;VALUE=DURATION:PT1H
X-Robots-Tag:noindex
X-PUBLISHED-TTL:PT1H
BEGIN:VTIMEZONE
TZID:Europe/Berlin
BEGIN:DAYLIGHT
TZOFFSETFROM:+0100
TZOFFSETTO:+0200
TZNAME:CEST
DTSTART:20210328T010000
END:DAYLIGHT
BEGIN:STANDARD
TZOFFSETFROM:+0200
TZOFFSETTO:+0100
TZNAME:CET
DTSTART:20211031T010000
END:STANDARD
BEGIN:DAYLIGHT
TZOFFSETFROM:+0100
TZOFFSETTO:+0200
TZNAME:CEST
DTSTART:20220327T010000
END:DAYLIGHT
BEGIN:STANDARD
TZOFFSETFROM:+0200
TZOFFSETTO:+0100
TZNAME:CET
DTSTART:20221030T010000
END:STANDARD
BEGIN:DAYLIGHT
TZOFFSETFROM:+0100
TZOFFSETTO:+0200
TZNAME:CEST
DTSTART:20230326T010000
END:DAYLIGHT
BEGIN:STANDARD
TZOFFSETFROM:+0200
TZOFFSETTO:+0100
TZNAME:CET
DTSTART:20231029T010000
END:STANDARD
END:VTIMEZONE
BEGIN:VEVENT
DTSTART;TZID=Europe/Berlin:20220619T100000
DTEND;TZID=Europe/Berlin:20220619T180000
DTSTAMP:20260423T231641
CREATED:20220519T090800Z
LAST-MODIFIED:20220519T130003Z
UID:10006246-1655632800-1655661600@www.aachen.digital
SUMMARY:Strassenland 2022 - Aachen Area
DESCRIPTION:„Lebe deine Stadt“ – unter diesem Motto steht die zweite Auflage von STRASSENLAND am 19. Juni 2022 in Köln. Zur ersten Veranstaltung im Jahr 2019 zog es über 100.000 Besucherinnen und Besucher auf die Nord-Süd-Fahrt\, um nach Antworten für eine lebenswertere Zukunft zu suchen\, sich von kreativen Ideen inspirieren zu lassen und neue Lösungsansätze einfach einmal selbst auszuprobieren. \nDie “Aachen Area” soll das nachhaltig-transformative Potential Aachens zeigen. Wir suchen Initiativen\, StartUps und Organisationen\, die gute Ideen und Prototypen für die Stadt von Morgen haben und sich für gemeinwohlorientierte Innovation stark machen- insgesamt können wir 20 Projekte mitnehmen. \nIhr habt Lust dabei zu sein und Aachen´s Potential für gemeinwohlorientierte und nachhaltige Innovationen zu präsentieren? Dann meldet euch! \nFalls etwas nicht klappt: Schreibt uns eine Nachricht an info@meffis.org \nHier geht es zur Anmeldung.
URL:https://www.aachen.digital/en/event/strassenland-2022-aachen-area/
ATTACH;FMTTYPE=image/jpeg:https://www.aachen.digital/wp-content/uploads/2022/05/11.jpg
END:VEVENT
END:VCALENDAR