BEGIN:VCALENDAR
VERSION:2.0
PRODID:-//digitalHUB Aachen - ECPv6.15.20//NONSGML v1.0//EN
CALSCALE:GREGORIAN
METHOD:PUBLISH
X-ORIGINAL-URL:https://www.aachen.digital/en/
X-WR-CALDESC:Events for digitalHUB Aachen
REFRESH-INTERVAL;VALUE=DURATION:PT1H
X-Robots-Tag:noindex
X-PUBLISHED-TTL:PT1H
BEGIN:VTIMEZONE
TZID:Europe/Berlin
BEGIN:DAYLIGHT
TZOFFSETFROM:+0100
TZOFFSETTO:+0200
TZNAME:CEST
DTSTART:20240331T010000
END:DAYLIGHT
BEGIN:STANDARD
TZOFFSETFROM:+0200
TZOFFSETTO:+0100
TZNAME:CET
DTSTART:20241027T010000
END:STANDARD
BEGIN:DAYLIGHT
TZOFFSETFROM:+0100
TZOFFSETTO:+0200
TZNAME:CEST
DTSTART:20250330T010000
END:DAYLIGHT
BEGIN:STANDARD
TZOFFSETFROM:+0200
TZOFFSETTO:+0100
TZNAME:CET
DTSTART:20251026T010000
END:STANDARD
BEGIN:DAYLIGHT
TZOFFSETFROM:+0100
TZOFFSETTO:+0200
TZNAME:CEST
DTSTART:20260329T010000
END:DAYLIGHT
BEGIN:STANDARD
TZOFFSETFROM:+0200
TZOFFSETTO:+0100
TZNAME:CET
DTSTART:20261025T010000
END:STANDARD
END:VTIMEZONE
BEGIN:VEVENT
DTSTART;TZID=Europe/Berlin:20250822T153000
DTEND;TZID=Europe/Berlin:20250824T143000
DTSTAMP:20260423T204405
CREATED:20250805T143853Z
LAST-MODIFIED:20250805T143853Z
UID:10007405-1755876600-1756045800@www.aachen.digital
SUMMARY:Hive Summit
DESCRIPTION:Why You Absolutely Should Attend Hive Summit Aachen \nThe Hive Summit Aachen is the ultimate gathering for tech enthusiasts\, industry leaders\, Hive Users and innovators to delve into the world of Blockchain\, Web3\, NFT\, and the future of decentral technologies. This summit offers a unique opportunity to hear from top experts\, engage in insightful discussions\, and explore groundbreaking Blockchain & Web3 innovations. Whether you’re a startup founder\, developer. \nYou’ll have the chance to explore real-world use cases\, witness cutting-edge demos\, and connect with others who are driving change in the tech world. Be part of the conversation that’s shaping the future. \nDiscover the Full Hive Summit Aachen Event Agenda \n\nKickoff: Day 1 (22. August) | Get Together & Networking + Europe premiere of the documentary „Freechain“ Movie\nConference: Day 2 (23. August) | Conference & Networking\nCity Trip: Day 3 (24. August) | Breakfast\, Clean Planet Walk\, Networking\n\nCheckout Full Agenda \nThe Event Location  \nTucked right in the heart of Aachen’s old town is something seriously unexpected – the digitalHUB at Digital Church. Yup\, an actual church turned into a high-tech hotspot for creators\, coders\, and game-changers. Think stained glass meets startup vibes – neon lights\, buzzing ideas\, and way more laptops than hymn books. \nCheckout Location Details \nGet your Ticket for Aachen One Ticket is all you need! Pay 12 € or 14 $ in HBD \nDon’t just attend\, be part of something bigger. Secure your spot\, come hungry for knowledge and connections\, and leave knowing you’ve made a difference. \nCheckout Ticket Buy Options \n  \n 
URL:https://www.aachen.digital/en/event/hive-summit/
LOCATION:digitalHUB Aachen\, Jülicher Str. 72a\, Aachen\, Nordrhein-Westfalen\, 52070\, Germany
ATTACH;FMTTYPE=image/jpeg:https://www.aachen.digital/wp-content/uploads/2025/08/events_webseite_images-7.jpg
END:VEVENT
END:VCALENDAR