BEGIN:VCALENDAR
VERSION:2.0
PRODID:-//digitalHUB Aachen - ECPv6.15.20//NONSGML v1.0//EN
CALSCALE:GREGORIAN
METHOD:PUBLISH
X-WR-CALNAME:digitalHUB Aachen
X-ORIGINAL-URL:https://www.aachen.digital/en/
X-WR-CALDESC:Events for digitalHUB Aachen
REFRESH-INTERVAL;VALUE=DURATION:PT1H
X-Robots-Tag:noindex
X-PUBLISHED-TTL:PT1H
BEGIN:VTIMEZONE
TZID:Europe/Berlin
BEGIN:DAYLIGHT
TZOFFSETFROM:+0100
TZOFFSETTO:+0200
TZNAME:CEST
DTSTART:20180325T010000
END:DAYLIGHT
BEGIN:STANDARD
TZOFFSETFROM:+0200
TZOFFSETTO:+0100
TZNAME:CET
DTSTART:20181028T010000
END:STANDARD
BEGIN:DAYLIGHT
TZOFFSETFROM:+0100
TZOFFSETTO:+0200
TZNAME:CEST
DTSTART:20190331T010000
END:DAYLIGHT
BEGIN:STANDARD
TZOFFSETFROM:+0200
TZOFFSETTO:+0100
TZNAME:CET
DTSTART:20191027T010000
END:STANDARD
BEGIN:DAYLIGHT
TZOFFSETFROM:+0100
TZOFFSETTO:+0200
TZNAME:CEST
DTSTART:20200329T010000
END:DAYLIGHT
BEGIN:STANDARD
TZOFFSETFROM:+0200
TZOFFSETTO:+0100
TZNAME:CET
DTSTART:20201025T010000
END:STANDARD
END:VTIMEZONE
BEGIN:VEVENT
DTSTART;TZID=Europe/Berlin:20191121T093000
DTEND;TZID=Europe/Berlin:20191121T143000
DTSTAMP:20260423T230314
CREATED:20191118T100824Z
LAST-MODIFIED:20191118T101007Z
UID:10005459-1574328600-1574346600@www.aachen.digital
SUMMARY:HYPEREGIO - B2B Matchmaking "Artifial Intelligence"
DESCRIPTION:Artificial intelligence (AI) comprises various technologies with which machines can perceive\, understand\, act and learn. Autonomous driving cars\, robots in elderly care\, thinking and speaking computers: AI is a key technology of the future! \n  \nIn order to advance your own developments in AI\, a suitable cooperation partner is of great importance. Our event offers you the opportunity to get to know other companies and their offers and needs – in pitches and one-on-one meetings\, where you can discuss questions or exchange initial ideas for possible cooperation. \n  \nUse this opportunity to find your perfect match! \n  \nThe participation is free of charge. Please register here or via d.mueller@agit.de. \n  \nVenue: KHG Aachen\, Large hall – Pontstr. 74-76\, 52062 Aachen
URL:https://www.aachen.digital/en/event/hyperegio-b2b-matchmaking-artifial-intelligence/
LOCATION:KHG Aachen
ATTACH;FMTTYPE=image/jpeg:https://www.aachen.digital/wp-content/uploads/2019/11/Veranstaltungs_Stage.jpg
END:VEVENT
BEGIN:VEVENT
DTSTART;TZID=Europe/Berlin:20190620T130000
DTEND;TZID=Europe/Berlin:20190620T170000
DTSTAMP:20260423T230314
CREATED:20190515T120611Z
LAST-MODIFIED:20221213T132537Z
UID:10004771-1561035600-1561050000@www.aachen.digital
SUMMARY:Digital Health & Wearables Event
DESCRIPTION:This unique event connects academia\, entrepreneurs and investors in the Meuse–Rhine Euroregion working in digital health and wearables. The goal is to foster networking and matchmaking\, as well as to inspire researchers who are looking to translate their academic interest into business ventures. \nThe main event comprises a startup investment session\, in which selected startups from the Meuse–Rhine Euroregion will have the opportunity to pitch their ideas to an investor panel specialized in digital health and wearables. Matchmaking between startups and knowledge institutions will be facilitated. In the second part of the program\, a panel will discuss the journey to academic entrepreneurship\, opportunities and challenges\, including scientists’ personal experiences and investors’ point of view. \nBefore the main event\, in a so-called preparation day\, the selected startups are invited to participate in a coaching session. A workshop on storytelling for academic entrepreneurship will close the preparation day. \nProgram \nJune 20th: Main Event \n13.00 – 13.30: Welcome\n13.30 – 15.30: Startup investment sessions\n15.30 – 16.00: Coffee & networking/matchmaking\n16.00 – 16.30: Panel session: the journey of academic entrepreneurship\n16.30 – 17.00: Drinks\, bits & bites\, networking \nJune 6th: Preparation Day \n13.30 – 15.30: Pitch coaching session\n15.30 – 16.00: Coffee & networking\n16.00 – 17.00: Workshop: storytelling for academic entrepreneurship \nImportant dates \n20th May 2019: Deadline to apply for pitching\n27th May 2019: Selected startups will be notified\n6th June 2019: Preparation day\n20th June 2019: Digital Health & Wearables event \nRegistration via: https://www.brightlands.com/BBDigitalHealthDay \nFor more information\, please contact Adriana Berlanga\, Knowledge Transfer Office (adriana.berlanga@maastrichtuniversity.nl)
URL:https://www.aachen.digital/en/event/digital-health-wearables-event/
LOCATION:Brightlands Maastricht Health Campus BV\, Oxfordlaan 70\, Maastricht\, 6229 EV\, Niederlande
ATTACH;FMTTYPE=image/jpeg:https://www.aachen.digital/wp-content/uploads/2019/05/Save-the-Date_BuSyBee_DigitalHealthWearables_20.6.19-Maastricht.jpg
END:VEVENT
BEGIN:VEVENT
DTSTART;TZID=Europe/Berlin:20190411T081500
DTEND;TZID=Europe/Berlin:20190411T101500
DTSTAMP:20260423T230314
CREATED:20190326T134421Z
LAST-MODIFIED:20190326T134739Z
UID:10004979-1554970500-1554977700@www.aachen.digital
SUMMARY:HYPEREGIO - EarlyBirds: Technology Breakfast at Heinen Automation in Monschau
DESCRIPTION:Get up early and think about tomorrow! \nClever entrepreneurs deal at an early stage with questions of the future and key technologies that may be relevant for the development of their company.\nWith the “EarlyBirds” event series\, HYPEREGIO offers a networking platform in a relaxed (breakfast) atmosphere. Here entrepreneurs can exchange market trends with other entrepreneurs and also take advantage of the cooperation with the knowledge and research landscape in the Euregio Meuse-Rhine. \nThe next host is Heinen Automation. The company develops software for customers all over the world at its headquarter in Monschau and the development office at the RWTH Aachen Campus. The core competencies lie in automation technology and the manufacture of special machines. In addition to PLC programming and visualisation\, the field of activity includes electrical as well as mechanical design and manufacturing. \nThe extensive knowledge in robot programming and industrial image processing is frequently requested by the customers. Increasingly\, high-level language programming and the connection of databases are finding their way into the world of automation technology – Heinen Automation is successfully implementing them. \n  \nFind further information here: \nEarlyBirds The Technology Breakfast at Heinen Automation
URL:https://www.aachen.digital/en/event/hyperegio-earlybirds-technology-breakfast-at-heinen-automation-in-monschau/
LOCATION:Heinen Automation GmbH & CoKG\, Am Handwerkerzentrum 1\, Monschau\, 52156\, Deutschland
ATTACH;FMTTYPE=image/jpeg:https://www.aachen.digital/wp-content/uploads/2019/03/HYPEREGIO-EarlyBirds-Technology-Breakfast.jpg
END:VEVENT
BEGIN:VEVENT
DTSTART;TZID=Europe/Berlin:20190326T080000
DTEND;TZID=Europe/Berlin:20190326T170000
DTSTAMP:20260423T230314
CREATED:20190326T135206Z
LAST-MODIFIED:20190326T135531Z
UID:10004980-1553587200-1553619600@www.aachen.digital
SUMMARY:HYPEREGIO - EarlyBirds: Technology Breakfast at MeteoViva in Jülich
DESCRIPTION:Get up early and think about tomorrow! \nWith the series of events “EarlyBirds Technology Breakfast”  AGIT together with their partners of the euregional project “HYPEREGIO – EarlyTech” invite to discuss future topics at an early hour.They would like to inspire you to reflect and think outside the box and offer you a networking platform in a relaxed (breakfast) atmosphere with a host entrepreneur. \nThis time\, the Jülich-based company MeteoViva gives an insight behind the scenes. \nBehind MeteoViva is the vision of Managing Director Markus Werner: that the indoor climate of every building can be controlled in advance using a model. In his analysis of energy-efficient building concepts\, he discovered that heating\, cooling and ventilation can be optimised in any building if a dynamically calculating calculation model is used that takes into account not only the weather\, but also the use and physical behaviour of the building\, including its system technology – the starting signal for the development of a key technology. With MeteoViva Climate\, the company offers a smart data solution patented throughout Europe that makes building technology smarter and more efficient without much effort – manufacturer-independent\, cross-technology\, forward-looking and intuitive to operate. MeteoViva Climate is used throughout Europe in over 70 large buildings with approx. 1.2 million sqm and almost 10 million € energy costs. \nTake the opportunity to get a glimpse behind the scenes and meet entrepreneurs and scientists from the Euregio Meuse-Rhine. \nPROGRAMME (a detailed programme will be published soon) \n\n08.15 h Get-together at the breakfast buffet\nWelcome\nHYPEREGIO – Innovation Hub Euregio Meuse-Rhine\n08.30 h Impulse lecture\n08.50 h MeteoViva\n09.10 h Breakfast buffet\nNetworking with entrepreneurs and scientists\n09.45 h Guided tour\n10.15 h End\n\nFind further information about the event as well as about the registration here: \nTechnology Breakfast at MeteoViva in Jülich
URL:https://www.aachen.digital/en/event/hyperegio-earlybirds-technology-breakfast-at-meteoviva-in-juelich/
LOCATION:MeteoViva\, Karl-Heinz-Beckurts-Str. 13\, Jülich\, 52428\, Deutschland
ATTACH;FMTTYPE=image/jpeg:https://www.aachen.digital/wp-content/uploads/2019/03/HYPEREGIO-EarlyBirds-Technology-Breakfast.jpg
END:VEVENT
BEGIN:VEVENT
DTSTART;TZID=Europe/Berlin:20190220T093000
DTEND;TZID=Europe/Berlin:20190220T151500
DTSTAMP:20260423T230314
CREATED:20190206T134757Z
LAST-MODIFIED:20190214T142419Z
UID:10004948-1550655000-1550675700@www.aachen.digital
SUMMARY:B2B BROKERAGE WORKSHOP “E-MOBILITY MEETS LIGHTWEIGHT”
DESCRIPTION:
URL:https://www.aachen.digital/en/event/b2b-brokerage-workshop-e-mobility-meets-lightweight/
LOCATION:Aachener Zentrum für integrativen Leichtbau (AZL)\, Campus-Boulevard 30\, Aachen\, 52072\, Deutschland
ATTACH;FMTTYPE=image/jpeg:https://www.aachen.digital/wp-content/uploads/2019/02/Hyperegio_E-Mobility-meets-Lightweight_20022019.jpg
END:VEVENT
BEGIN:VEVENT
DTSTART;TZID=Europe/Berlin:20190219T130000
DTEND;TZID=Europe/Berlin:20190219T170000
DTSTAMP:20260423T230314
CREATED:20190205T092858Z
LAST-MODIFIED:20221213T132619Z
UID:10004715-1550581200-1550595600@www.aachen.digital
SUMMARY:HYPEREGIO - B2B Matchmaking “The Path to Digitalization of the Logistics Industry”
DESCRIPTION:The logistics industry benefits immensely from the latest technology and will continue to grow as more advances are made. On one hand this is a major challenge\, on the other hand it offers plenty of opportunities. Improved technology has increased productivity in the supply chain\, minimizing costs and errors. \nWhere do you start this digital transformation? And who are the companies that can assist in taking the first or next steps? \nAs part of the Interreg HYPEREGIO program “Innovation2Market”\, LIOF\, Basse-Meuse Développement (Belgium) and Kreis Euskirchen (Germany) organize a special matchmaking event on this theme. You will be informed about which chances there are for your company: Dutch\, German and Belgian companies will share their knowledge with you. During the event we will try to match the demand with the offering\, the problem with a solution and this in a cross-border way of cooperation. \nProgramme: \n\n12:00: Registration and business lunch\n13:00: Introduction Logistics Industry in Limburg by Dr. Joost van den Akker\, Regional Minister of Economic Affairs\n13:20: Presentation by Ahold Delhaize (NL) by Iris Freericks\n13:45: Presentation by RWTH Logistik Cluster (D) by Christian Maasem\n14:30: Start pitchround with short pitches of companies that are active in this field (Trapps Wise\, Global Software\, Pharox\, Sjoprz\, Mediaan\, Navabi Gmbh and more)\n15:40: Introduction to HYPEREGIO by Jorg van der Meij\n15:50: Start 1-on-1 meetings (matchmaking)\nNetworking and drinks\n\nThe location of the event is very fitting to the cross border nature of the event: at the beautiful Statenzaal of the Gouvernement aan de Maas in Maastricht the ‘Treaty on European Union’ was signed in 1992. \nYou can further information here. \nParticipation is free of charge\, but registration is mandatory.\nRegistration
URL:https://www.aachen.digital/en/event/hyperegio-b2b-matchmaking-the-path-to-digitalization-of-the-logistics-industry/
LOCATION:Gouvernement (Provincie Limburg)\, Limburglaan 10\, GA Maastricht\, 36229\, Niederlande
ATTACH;FMTTYPE=image/jpeg:https://www.aachen.digital/wp-content/uploads/2019/02/imageb2bmatchmakingeventsmartlogistics-2.jpg
END:VEVENT
BEGIN:VEVENT
DTSTART;TZID=Europe/Berlin:20190212T093000
DTEND;TZID=Europe/Berlin:20190212T170000
DTSTAMP:20260423T230314
CREATED:20190205T092612Z
LAST-MODIFIED:20190206T120532Z
UID:10004714-1549963800-1549990800@www.aachen.digital
SUMMARY:HYPEREGIO - B2B Matchmaking “Plastics in Medtech & Life Sciences”
DESCRIPTION:Plastic is a material with manifold possibilities in medical technology and life sciences. It can be used for disposable products (injections\, tubes)\, for implants and prosthesis or as parts for medical instruments. Throughout all application areas quality control and the validation of the process in medical technology is of great importance. \nExperts from the Euregio Meuse-Rhine area inform about current trends and challenges of plastic processing for medical devices. \nBesides the keynote speeches\, there will be brief pitches\, where SMEs and knowledge providers present themselves\, their ideas and what they are looking for. You will also get to know each other in one-on-one meetings to discuss your problem or solution in detail with companies across the borders. \nUse this opportunity to find your perfect match! \nYou can find further information as well as the programme and the registration form here:\n“Plastics in Medtech & Life Sciences” \nThe participation is free of charge\, but registration is mandatory.
URL:https://www.aachen.digital/en/event/hyperegio-b2b-matchmaking-plastics-in-medtech-life-sciences/
LOCATION:TZA Technologiezentrum Aachen\, Dennewartstr. 25-27\, Aachen\, 52068\, Deutschland
ATTACH;FMTTYPE=image/jpeg:https://www.aachen.digital/wp-content/uploads/2019/02/STD_B2B-Matchmaking_Plastics-in-MedTech-and-LifeSciences_12.02.19_Aachen-1.jpg
END:VEVENT
END:VCALENDAR