BEGIN:VCALENDAR
VERSION:2.0
PRODID:-//digitalHUB Aachen - ECPv6.15.20//NONSGML v1.0//EN
CALSCALE:GREGORIAN
METHOD:PUBLISH
X-ORIGINAL-URL:https://www.aachen.digital/en/
X-WR-CALDESC:Events for digitalHUB Aachen
REFRESH-INTERVAL;VALUE=DURATION:PT1H
X-Robots-Tag:noindex
X-PUBLISHED-TTL:PT1H
BEGIN:VTIMEZONE
TZID:Europe/Berlin
BEGIN:DAYLIGHT
TZOFFSETFROM:+0100
TZOFFSETTO:+0200
TZNAME:CEST
DTSTART:20230326T010000
END:DAYLIGHT
BEGIN:STANDARD
TZOFFSETFROM:+0200
TZOFFSETTO:+0100
TZNAME:CET
DTSTART:20231029T010000
END:STANDARD
BEGIN:DAYLIGHT
TZOFFSETFROM:+0100
TZOFFSETTO:+0200
TZNAME:CEST
DTSTART:20240331T010000
END:DAYLIGHT
BEGIN:STANDARD
TZOFFSETFROM:+0200
TZOFFSETTO:+0100
TZNAME:CET
DTSTART:20241027T010000
END:STANDARD
BEGIN:DAYLIGHT
TZOFFSETFROM:+0100
TZOFFSETTO:+0200
TZNAME:CEST
DTSTART:20250330T010000
END:DAYLIGHT
BEGIN:STANDARD
TZOFFSETFROM:+0200
TZOFFSETTO:+0100
TZNAME:CET
DTSTART:20251026T010000
END:STANDARD
BEGIN:DAYLIGHT
TZOFFSETFROM:+0100
TZOFFSETTO:+0200
TZNAME:CEST
DTSTART:20260329T010000
END:DAYLIGHT
BEGIN:STANDARD
TZOFFSETFROM:+0200
TZOFFSETTO:+0100
TZNAME:CET
DTSTART:20261025T010000
END:STANDARD
END:VTIMEZONE
BEGIN:VEVENT
DTSTART;TZID=Europe/Berlin:20250506T150000
DTEND;TZID=Europe/Berlin:20250506T163000
DTSTAMP:20260423T165755
CREATED:20250310T155122Z
LAST-MODIFIED:20250310T155122Z
UID:10007261-1746543600-1746549000@www.aachen.digital
SUMMARY:Workshop Doppelte Wesentlichkeitsanalyse
DESCRIPTION:Referent Dr. Christopher Scheubel – Cubemos GmbH \n\nWas ist Doppelte Wesentlichkeitsanalyse?\nWie näher ich mich dieser und erstelle den Bericht?\nWelche Vorteile habe ich dadurch?\n\nAGENDA \n14:30 Einlass \n15:00 Begrüßung Ideenfabrik & Vorstellung Ziel 100 nachhaltige Unternehmen \n15:05 Workshop \n16:30 Ende \nZUR ANMELDUNG \nDie Teilnahme an der Veranstaltung kann bis zum 05.05. online gebucht werden.
URL:https://www.aachen.digital/en/event/workshop-doppelte-wesentlichkeitsanalyse/
LOCATION:Ideenfabrik Nachhaltige Wirtschaft\, Josef-Ruhr-Straße 30\, Euskirchen\, Nordrhein-Westfalen\, 53879\, Germany
END:VEVENT
BEGIN:VEVENT
DTSTART;TZID=Europe/Berlin:20250409T130000
DTEND;TZID=Europe/Berlin:20250409T170000
DTSTAMP:20260423T165755
CREATED:20250310T154046Z
LAST-MODIFIED:20250314T080405Z
UID:10007260-1744203600-1744218000@www.aachen.digital
SUMMARY:Workshop KI & Nachhaltigkeit
DESCRIPTION:Referentin Dr. Dorothea Ernst – Sustainability Catalyst-Inform GmbH \n\nEntwicklung von KI & Nachhaltigkeit\nChancen & Risiken von KI für nachhaltiges Wirtschaften\nWelche neuen Fragen müssen jetzt geklärt werden\nNutzung von KI in der eigenen Organisation – worauf ist zu achten?\n\nAGENDA \n12:40 Einlass \n13:00 Begrüßung Ideenfabrik & Vorstellung Ziel 100 nachhaltige Unternehmen \n13:10 Workshop inkl. Pause \n17:00 Ende \nZUR ANMELDUNG \nDie Veranstaltung findet im Rahmen der Veranstaltungsreihe Nachhaltigkeitstransformation & CSRD der Ideenfabrik Euskirchen\, Kooperationspartner des sustainabilityLAB des digitalHUB Aachen sowie des ecoHUB\, statt. Die Teilnahme an der Veranstaltung kann bis zum 08.04. online gebucht werden.
URL:https://www.aachen.digital/en/event/workshop-ki-nachhaltigkeit/
LOCATION:Ideenfabrik Nachhaltige Wirtschaft\, Josef-Ruhr-Straße 30\, Euskirchen\, Nordrhein-Westfalen\, 53879\, Germany
ATTACH;FMTTYPE=image/jpeg:https://www.aachen.digital/wp-content/uploads/2025/03/Ideenfabrik-visual.jpg
END:VEVENT
BEGIN:VEVENT
DTSTART;TZID=Europe/Berlin:20250325T150000
DTEND;TZID=Europe/Berlin:20250325T163000
DTSTAMP:20260423T165755
CREATED:20250310T153055Z
LAST-MODIFIED:20250310T153055Z
UID:10007259-1742914800-1742920200@www.aachen.digital
SUMMARY:Workshop Datenaufbereitung für die Nachhaltigkeitsberichterstattung
DESCRIPTION:Referent Dr. Christopher Scheubel – Cubemos GmbH \n\nErkenntnis über die zu sammelnden Daten im Unternehmen\nFokussierung auf die „richtigen Daten“\nAnalyse und Aufbereitung für die Berichtsvarianten\n\nAGENDA: \n14:30 Einlass \n15:00 Begrüßung Ideenfabrik & Vorstellung Ziel 100 nachhaltige Unternehmen \n15:05 Workshop \n16:30 Ende \nZUR ANMELDUNG
URL:https://www.aachen.digital/en/event/workshop-datenaufbereitung-fuer-die-nachhaltigkeitsberichterstattung/
LOCATION:Ideenfabrik Nachhaltige Wirtschaft\, Josef-Ruhr-Straße 30\, Euskirchen\, Nordrhein-Westfalen\, 53879\, Germany
END:VEVENT
BEGIN:VEVENT
DTSTART;TZID=Europe/Berlin:20250318T170000
DTEND;TZID=Europe/Berlin:20250318T190000
DTSTAMP:20260423T165755
CREATED:20250310T152008Z
LAST-MODIFIED:20250311T132359Z
UID:10007257-1742317200-1742324400@www.aachen.digital
SUMMARY:AC² Innovationsabend AGIT
DESCRIPTION:Zirkuläre Wertschöpfung – Innovationspotenziale\, Strategien und Fördermöglichkeiten\nErfahre\, wie Unternehmen innovative Ansätze nutzen können\, um Ressourcen effizienter einzusetzen\, Kreisläufe zu schließen und eine nachhaltige Zukunft aktiv mitzugestalten. Neben spannenden Vorträgen über die Potenziale des zirkulären Wirtschaftens\, erhältst du Einblicke in praktische Beispiele des zirkulären Wirtschaftens am Beispiel der PAPSTAR Solutions GmbH und erfährst\, welche Fördermöglichkeiten du zur Finanzierung deiner Projekte nutzen kannst. \nNutze darüber hinaus die Gelegenheit\, sich mit Gleichgesinnten zu vernetzen\, neue Impulse zu gewinnen und dein Unternehmen nachhaltig und zukunftsfit auszurichten. \nDie Veranstaltung findet zusammen mit der Aachener Gesellschaft für Innovation und Technologietransfer mbH (AGIT) statt. \nAGENDA: \n17:00 Begrüßung & Intro \nIris Poth (Leiterin Wirtschaftsförderung Kreis Euskirchen)\, Havva Coskun-Dogan & Florian Deutz (AGIT mbH) sowie Peter Kampmeier (GründerRegion Aachen) \n17:15 Impulsvortrag \n„Das ‘Valley of Death’ der Kreislaufwirtschaft“ – Dr.-Ing. Mohammad Chehadé (Center for Circular Economy CCE – RWTH Aachen University) \n18:00 Fokus Kreislaufwirtschaft und Nachhaltigkeit \n„Welche Förderprogramme stehen für Unternehmen bereit?“ – Janpeter Beckmann (NRW.Bank) \n18:30 Praxisbeispiel \n„Zero Waste“ – Zirkuläre Lösungskonzepte der Firma PAPSTAR – Frank Kolvenbach (PAPSTAR Solutions GmbH) \n19:00 Networking und Ausklang \n  \nZUR ANMELDUNG \nAnmeldung bis zum 14.03.\, mehr Informationen bei Daniela Pollin.
URL:https://www.aachen.digital/en/event/ac%c2%b2-innovationsabend-agit/
LOCATION:Ideenfabrik Nachhaltige Wirtschaft\, Josef-Ruhr-Straße 30\, Euskirchen\, Nordrhein-Westfalen\, 53879\, Germany
ATTACH;FMTTYPE=image/jpeg:https://www.aachen.digital/wp-content/uploads/2024/12/AC2-.jpg
ORGANIZER;CN="AGIT mbH":MAILTO:info@agit.de
END:VEVENT
BEGIN:VEVENT
DTSTART;TZID=Europe/Berlin:20250312T130000
DTEND;TZID=Europe/Berlin:20250312T170000
DTSTAMP:20260423T165755
CREATED:20250306T143622Z
LAST-MODIFIED:20250313T102925Z
UID:10007254-1741784400-1741798800@www.aachen.digital
SUMMARY:Workshop Nachhaltigkeitsorientierte Unternehmenskultur
DESCRIPTION:Referentin Dr. Dorothea Ernst – Sustainability Catalyst -Inform GmbH \n\nElemente einer Organisationskultur\nTransformationshebel Erfolgsmetrik\nMeist passiert schon mehr\, als uns bewusst ist\nBestimmung des Status-quo\, z.B. CO2-Fußabdruck\n\nAGENDA: \n12:40 Einlass \n13:00 Begrüßung Ideenfabrik & Vorstellung Ziel 100 nachhaltige Unternehmen \n13:10 Workshop inkl. Pause \n17:00 Ende \nANMELDUNG \nDie Veranstaltung findet in Kooperation mit dem digitalHUB Aachen statt.
URL:https://www.aachen.digital/en/event/workshop-nachhaltigkeitsorientierte-unternehmenskultur/
LOCATION:Ideenfabrik Nachhaltige Wirtschaft\, Josef-Ruhr-Straße 30\, Euskirchen\, Nordrhein-Westfalen\, 53879\, Germany
ATTACH;FMTTYPE=image/jpeg:https://www.aachen.digital/wp-content/uploads/2025/03/Workshop-Ideenfabrik-Nachhaltigkeit.jpg
END:VEVENT
BEGIN:VEVENT
DTSTART;TZID=Europe/Berlin:20240416T110000
DTEND;TZID=Europe/Berlin:20240416T160000
DTSTAMP:20260423T165755
CREATED:20240110T120404Z
LAST-MODIFIED:20240110T120902Z
UID:10006706-1713265200-1713283200@www.aachen.digital
SUMMARY:SDG-Scouts®-business: Workshop #3
DESCRIPTION:Als SDG-Scouts® – business haben Beschäftigte aus Unternehmen aller Branchen die Chance\, in ihrem Betrieb Nachhaltigkeit voranzubringen. Anhand der 17 Nachhaltigkeitsziele (SDGs) werden effektive Verbesserungspotenziale erkannt und innerhalb eines Praxisprojektes umgesetzt. \n\n\n\n\nEin Programmdurchlauf dauert ca. 6 Monate und wird ab Frühjahr 2024 in der Ideenfabrik Nachhaltige Wirtschaft angeboten. Im Mittelpunkt der Schulung steht eine Idee für ein praktisches Nachhaltigkeitsprojekt\, das pro Betrieb mind. 2-3 Mitarbeitende gemeinsam entwickeln und abschließend präsentieren. \nWorkshop 3: Von der Bestandsaufnahme zu konkreten Projektideen \n\nVorstellung und Diskussion der Ergebnisse der Betriebserkundung\nAuswahl von Verbesserungsideen für die weitere Projektarbeit\n\nWeitere Informationen: www.ideenfabrik-kreis-euskirchen.de \nZur Anmeldung: Mail an laura.meyer@kreis-euskirchen.de.
URL:https://www.aachen.digital/en/event/sdg-scouts-business-workshop-3/
ATTACH;FMTTYPE=image/jpeg:https://www.aachen.digital/wp-content/uploads/2024/01/Stage-SDG-Scouts_Kreis-Euskirchen.jpg
END:VEVENT
BEGIN:VEVENT
DTSTART;TZID=Europe/Berlin:20240314T090000
DTEND;TZID=Europe/Berlin:20240314T140000
DTSTAMP:20260423T165755
CREATED:20240110T120121Z
LAST-MODIFIED:20240110T120304Z
UID:10006704-1710406800-1710424800@www.aachen.digital
SUMMARY:SDG-Scouts®-business: Workshop #2
DESCRIPTION:Als SDG-Scouts® – business haben Beschäftigte aus Unternehmen aller Branchen die Chance\, in ihrem Betrieb Nachhaltigkeit voranzubringen. Anhand der 17 Nachhaltigkeitsziele (SDGs) werden effektive Verbesserungspotenziale erkannt und innerhalb eines Praxisprojektes umgesetzt. \n\n\n\n\nEin Programmdurchlauf dauert ca. 6 Monate und wird ab Frühjahr 2024 in der Ideenfabrik Nachhaltige Wirtschaft angeboten. Im Mittelpunkt der Schulung steht eine Idee für ein praktisches Nachhaltigkeitsprojekt\, das pro Betrieb mind. 2-3 Mitarbeitende gemeinsam entwickeln und abschließend präsentieren. \nWorkshop 2: Nachhaltigkeit und SDGs in Unternehmen \n\nKonzepte zur Förderung von Nachhaltigkeit in Unternehmen: CSR und SDGs\nEinführung in die Handhabung des SDG-Erkundungsbogens sowie des SDG-Erkundungsberichts Praxisphase: SDG-Erkundung (ca. 1-2 Monate)\nIdentifizierung von betrieblichen Nachhaltigkeitsaktivitäten sowie von Verbesserungsbereichen\nErstellung eines SDG-Erkundungsberichts\n\n\nWeitere Informationen: www.ideenfabrik-kreis-euskirchen.de \nZur Anmeldung: Mail an laura.meyer@kreis-euskirchen.de.
URL:https://www.aachen.digital/en/event/sdg-scouts-business-workshop-2/
ATTACH;FMTTYPE=image/jpeg:https://www.aachen.digital/wp-content/uploads/2024/01/Stage-SDG-Scouts_Kreis-Euskirchen.jpg
END:VEVENT
BEGIN:VEVENT
DTSTART;TZID=Europe/Berlin:20240313T110000
DTEND;TZID=Europe/Berlin:20240313T170000
DTSTAMP:20260423T165755
CREATED:20240110T120132Z
LAST-MODIFIED:20240110T120132Z
UID:10006705-1710327600-1710349200@www.aachen.digital
SUMMARY:SDG-Scouts®-business: Workshop #1
DESCRIPTION:Als SDG-Scouts® – business haben Beschäftigte aus Unternehmen aller Branchen die Chance\, in ihrem Betrieb Nachhaltigkeit voranzubringen. Anhand der 17 Nachhaltigkeitsziele (SDGs) werden effektive Verbesserungspotenziale erkannt und innerhalb eines Praxisprojektes umgesetzt. \n\n\n\n\nEin Programmdurchlauf dauert ca. 6 Monate und wird ab Frühjahr 2024 in der Ideenfabrik Nachhaltige Wirtschaft angeboten. Im Mittelpunkt der Schulung steht eine Idee für ein praktisches Nachhaltigkeitsprojekt\, das pro Betrieb mind. 2-3 Mitarbeitende gemeinsam entwickeln und abschließend präsentieren. \n\nWorkshop 1: Nachhaltigkeit und SDGs \n\nRolle der „SDG-Scouts®“ im Unternehmen\nNachhaltigkeit und Verbraucherverhalten\nAktivitäten und Vereinbarungen – 17 Ziele für eine nachhaltige Gesellschaft (SDG)\n\n\n\n\n\n\n\n\nWeitere Informationen: www.ideenfabrik-kreis-euskirchen.de \nZur Anmeldung: Mail an laura.meyer@kreis-euskirchen.de. \n\n\n 
URL:https://www.aachen.digital/en/event/sdg-scouts-business-workshop-1/
ATTACH;FMTTYPE=image/jpeg:https://www.aachen.digital/wp-content/uploads/2024/01/Stage-SDG-Scouts_Kreis-Euskirchen.jpg
END:VEVENT
END:VCALENDAR