BEGIN:VCALENDAR
VERSION:2.0
PRODID:-//digitalHUB Aachen - ECPv6.15.20//NONSGML v1.0//EN
CALSCALE:GREGORIAN
METHOD:PUBLISH
X-WR-CALNAME:digitalHUB Aachen
X-ORIGINAL-URL:https://www.aachen.digital/en/
X-WR-CALDESC:Events for digitalHUB Aachen
REFRESH-INTERVAL;VALUE=DURATION:PT1H
X-Robots-Tag:noindex
X-PUBLISHED-TTL:PT1H
BEGIN:VTIMEZONE
TZID:Europe/Berlin
BEGIN:DAYLIGHT
TZOFFSETFROM:+0100
TZOFFSETTO:+0200
TZNAME:CEST
DTSTART:20170326T010000
END:DAYLIGHT
BEGIN:STANDARD
TZOFFSETFROM:+0200
TZOFFSETTO:+0100
TZNAME:CET
DTSTART:20171029T010000
END:STANDARD
BEGIN:DAYLIGHT
TZOFFSETFROM:+0100
TZOFFSETTO:+0200
TZNAME:CEST
DTSTART:20180325T010000
END:DAYLIGHT
BEGIN:STANDARD
TZOFFSETFROM:+0200
TZOFFSETTO:+0100
TZNAME:CET
DTSTART:20181028T010000
END:STANDARD
BEGIN:DAYLIGHT
TZOFFSETFROM:+0100
TZOFFSETTO:+0200
TZNAME:CEST
DTSTART:20190331T010000
END:DAYLIGHT
BEGIN:STANDARD
TZOFFSETFROM:+0200
TZOFFSETTO:+0100
TZNAME:CET
DTSTART:20191027T010000
END:STANDARD
END:VTIMEZONE
BEGIN:VEVENT
DTSTART;TZID=Europe/Berlin:20180927T150000
DTEND;TZID=Europe/Berlin:20180927T200000
DTSTAMP:20260424T013709
CREATED:20180927T105345Z
LAST-MODIFIED:20181107T135449Z
UID:10004646-1538060400-1538078400@www.aachen.digital
SUMMARY:DigitalkPLUS
DESCRIPTION:Hochkarätige Redner referieren darüber\, wie die Digitalisierung unser Leben verändert – wirtschaftlich\, gesellschaftlich und privat. Die digitale Technologie prägt die Art und Weise\, wie Menschen ihre Meinungen bilden\, wie sie entscheiden\, wie sie untereinander Informationen austauschen und miteinander arbeiten. Doch ist das ein Grund\, Ängste zu schüren\, statt Vorbereitungen zu treffen? \nInformieren Sie sich über die topaktuellen Businesstrends\n„Alles digital?“\, ein vierstündiger Kongress und das am Abend anschließende Get-together\, bietet Gelegenheit\, um mit 600 Gästen alte Beziehungen zu pflegen\, neue geschäftliche Kontaktezu knüpfen und sich über aktuelle Technologietrends zu informieren. \nAlle Informationen zur Veranstaltung finden Sie unter diesem Link: DigitalkPLUS \nIhre kostenlose und verbindliche Anmeldung senden Sie ausschließlich per E-Mail an: digitalestadt@duesseldorf.de (Betreff: DigitalkPLUS).
URL:https://www.aachen.digital/en/event/digitalkplus/
LOCATION:Stadtwerke Düsseldorf AG\, Höherweg 100\, Düsseldorf\, NRW\, 40212\, Deutschland
ATTACH;FMTTYPE=image/jpeg:https://www.aachen.digital/wp-content/uploads/2018/10/AdobeStock_133395505-e1732276621765.jpeg
END:VEVENT
END:VCALENDAR