BEGIN:VCALENDAR
VERSION:2.0
PRODID:-//digitalHUB Aachen - ECPv6.15.20//NONSGML v1.0//EN
CALSCALE:GREGORIAN
METHOD:PUBLISH
X-ORIGINAL-URL:https://www.aachen.digital/en/
X-WR-CALDESC:Events for digitalHUB Aachen
REFRESH-INTERVAL;VALUE=DURATION:PT1H
X-Robots-Tag:noindex
X-PUBLISHED-TTL:PT1H
BEGIN:VTIMEZONE
TZID:Europe/Berlin
BEGIN:DAYLIGHT
TZOFFSETFROM:+0100
TZOFFSETTO:+0200
TZNAME:CEST
DTSTART:20180325T010000
END:DAYLIGHT
BEGIN:STANDARD
TZOFFSETFROM:+0200
TZOFFSETTO:+0100
TZNAME:CET
DTSTART:20181028T010000
END:STANDARD
BEGIN:DAYLIGHT
TZOFFSETFROM:+0100
TZOFFSETTO:+0200
TZNAME:CEST
DTSTART:20190331T010000
END:DAYLIGHT
BEGIN:STANDARD
TZOFFSETFROM:+0200
TZOFFSETTO:+0100
TZNAME:CET
DTSTART:20191027T010000
END:STANDARD
BEGIN:DAYLIGHT
TZOFFSETFROM:+0100
TZOFFSETTO:+0200
TZNAME:CEST
DTSTART:20200329T010000
END:DAYLIGHT
BEGIN:STANDARD
TZOFFSETFROM:+0200
TZOFFSETTO:+0100
TZNAME:CET
DTSTART:20201025T010000
END:STANDARD
BEGIN:DAYLIGHT
TZOFFSETFROM:+0100
TZOFFSETTO:+0200
TZNAME:CEST
DTSTART:20210328T010000
END:DAYLIGHT
BEGIN:STANDARD
TZOFFSETFROM:+0200
TZOFFSETTO:+0100
TZNAME:CET
DTSTART:20211031T010000
END:STANDARD
BEGIN:DAYLIGHT
TZOFFSETFROM:+0100
TZOFFSETTO:+0200
TZNAME:CEST
DTSTART:20220327T010000
END:DAYLIGHT
BEGIN:STANDARD
TZOFFSETFROM:+0200
TZOFFSETTO:+0100
TZNAME:CET
DTSTART:20221030T010000
END:STANDARD
END:VTIMEZONE
BEGIN:VEVENT
DTSTART;TZID=Europe/Berlin:20210428T100000
DTEND;TZID=Europe/Berlin:20210428T160000
DTSTAMP:20260423T204503
CREATED:20210319T092931Z
LAST-MODIFIED:20210319T093101Z
UID:10005408-1619604000-1619625600@www.aachen.digital
SUMMARY:e-Marketingday Rheinland 2021
DESCRIPTION:Der Infotag zum digitalen Werben und Verkaufen!\nAuch in 2021 ist das Thema Onlinemarketing so aktuell wie kaum zuvor. Wie erreiche ich meine Kunden auf digitalen Kanälen ist eine der zentralen Fragen für kleine und mittelgroße Unternehmen aller Branchen. \nAm 28. April finden Sie darauf Antworten – egal ob Einsteiger\, Fortgeschrittene oder auf Experten-Niveau. Die Rheinland-IHKs bringen auf dem e-Marketingday (EMD) Experten im Bereich Onlinemarketing zusammen\, um Ihre wichtigsten Fragen zu beantworten. \nFür einen außergewöhnlichen Auftakt sorgt Titus Dittmann\, Unternehmer\, Multitalent und Social Entrepreneur mit dem Thema „Mut ist\, wenn man es trotzdem macht“. Im Anschluss geht es in verschiedenen Sessions um Themen wie den Start ins E-Commerce Business\, Marketingautomation und Künstliche Intelligenz oder das 1×1 der Suchmaschinenoptimierung. \nDie IHKs im Rheinland freuen sich\, Sie auf dem kostenfreien\, digitalen „e-Marketingday Rheinland“ zu begrüßen! \nAlle Informationen zum Programm\, Ablauf und zur Anmeldung finden Sie auf der EMD-Website unter https://e-marketingday.de.
URL:https://www.aachen.digital/en/event/e-marketingday-rheinland-2021-der-infotag-zum-digitalen-werben-und-verkaufen/
LOCATION:Jülicher Strasse 72a\, Aachen\, 52070\, Germany
ATTACH;FMTTYPE=image/jpeg:https://www.aachen.digital/wp-content/uploads/2021/03/stage-1-1.jpeg
END:VEVENT
BEGIN:VEVENT
DTSTART;TZID=Europe/Berlin:20201028T100000
DTEND;TZID=Europe/Berlin:20201028T140000
DTSTAMP:20260423T204503
CREATED:20201008T120036Z
LAST-MODIFIED:20201008T131304Z
UID:10005650-1603879200-1603893600@www.aachen.digital
SUMMARY:e-Marketingday Rheinland Webinar 2020
DESCRIPTION:Für die Wartezeit bis zum nächsten Kongress: \n***Kostenfreies e-Marketingday Rheinland Webinar 2020*** \nDer Informationstag der Industrie- und Handelskammern im Rheinland für kleine und mittelständische Unternehmen zum digitalen Werben! \nDigitale Kundenansprache im Fokus – in diesem Jahr so wichtig wie nie zuvor \nDie Auswirkungen der Corona-Pandemie machen auch von dem e-Marketingday nicht Halt. Nachdem die Präsenzveranstaltung abgesagt werden musste\, geht es am 28. Oktober in die digitale Runde. Von 10-14 Uhr laden wir Sie herzlich zum virtuellen e-Marketingday Webinar ein. \nDer Schwerpunkt liegt aus gegebenem Anlass auf der Kundenansprache im digitalen Raum. Wie kommuniziere ich richtig? Was kann und sollte meine Homepage leisten? Werde ich im Netz überhaupt gefunden? Welche Tools bieten sich für die Onlineberatung an? \nUnternehmer aus dem ganzen Rheinland bieten geben Input und stehen Rede und Antwort\, wenn es um ihre Fragen geht. \nWeitere Informationen zum Programm und den Referenten finden Sie auf der Homepage. \nHIER GEHT’S ZUR ANMELDUNG
URL:https://www.aachen.digital/en/event/e-marketingday-rheinland-webinar-2020/
LOCATION:Jülicher Strasse 72a\, Aachen\, 52070\, Germany
END:VEVENT
BEGIN:VEVENT
DTSTART;VALUE=DATE:20190508
DTEND;VALUE=DATE:20190509
DTSTAMP:20260423T204503
CREATED:20190107T104322Z
LAST-MODIFIED:20190214T150422Z
UID:10004679-1557273600-1557359999@www.aachen.digital
SUMMARY:9. "e-Marketingday" im Rheinland
DESCRIPTION:Der Informationstag der Industrie- und Handelskammern im Rheinland für kleine und mittelständische Unternehmen zum digitalen Werben!\n\nSocial Media\, Suchmaschinenoptimierung\, Website und vieles mehr – die Möglichkeiten sein Unternehmen im Netz zu präsentieren und Kunden zu gewinnen sind enorm. Die Industrie- und Handelskammern im Rheinland veranstalten jährlich einen Aktionstag mit Impulsen\, Fachvorträgen\, Workshops und einer Fachausstellung zu den Möglichkeiten und Trends im digitalen Werben. \nDer nächste e-Marketingday Rheinland findet statt:\n8. Mai 2019 | Aachen \nDiese mittelstandsorientierte Veranstaltung hat sich seit 2011 mit durchschnittlich über 500 Teilnehmern zu einem wichtigen Informationstermin für kleine und mittlere Unternehmen zum Thema Online-Marketing etabliert. \nWeitere Informationen folgen. \n  \n \n  \nBilder: https://e-marketingday.de/
URL:https://www.aachen.digital/en/event/9-e-marketingday-im-rheinland/
LOCATION:Starfish Aachen\, Liebigstraße 19\, Aachen\, NRW\, 52070
ATTACH;FMTTYPE=image/png:https://www.aachen.digital/wp-content/uploads/2019/01/Rheinland.png
END:VEVENT
END:VCALENDAR