BEGIN:VCALENDAR
VERSION:2.0
PRODID:-//digitalHUB Aachen - ECPv6.15.20//NONSGML v1.0//EN
CALSCALE:GREGORIAN
METHOD:PUBLISH
X-WR-CALNAME:digitalHUB Aachen
X-ORIGINAL-URL:https://www.aachen.digital/en/
X-WR-CALDESC:Events for digitalHUB Aachen
REFRESH-INTERVAL;VALUE=DURATION:PT1H
X-Robots-Tag:noindex
X-PUBLISHED-TTL:PT1H
BEGIN:VTIMEZONE
TZID:Europe/Berlin
BEGIN:DAYLIGHT
TZOFFSETFROM:+0100
TZOFFSETTO:+0200
TZNAME:CEST
DTSTART:20190331T010000
END:DAYLIGHT
BEGIN:STANDARD
TZOFFSETFROM:+0200
TZOFFSETTO:+0100
TZNAME:CET
DTSTART:20191027T010000
END:STANDARD
BEGIN:DAYLIGHT
TZOFFSETFROM:+0100
TZOFFSETTO:+0200
TZNAME:CEST
DTSTART:20200329T010000
END:DAYLIGHT
BEGIN:STANDARD
TZOFFSETFROM:+0200
TZOFFSETTO:+0100
TZNAME:CET
DTSTART:20201025T010000
END:STANDARD
BEGIN:DAYLIGHT
TZOFFSETFROM:+0100
TZOFFSETTO:+0200
TZNAME:CEST
DTSTART:20210328T010000
END:DAYLIGHT
BEGIN:STANDARD
TZOFFSETFROM:+0200
TZOFFSETTO:+0100
TZNAME:CET
DTSTART:20211031T010000
END:STANDARD
BEGIN:DAYLIGHT
TZOFFSETFROM:+0100
TZOFFSETTO:+0200
TZNAME:CEST
DTSTART:20220327T010000
END:DAYLIGHT
BEGIN:STANDARD
TZOFFSETFROM:+0200
TZOFFSETTO:+0100
TZNAME:CET
DTSTART:20221030T010000
END:STANDARD
BEGIN:DAYLIGHT
TZOFFSETFROM:+0100
TZOFFSETTO:+0200
TZNAME:CEST
DTSTART:20230326T010000
END:DAYLIGHT
BEGIN:STANDARD
TZOFFSETFROM:+0200
TZOFFSETTO:+0100
TZNAME:CET
DTSTART:20231029T010000
END:STANDARD
END:VTIMEZONE
BEGIN:VEVENT
DTSTART;TZID=Europe/Berlin:20221206T093000
DTEND;TZID=Europe/Berlin:20221206T170000
DTSTAMP:20260423T230329
CREATED:20221031T080420Z
LAST-MODIFIED:20221031T080420Z
UID:10006337-1670319000-1670346000@www.aachen.digital
SUMMARY:IT-Sicherheitstag NRW
DESCRIPTION:Cyber-Attacken\, Datenschutz und Mitarbeiter-Sensibilisierung… welche Themen müssen Unternehmen im Blick haben\, um beim IT-Notfall bestmöglich vorbereitet zu sein und richtig reagieren zu können? Informationen\, praktische Tipps\, Hilfestellungen und ein Netzwerk von Experten und Anbietern bietet der IT-Sicherheitstag NRW der Industrie- und Handelskammern in Nordrhein-Westfalen\, des Westdeutschen Handwerkskammertages sowie dem Kompetenzzentrum Digital.Sicher.NRW. \n\nHYBRID – IHR HABT DIE WAHL: Ihr könnt den Infotag vor Ort erleben oder virtuell die Vorträge live am Arbeitsplatz verfolgen.\nNEU: Die Teilnahme am IT-Sicherheitstag NRW ist kostenfrei. Eine Registrierung ist erforderlich. Die Teilnahme ist begrenzt.\nAUCH FÜR ANBIETER UND DIENSTLEISTER: Informiert euch unter Aussteller/Partner über die Mitwirkungsmöglichkeiten.\n\nZUR ANMELDUNG
URL:https://www.aachen.digital/en/event/it-sicherheitstag-nrw-2/
LOCATION:Siegerlandhalle Siegen\, Koblenzer Str. 151\, Siegen\, 57072\, Deutschland
ATTACH;FMTTYPE=image/png:https://www.aachen.digital/wp-content/uploads/2022/10/Kopie-von-pitchandprost_nl5.png
END:VEVENT
BEGIN:VEVENT
DTSTART;TZID=Europe/Berlin:20201202T100000
DTEND;TZID=Europe/Berlin:20201202T160000
DTSTAMP:20260423T230329
CREATED:20200107T140349Z
LAST-MODIFIED:20201110T122604Z
UID:10004893-1606903200-1606924800@www.aachen.digital
SUMMARY:IT-Sicherheitstag NRW
DESCRIPTION:Vorzusorgen ist besser als das Nachsehen zu haben. Das gilt insbesondere auch für die Datensicherheit in Betrieben. \nMit Impulsvorträgen\, Experten- und Basic-Foren\, Seminaren und einer Fachausstellung bietet die Industrie- und Handelskammern in Nordrhein-Westfalen am 2. Dezember 2020 einen umfangreichen Service für Unternehmen zu den Themen Daten-\, Informations- und IT-Sicherheit. Die Veranstaltung sollte ursprünglich im Tivoli Aachen stattfinden\, findet nun jedoch digital und kostenfrei statt. \nHIER GREHT’S ZUR ANMELDUNG. \nAuf dem IHK-Event mit ca. 350 Teilnehmern können Sie sich über Trends und Maßnahmen gegen Cyberkriminalität informieren und konkrete Tipps zum Thema Daten-\, Informations- und IT-Sicherheit erhalten. Das Thema wird immer drängender: Mehr als zwei Drittel der Industriebetriebe haben laut einer Studie des Branchenverbands BITKOM angegeben\, bereits Opfer eines Cyberangriffs geworden zu sein. Schädliche Anhänge oder Links bei E-Mails stellen ein häufiges Einfallstor dar. „IT-Sicherheit ist keine Frage der Betriebsgröße oder der Branche. Sie betrifft alle Unternehmen. Umso wichtiger ist es\, frühzeitig Maßnahmen zu ergreifen und die Abwehrfähigkeit im Unternehmen zu stärken.“ Mit diesen Worten eröffnete Dr. Ralf Mittelstädt\, Hauptgeschäftsführer von IHK NRW – die Industrie- und Handelskammern in NRW\, den Fachkongress für die mittelständische Wirtschaft.
URL:https://www.aachen.digital/en/event/it-sicherheitstag-nrw/
LOCATION:Jülicher Strasse 72a\, Aachen\, 52070\, Germany
ATTACH;FMTTYPE=image/jpeg:https://www.aachen.digital/wp-content/uploads/2020/01/AdobeStock_176715044.jpg
END:VEVENT
END:VCALENDAR