BEGIN:VCALENDAR
VERSION:2.0
PRODID:-//digitalHUB Aachen - ECPv6.15.20//NONSGML v1.0//EN
CALSCALE:GREGORIAN
METHOD:PUBLISH
X-ORIGINAL-URL:https://www.aachen.digital/en/
X-WR-CALDESC:Events for digitalHUB Aachen
REFRESH-INTERVAL;VALUE=DURATION:PT1H
X-Robots-Tag:noindex
X-PUBLISHED-TTL:PT1H
BEGIN:VTIMEZONE
TZID:Europe/Berlin
BEGIN:DAYLIGHT
TZOFFSETFROM:+0100
TZOFFSETTO:+0200
TZNAME:CEST
DTSTART:20210328T010000
END:DAYLIGHT
BEGIN:STANDARD
TZOFFSETFROM:+0200
TZOFFSETTO:+0100
TZNAME:CET
DTSTART:20211031T010000
END:STANDARD
BEGIN:DAYLIGHT
TZOFFSETFROM:+0100
TZOFFSETTO:+0200
TZNAME:CEST
DTSTART:20220327T010000
END:DAYLIGHT
BEGIN:STANDARD
TZOFFSETFROM:+0200
TZOFFSETTO:+0100
TZNAME:CET
DTSTART:20221030T010000
END:STANDARD
BEGIN:DAYLIGHT
TZOFFSETFROM:+0100
TZOFFSETTO:+0200
TZNAME:CEST
DTSTART:20230326T010000
END:DAYLIGHT
BEGIN:STANDARD
TZOFFSETFROM:+0200
TZOFFSETTO:+0100
TZNAME:CET
DTSTART:20231029T010000
END:STANDARD
END:VTIMEZONE
BEGIN:VEVENT
DTSTART;VALUE=DATE:20220827
DTEND;VALUE=DATE:20221031
DTSTAMP:20260423T215623
CREATED:20220830T075724Z
LAST-MODIFIED:20220830T075724Z
UID:10006307-1661558400-1667174399@www.aachen.digital
SUMMARY:Fast Circular Fashion
DESCRIPTION:Innovative Ideen für die Mode von morgen\nNachhaltigkeit ist eine der zentralen Herausforderungen in der Mode- und Textilindustrie. Beinahe jeden Monat kommt eine neue Kollektion auf den Markt\, Lieferketten erstrecken sich über Tausende Kilometer und 60 neu Kleidungsstücke kaufen Deutsche durchschnittlich jedes Jahr\, während weniger als 1% der Altkleider tatsächlich recycelt wird. Fast Fashion ist nicht nur – wie der Name bereits verrät – kurzlebig\, sondern auch extrem umweltbelastend. \nDas Oecherlab hat in Kooperation mit IKIGO Studios einen tollen Raum mit einer informativen Ausstellung gestaltet\, in dem viele kreative Workshops und interessante Veranstaltungen zum Thema Kreislaufwirtschaft in der Mode- und Textilindustrie stattfinden. \nEntdecke innovative Ideen wie Schuhe aus Mais\, Hüte aus alten Zelten und Rucksäcke aus recycelten Airbags. Schau jederzeit im OecherLab vorbei und melde dich für die kostenlosen Workshops zum Mitmachen und Ausprobieren an. Unter dem Motto Upcycling & Recycling könnt ihr euch auf DIY-Workshops zu verschiedenen kreativen Themen freuen. \nDienstag – Mittwoch 11 – 17 Uhr | Donnerstag 11 – 19 Uhr \nZU DEN WORKSHOPS
URL:https://www.aachen.digital/en/event/fast-circular-fashion/
LOCATION:OecherLab\, Kapuzinergraben 19D\, 52062 Aachen
ATTACH;FMTTYPE=image/jpeg:https://www.aachen.digital/wp-content/uploads/2022/08/fastcircularfashion_stage.jpg
END:VEVENT
END:VCALENDAR