BEGIN:VCALENDAR
VERSION:2.0
PRODID:-//digitalHUB Aachen - ECPv6.15.20//NONSGML v1.0//EN
CALSCALE:GREGORIAN
METHOD:PUBLISH
X-WR-CALNAME:digitalHUB Aachen
X-ORIGINAL-URL:https://www.aachen.digital/en/
X-WR-CALDESC:Events for digitalHUB Aachen
REFRESH-INTERVAL;VALUE=DURATION:PT1H
X-Robots-Tag:noindex
X-PUBLISHED-TTL:PT1H
BEGIN:VTIMEZONE
TZID:Europe/Berlin
BEGIN:DAYLIGHT
TZOFFSETFROM:+0100
TZOFFSETTO:+0200
TZNAME:CEST
DTSTART:20220327T010000
END:DAYLIGHT
BEGIN:STANDARD
TZOFFSETFROM:+0200
TZOFFSETTO:+0100
TZNAME:CET
DTSTART:20221030T010000
END:STANDARD
BEGIN:DAYLIGHT
TZOFFSETFROM:+0100
TZOFFSETTO:+0200
TZNAME:CEST
DTSTART:20230326T010000
END:DAYLIGHT
BEGIN:STANDARD
TZOFFSETFROM:+0200
TZOFFSETTO:+0100
TZNAME:CET
DTSTART:20231029T010000
END:STANDARD
BEGIN:DAYLIGHT
TZOFFSETFROM:+0100
TZOFFSETTO:+0200
TZNAME:CEST
DTSTART:20240331T010000
END:DAYLIGHT
BEGIN:STANDARD
TZOFFSETFROM:+0200
TZOFFSETTO:+0100
TZNAME:CET
DTSTART:20241027T010000
END:STANDARD
END:VTIMEZONE
BEGIN:VEVENT
DTSTART;TZID=Europe/Berlin:20231128T143000
DTEND;TZID=Europe/Berlin:20231128T220000
DTSTAMP:20260423T225457
CREATED:20231002T095139Z
LAST-MODIFIED:20231030T134942Z
UID:10006544-1701181800-1701208800@www.aachen.digital
SUMMARY:Digitalisierungskonferenz Industrie360digital
DESCRIPTION:Am 28. November 2023 findet erstmalig die Digitalisierungskonferenz Industrie360digital im Liebig in Aachen statt. Digitale Geschäftsmöglichkeiten und Netzwerken unter Entscheidern von produzierenden Unternehmen stehen im Mittelpunkt der Konferenz. \nNeben zahlreichen Impulsvorträgen bekannter Speaker:innen liegt der Fokus des Events auf dem persönlichen Austausch innerhalb der Entscheider:innenebene zur zukünftigen digitalen Mitgestaltung der Branche. Die Veranstaltung ist auf 100 Teilnehmer:innen limitiert und von der VS-Apps GmbH initiiert. \nDen Besucher:innen werden nicht nur neue innovative Denkweisen für digitale Geschäftsmöglichkeiten vermittelt\, es wird ein einzigartiges Netzwerk aus Macher:innen geschaffen. \nZUR ANMELDUNG
URL:https://www.aachen.digital/en/event/digitalisierungskonferenz-industrie360digital/
LOCATION:DAS LIEBIG\, Liebigstraße 19\, Aachen\, 52070
ATTACH;FMTTYPE=image/jpeg:https://www.aachen.digital/wp-content/uploads/2023/10/Industrie360digital-stage.jpg
END:VEVENT
END:VCALENDAR