BEGIN:VCALENDAR
VERSION:2.0
PRODID:-//digitalHUB Aachen - ECPv6.15.20//NONSGML v1.0//EN
CALSCALE:GREGORIAN
METHOD:PUBLISH
X-WR-CALNAME:digitalHUB Aachen
X-ORIGINAL-URL:https://www.aachen.digital/en/
X-WR-CALDESC:Events for digitalHUB Aachen
REFRESH-INTERVAL;VALUE=DURATION:PT1H
X-Robots-Tag:noindex
X-PUBLISHED-TTL:PT1H
BEGIN:VTIMEZONE
TZID:Europe/Berlin
BEGIN:DAYLIGHT
TZOFFSETFROM:+0100
TZOFFSETTO:+0200
TZNAME:CEST
DTSTART:20200329T010000
END:DAYLIGHT
BEGIN:STANDARD
TZOFFSETFROM:+0200
TZOFFSETTO:+0100
TZNAME:CET
DTSTART:20201025T010000
END:STANDARD
BEGIN:DAYLIGHT
TZOFFSETFROM:+0100
TZOFFSETTO:+0200
TZNAME:CEST
DTSTART:20210328T010000
END:DAYLIGHT
BEGIN:STANDARD
TZOFFSETFROM:+0200
TZOFFSETTO:+0100
TZNAME:CET
DTSTART:20211031T010000
END:STANDARD
BEGIN:DAYLIGHT
TZOFFSETFROM:+0100
TZOFFSETTO:+0200
TZNAME:CEST
DTSTART:20220327T010000
END:DAYLIGHT
BEGIN:STANDARD
TZOFFSETFROM:+0200
TZOFFSETTO:+0100
TZNAME:CET
DTSTART:20221030T010000
END:STANDARD
END:VTIMEZONE
BEGIN:VEVENT
DTSTART;TZID=Europe/Berlin:20210318T133000
DTEND;TZID=Europe/Berlin:20210318T173000
DTSTAMP:20260424T033241
CREATED:20210205T113213Z
LAST-MODIFIED:20210326T101101Z
UID:10005390-1616074200-1616088600@www.aachen.digital
SUMMARY:iDA CON 2021
DESCRIPTION:Celebrate Digital\n#tech \\ #change \\ #life\nDie erste Konferenz des iDA \nDigitale Transformation als Chance für den deutschen Mittelstand \nDie Corona-Pandemie hat einen großen Schwung in der Digitalisierung von Arbeitsprozessen und Strukturen gebracht und damit zu bisher nicht für vorstellbar gehaltenen Veränderungen geführt. Jetzt ist es an der Zeit\, die internen Arbeitsabläufe zu flexibilisieren und zu optimieren. Wie kann man die Arbeitsorganisation und Projektmanagement digital gestalten? Wie kann man Schulungen online durchführen? Wie fördert man mit Hilfe digitaler Tools die Kreativität? \nDie digitale Transformation wird entscheidend für den Unternehmenserfolg sein. Nehmen Sie an der iDA CON 2021 teil und wappnen Sie sich\, um Ihr Unternehmen zukunftssicher aufzustellen. \nAus der HUBcommunity sind folgende Startups dabei: Heat Energy Solutions\, NAVIBIS\, ambeRoad & valideffect. \nPlatz sichern \nDas Jahr 2020 hat deutlich gemacht\, wie schnell Veränderungen eintreten\, wenn die Notwendigkeit groß genug ist. Corona hat unsere Arbeitswelt sehr beeinflusst.\nDie iDA CON zielt darauf ab\, Themen der digitalen Transformation praxisorientiert und verständlich zu vermitteln. Es gilt\, die Entwicklungen jetzt in richtige Bahnen zu lenken\, digitale Prozesse und Abläufe zu festigen und nachhaltig in Ihrem Unternehmen zu etablieren. \nKeynote- und Impulsvorträge \nHUBmitglied Jan-Peter Meyer-Kahlen von Ericsson Aachen spricht über Digital Leadership und viel mehr… \nHands-on Workshops \nLernen Sie in gemeinsamen Workshops wie Sie in Ihrem Unternehmen aktiv ins Handeln kommen und Mehrwert durch Digitalisierung schaffen. \nNetworking \nTauschen Sie sich mit anderen Mittelständlern der Region Aachen über die Herausforderungen aus und knüpfen Sie Kontakte. \n\nEine Veranstaltung des Instituts für Digitalisierung Aachen – FH Aachen. \n\n\n\n\n\n\n\n\n\n\n\n\n\n\n\n\n\n\n\n  \n\n\n\n\n\n\n\n\n\n\n\n\n\n\n\n\n\n\n\n\n\n\n\n\n\n\n\n\n\n\n\n\n\n\n\n\n\n\n\n\n\n\n\n\n\n\n\n\n\n\n\n\n\n\n\n\n\n\n\n\n\n\n\n\n\n\n\n\n\n\n\n\n\n\n\n\n\n\n\n\n\n\n\n\n\n\n\n\n\n\n  \n\n\n\n\n\n\n\n\n\n  \n\n 
URL:https://www.aachen.digital/en/event/ida-con-2021/
LOCATION:Jülicher Strasse 72a\, Aachen\, 52070\, Germany
ATTACH;FMTTYPE=image/jpeg:https://www.aachen.digital/wp-content/uploads/2021/02/idacon.jpg
END:VEVENT
END:VCALENDAR