BEGIN:VCALENDAR
VERSION:2.0
PRODID:-//digitalHUB Aachen - ECPv6.15.20//NONSGML v1.0//EN
CALSCALE:GREGORIAN
METHOD:PUBLISH
X-ORIGINAL-URL:https://www.aachen.digital/en/
X-WR-CALDESC:Events for digitalHUB Aachen
REFRESH-INTERVAL;VALUE=DURATION:PT1H
X-Robots-Tag:noindex
X-PUBLISHED-TTL:PT1H
BEGIN:VTIMEZONE
TZID:Europe/Berlin
BEGIN:DAYLIGHT
TZOFFSETFROM:+0100
TZOFFSETTO:+0200
TZNAME:CEST
DTSTART:20190331T010000
END:DAYLIGHT
BEGIN:STANDARD
TZOFFSETFROM:+0200
TZOFFSETTO:+0100
TZNAME:CET
DTSTART:20191027T010000
END:STANDARD
BEGIN:DAYLIGHT
TZOFFSETFROM:+0100
TZOFFSETTO:+0200
TZNAME:CEST
DTSTART:20200329T010000
END:DAYLIGHT
BEGIN:STANDARD
TZOFFSETFROM:+0200
TZOFFSETTO:+0100
TZNAME:CET
DTSTART:20201025T010000
END:STANDARD
BEGIN:DAYLIGHT
TZOFFSETFROM:+0100
TZOFFSETTO:+0200
TZNAME:CEST
DTSTART:20210328T010000
END:DAYLIGHT
BEGIN:STANDARD
TZOFFSETFROM:+0200
TZOFFSETTO:+0100
TZNAME:CET
DTSTART:20211031T010000
END:STANDARD
END:VTIMEZONE
BEGIN:VEVENT
DTSTART;TZID=Europe/Berlin:20201104T090000
DTEND;TZID=Europe/Berlin:20201105T150000
DTSTAMP:20260423T225927
CREATED:20201008T094753Z
LAST-MODIFIED:20201008T095113Z
UID:10005005-1604480400-1604588400@www.aachen.digital
SUMMARY:Fachtagung zur Digitalisierung in der Kunststoffverarbeitung
DESCRIPTION:Aufgrund der zunehmenden Forderungen nach Ressourceneffizienz\, Prozessoptimierung und Erhalt der Wettbewerbsfähigkeit des Hochlohnstandorts Deutschland stellt die Digitalisierung eine Schlüsselherausforderung zum Erreichen dieser Ziele dar. \nWichtige Argumente für den Digitalisierungsprozess in jedem Unternehmen sind Einsparungen bei der Prozessentwicklung z. B. durch die parallele Entwicklung auf der virtuellen Maschine und das resultierende Vermeiden von Fehlern im echten Prozess. Hinzu kommen die Standardisierung von Qualität in der eigenen Fertigung\, basierend auf Assistenzsystemen\, die aufgrund höherer Verfügbarkeit von Produktionsdaten und echtzeitfähigen Systemen möglich werden. \nFür die Kunststoffverarbeitung bedeutet dies jedoch nachvollziehbar etwas Anderes als für den Maschinenbau; sogar zwischen verschiedenen Verarbeitungsverfahren in der Kunststoffverarbeitung müssen unterschiedliche Schwerpunkte gesetzt werden. Für die Verfahren der Kunststoffverarbeitung beginnt gerade erst der Differenzierungsprozess. \nAuf der Fachtagung „Digitalisierung in der Kunststoffverarbeitung“ stellen einschlägige Experten aus der Industrie und dem IKV Methoden und Ansätze vor\, um die eigenen Ansprüche an die digitale Produktion mit unterschiedlichen Verarbeitungsverfahren umzusetzen. Nutzen Sie die Fachtagung zur Information und zum Austausch über kunststoffspezifische Themen rund um die Datenerfassung\, Datenverarbeitung und Datennutzung in der eigenen Produktion bzw. im eigenen Unternehmen! \nDie Veranstaltung wird als Online-Format angeboten.   \nBLICK INS PROGRAMM \nZielgruppe: \nDie Fachtagung adressiert Ingenieure und technische Führungskräfte aus den Bereichen Entwicklung\, Formteil- und Werkzeugkonstruktion\, Kunststoffverarbeitung\, Produktionsplanung\, Prozessoptimierung und Qualitätssicherung mit Interesse an der Weiterentwicklung der unternehmenseigenen digitalen Kompetenzen. \n  \nThemenschwerpunkte: \n\nDateninfrastruktur und –erfassung\nKünstliche Intelligenz in der Prozessoptimierung\nMaschine-Maschine-Mensch Kommunikation\nAnwenderbeispiele aus der Kunststoffverarbeitung\n\n>> Teilnahmeticket für Mitglieder der IKV-Fördervereinigung\n \n>> Teilnahmeticket ohne Mitgliedschaft in der IKV-Fördervereinigung \nSie sind nicht sicher\, ob Ihr Unternehmen Mitglied der IKV-Fördervereinigung ist? Bitte wenden Sie sich an Frau Ina Neubert. \nTel. 0241-80 93828 oder akademie@ikv.rwth-aachen.de.
URL:https://www.aachen.digital/en/event/23868/
LOCATION:Jülicher Strasse 72a\, Aachen\, 52070\, Germany
ATTACH;FMTTYPE=image/jpeg:https://www.aachen.digital/wp-content/uploads/2020/10/21007850.jpg
END:VEVENT
END:VCALENDAR