BEGIN:VCALENDAR
VERSION:2.0
PRODID:-//digitalHUB Aachen - ECPv6.15.20//NONSGML v1.0//EN
CALSCALE:GREGORIAN
METHOD:PUBLISH
X-WR-CALNAME:digitalHUB Aachen
X-ORIGINAL-URL:https://www.aachen.digital/en/
X-WR-CALDESC:Events for digitalHUB Aachen
REFRESH-INTERVAL;VALUE=DURATION:PT1H
X-Robots-Tag:noindex
X-PUBLISHED-TTL:PT1H
BEGIN:VTIMEZONE
TZID:Europe/Berlin
BEGIN:DAYLIGHT
TZOFFSETFROM:+0100
TZOFFSETTO:+0200
TZNAME:CEST
DTSTART:20190331T010000
END:DAYLIGHT
BEGIN:STANDARD
TZOFFSETFROM:+0200
TZOFFSETTO:+0100
TZNAME:CET
DTSTART:20191027T010000
END:STANDARD
BEGIN:DAYLIGHT
TZOFFSETFROM:+0100
TZOFFSETTO:+0200
TZNAME:CEST
DTSTART:20200329T010000
END:DAYLIGHT
BEGIN:STANDARD
TZOFFSETFROM:+0200
TZOFFSETTO:+0100
TZNAME:CET
DTSTART:20201025T010000
END:STANDARD
BEGIN:DAYLIGHT
TZOFFSETFROM:+0100
TZOFFSETTO:+0200
TZNAME:CEST
DTSTART:20210328T010000
END:DAYLIGHT
BEGIN:STANDARD
TZOFFSETFROM:+0200
TZOFFSETTO:+0100
TZNAME:CET
DTSTART:20211031T010000
END:STANDARD
END:VTIMEZONE
BEGIN:VEVENT
DTSTART;TZID=Europe/Berlin:20200512T093000
DTEND;TZID=Europe/Berlin:20200512T110000
DTSTAMP:20260424T011535
CREATED:20200421T103743Z
LAST-MODIFIED:20200421T104836Z
UID:10005538-1589275800-1589281200@www.aachen.digital
SUMMARY:Online Workshop: „Methodenkompetenz Problem Framing“
DESCRIPTION:Inhalte des Workshops: \n\n Team und Stakeholder auf ein Thema einschwören\nSchnelle und pragmatische Ideation von Lösungsoptionen\nWorkshops effizient moderieren und mit Ergebnisse abschließen\nDie wichtigsten Probleme identifizieren\nEin gemeinsames Problemverständnis schaffen\nSchnell Konsens für die nächsten Schritte finden\nPriorisierung von Handlungsoptionen\nDiskussionsarme Arbeit in heterogenen Gruppen\nMural-Vorlage für eigene Problem-Framing-Workshops\nAufzeichnung des Workshops\nTeilnahmezertifikat\n\nIn unserem (beruflichen) Alltag stehen wir immer wieder neuen\, komplexen Herausforderungen gegenüber. Unter Zeitdruck entstehen häufig Lösungen\, die nicht direkt am Problem ansetzen oder es nicht komplett erfassen und sich bald als wertlos erweisen. Mit Methoden des Problem Framings lernen Sie\, Herausforderungen systematisch zu begegnen und die bestmögliche Lösung zu finden. Denn ein umfassendes Problemverständnis ist Teil des Entscheidungsprozesses und Voraussetzung für jede erfolgreiche Lösung oder Idee.\nIm interaktiven Workshop nähern sich die Teilnehmer gemeinsam mit speziellen Methoden des Problem Framings einem komplexen Problem an\, um es gemeinsam zu durchdringen. Dabei werden Meinungen und Anregungen von allen Teilnehmern effektiv eingebunden. \nKonditionen: Der Workshop ist exklusiv für Mitglieder des digitalHUB Aachen kostenlos und wird von Interactive Pioneers gesponsort und durchgeführt. Den Zugang zur kostenlosen Anmeldung können Sie per Mail anfragen bei events@hubaachen.de \nWählen Sie Ihren Termin\, schnell sein lohnt sich: Zugunsten einer produktiven Arbeitsatmosphäre ist die Teilnehmerzahl auf 15 begrenzt: \nDienstag\, 28. April von 9:30 Uhr bis 11:00 Uhr\nDienstag\, 5. Mai von 9:30 Uhr bis 11:00 Uhr\nDienstag 12. Mai von 9:30 Uhr bis 11:00 Uhr \nZur Anmeldung geht es unter folgendem Link: \nTickets Workshop
URL:https://www.aachen.digital/en/event/online-workshop-methodenkompetenz-problem-framing/2020-05-12/
LOCATION:Jülicher Strasse 72a\, Aachen\, 52070\, Germany
ATTACH;FMTTYPE=image/jpeg:https://www.aachen.digital/wp-content/uploads/2020/04/stage-Online-Workshop.jpg
END:VEVENT
BEGIN:VEVENT
DTSTART;TZID=Europe/Berlin:20200505T093000
DTEND;TZID=Europe/Berlin:20200505T110000
DTSTAMP:20260424T011535
CREATED:20200421T103743Z
LAST-MODIFIED:20200421T104836Z
UID:10005537-1588671000-1588676400@www.aachen.digital
SUMMARY:Online Workshop: „Methodenkompetenz Problem Framing“
DESCRIPTION:Inhalte des Workshops: \n\n Team und Stakeholder auf ein Thema einschwören\nSchnelle und pragmatische Ideation von Lösungsoptionen\nWorkshops effizient moderieren und mit Ergebnisse abschließen\nDie wichtigsten Probleme identifizieren\nEin gemeinsames Problemverständnis schaffen\nSchnell Konsens für die nächsten Schritte finden\nPriorisierung von Handlungsoptionen\nDiskussionsarme Arbeit in heterogenen Gruppen\nMural-Vorlage für eigene Problem-Framing-Workshops\nAufzeichnung des Workshops\nTeilnahmezertifikat\n\nIn unserem (beruflichen) Alltag stehen wir immer wieder neuen\, komplexen Herausforderungen gegenüber. Unter Zeitdruck entstehen häufig Lösungen\, die nicht direkt am Problem ansetzen oder es nicht komplett erfassen und sich bald als wertlos erweisen. Mit Methoden des Problem Framings lernen Sie\, Herausforderungen systematisch zu begegnen und die bestmögliche Lösung zu finden. Denn ein umfassendes Problemverständnis ist Teil des Entscheidungsprozesses und Voraussetzung für jede erfolgreiche Lösung oder Idee.\nIm interaktiven Workshop nähern sich die Teilnehmer gemeinsam mit speziellen Methoden des Problem Framings einem komplexen Problem an\, um es gemeinsam zu durchdringen. Dabei werden Meinungen und Anregungen von allen Teilnehmern effektiv eingebunden. \nKonditionen: Der Workshop ist exklusiv für Mitglieder des digitalHUB Aachen kostenlos und wird von Interactive Pioneers gesponsort und durchgeführt. Den Zugang zur kostenlosen Anmeldung können Sie per Mail anfragen bei events@hubaachen.de \nWählen Sie Ihren Termin\, schnell sein lohnt sich: Zugunsten einer produktiven Arbeitsatmosphäre ist die Teilnehmerzahl auf 15 begrenzt: \nDienstag\, 28. April von 9:30 Uhr bis 11:00 Uhr\nDienstag\, 5. Mai von 9:30 Uhr bis 11:00 Uhr\nDienstag 12. Mai von 9:30 Uhr bis 11:00 Uhr \nZur Anmeldung geht es unter folgendem Link: \nTickets Workshop
URL:https://www.aachen.digital/en/event/online-workshop-methodenkompetenz-problem-framing/2020-05-05/
LOCATION:Jülicher Strasse 72a\, Aachen\, 52070\, Germany
ATTACH;FMTTYPE=image/jpeg:https://www.aachen.digital/wp-content/uploads/2020/04/stage-Online-Workshop.jpg
END:VEVENT
BEGIN:VEVENT
DTSTART;TZID=Europe/Berlin:20200428T093000
DTEND;TZID=Europe/Berlin:20200428T110000
DTSTAMP:20260424T011535
CREATED:20200421T103743Z
LAST-MODIFIED:20200421T104836Z
UID:10005536-1588066200-1588071600@www.aachen.digital
SUMMARY:Online Workshop: „Methodenkompetenz Problem Framing“
DESCRIPTION:Inhalte des Workshops: \n\n Team und Stakeholder auf ein Thema einschwören\nSchnelle und pragmatische Ideation von Lösungsoptionen\nWorkshops effizient moderieren und mit Ergebnisse abschließen\nDie wichtigsten Probleme identifizieren\nEin gemeinsames Problemverständnis schaffen\nSchnell Konsens für die nächsten Schritte finden\nPriorisierung von Handlungsoptionen\nDiskussionsarme Arbeit in heterogenen Gruppen\nMural-Vorlage für eigene Problem-Framing-Workshops\nAufzeichnung des Workshops\nTeilnahmezertifikat\n\nIn unserem (beruflichen) Alltag stehen wir immer wieder neuen\, komplexen Herausforderungen gegenüber. Unter Zeitdruck entstehen häufig Lösungen\, die nicht direkt am Problem ansetzen oder es nicht komplett erfassen und sich bald als wertlos erweisen. Mit Methoden des Problem Framings lernen Sie\, Herausforderungen systematisch zu begegnen und die bestmögliche Lösung zu finden. Denn ein umfassendes Problemverständnis ist Teil des Entscheidungsprozesses und Voraussetzung für jede erfolgreiche Lösung oder Idee.\nIm interaktiven Workshop nähern sich die Teilnehmer gemeinsam mit speziellen Methoden des Problem Framings einem komplexen Problem an\, um es gemeinsam zu durchdringen. Dabei werden Meinungen und Anregungen von allen Teilnehmern effektiv eingebunden. \nKonditionen: Der Workshop ist exklusiv für Mitglieder des digitalHUB Aachen kostenlos und wird von Interactive Pioneers gesponsort und durchgeführt. Den Zugang zur kostenlosen Anmeldung können Sie per Mail anfragen bei events@hubaachen.de \nWählen Sie Ihren Termin\, schnell sein lohnt sich: Zugunsten einer produktiven Arbeitsatmosphäre ist die Teilnehmerzahl auf 15 begrenzt: \nDienstag\, 28. April von 9:30 Uhr bis 11:00 Uhr\nDienstag\, 5. Mai von 9:30 Uhr bis 11:00 Uhr\nDienstag 12. Mai von 9:30 Uhr bis 11:00 Uhr \nZur Anmeldung geht es unter folgendem Link: \nTickets Workshop
URL:https://www.aachen.digital/en/event/online-workshop-methodenkompetenz-problem-framing/2020-04-28/
LOCATION:Jülicher Strasse 72a\, Aachen\, 52070\, Germany
ATTACH;FMTTYPE=image/jpeg:https://www.aachen.digital/wp-content/uploads/2020/04/stage-Online-Workshop.jpg
END:VEVENT
END:VCALENDAR