BEGIN:VCALENDAR
VERSION:2.0
PRODID:-//digitalHUB Aachen - ECPv6.15.20//NONSGML v1.0//EN
CALSCALE:GREGORIAN
METHOD:PUBLISH
X-WR-CALNAME:digitalHUB Aachen
X-ORIGINAL-URL:https://www.aachen.digital/en/
X-WR-CALDESC:Events for digitalHUB Aachen
REFRESH-INTERVAL;VALUE=DURATION:PT1H
X-Robots-Tag:noindex
X-PUBLISHED-TTL:PT1H
BEGIN:VTIMEZONE
TZID:Europe/Berlin
BEGIN:DAYLIGHT
TZOFFSETFROM:+0100
TZOFFSETTO:+0200
TZNAME:CEST
DTSTART:20200329T010000
END:DAYLIGHT
BEGIN:STANDARD
TZOFFSETFROM:+0200
TZOFFSETTO:+0100
TZNAME:CET
DTSTART:20201025T010000
END:STANDARD
BEGIN:DAYLIGHT
TZOFFSETFROM:+0100
TZOFFSETTO:+0200
TZNAME:CEST
DTSTART:20210328T010000
END:DAYLIGHT
BEGIN:STANDARD
TZOFFSETFROM:+0200
TZOFFSETTO:+0100
TZNAME:CET
DTSTART:20211031T010000
END:STANDARD
BEGIN:DAYLIGHT
TZOFFSETFROM:+0100
TZOFFSETTO:+0200
TZNAME:CEST
DTSTART:20220327T010000
END:DAYLIGHT
BEGIN:STANDARD
TZOFFSETFROM:+0200
TZOFFSETTO:+0100
TZNAME:CET
DTSTART:20221030T010000
END:STANDARD
END:VTIMEZONE
BEGIN:VEVENT
DTSTART;TZID=Europe/Berlin:20210510T150000
DTEND;TZID=Europe/Berlin:20210510T180000
DTSTAMP:20260424T011629
CREATED:20210503T081211Z
LAST-MODIFIED:20210503T081854Z
UID:10005892-1620658800-1620669600@www.aachen.digital
SUMMARY:Digitale Diskussion: Was können Unternehmen von Startups lernen - und umgekehrt?
DESCRIPTION:Immer mehr Konzerne und mittelständische Unternehmen kooperieren mit Start-ups. Denn die Erkenntnis verbreitet sich\, dass beide Seiten gleichermaßen von der Zusammenarbeit profitieren können. \nDie Internationale Handelskammer (ICC)\, bei der die IHK Aachen Mitglied ist\, veranstaltet eine Diskussion zum Thema und lobt einen Preis aus\, für den sich Unternehmen\, die „Open Innovation” in Kooperationen mit Startups fördern\, bewerben können. \nWarum ist offene Innovation für die Wirtschaft so wichtig?\nDie Zusammenarbeit zwischen Unternehmen und Startups bietet Vorteile für beide Seiten: Unternehmen erhalten von den Startups neue Impulse und stärken damit ihre Innovationskraft und Wettbewerbsfähigkeit. Umgekehrt können Startups ihre Ideen und Innovationen in einem unternehmerischen Umfeld weiterentwickeln\, im Idealfall bis zur Marktreife.\nÜber die Erfahrungen von Unternehmen und Startups bei der Zusammenarbeit diskutieren u.a. Bosch oder SAP gemeinsam mit Start-ups. Interessenten können sich gern zur digitalen Paneldiskussion kostenfrei anmelden. \nANMELDUNG \nBegrüßung: \n\nDr. Holger Bingmann\, Präsident ICC Germany\nElisabeth Winkelmeier-Becker\, Parlamentarische Staatssekretärin beim Bundesministerium für Wirtschaft und Energie\n\nPodiumsdiskussion: \n\nAlexa Gorman\, SVP\, SAP.iO Foundries & Intrapreneurship\, SAP SE\n Dr. Ingo Ramesohl\, Managing Director\, Robert Bosch Venture Capital GmbH\nAnna Kaiser\, Gründerin und CEO\, Tandemploy GmbH\nMaximilian Kissel\, Gründer und Geschäftsführer\, Soley GmbH\nVanessa Gstettenbauer\, Präsidiumsmitglied Bundesverband Deutsche Startups e.V.\n\nModeration: Dominik Stute\, Referatsleiter Auslandsmarkterschließung & New Economy\, IHK zu Dortmund \nAb sofort können sich Unternehmen zudem bei den „Corporate Startup Stars Awards“ bewerben.  \nAn wen richtet sich der Preis?\nEs kann sich jedes Unternehmen bewerben\, das mit Startups zusammenarbeitet und über „Open Innovation” unternehmensinterne Innovationsprozesse nach außen öffnet und mit Startups kooperiert. Auszeichnungen werden in zahlreichen Sonderkategorien vergeben\, unter für das beste mittelständische Unternehmen. \nDie Möglichkeit zum Austausch mit dem Veranstalter besteht am 11. Mai um 11 Uhr. Interessierte Unternehmen können sich bis zum 20. Juni 2021 bewerben. Weitere Information zum Preis und Bewerbung über www.corporatestartupstars.com.
URL:https://www.aachen.digital/en/event/digitale-diskussion-10mai2021/
LOCATION:Jülicher Strasse 72a\, Aachen\, 52070\, Germany
ATTACH;FMTTYPE=image/jpeg:https://www.aachen.digital/wp-content/uploads/2021/05/AdobeStock_169701880_grey-scaled-1.jpg
END:VEVENT
END:VCALENDAR