BEGIN:VCALENDAR
VERSION:2.0
PRODID:-//digitalHUB Aachen - ECPv6.15.20//NONSGML v1.0//EN
CALSCALE:GREGORIAN
METHOD:PUBLISH
X-ORIGINAL-URL:https://www.aachen.digital/en/
X-WR-CALDESC:Events for digitalHUB Aachen
REFRESH-INTERVAL;VALUE=DURATION:PT1H
X-Robots-Tag:noindex
X-PUBLISHED-TTL:PT1H
BEGIN:VTIMEZONE
TZID:Europe/Berlin
BEGIN:DAYLIGHT
TZOFFSETFROM:+0100
TZOFFSETTO:+0200
TZNAME:CEST
DTSTART:20250330T010000
END:DAYLIGHT
BEGIN:STANDARD
TZOFFSETFROM:+0200
TZOFFSETTO:+0100
TZNAME:CET
DTSTART:20251026T010000
END:STANDARD
BEGIN:DAYLIGHT
TZOFFSETFROM:+0100
TZOFFSETTO:+0200
TZNAME:CEST
DTSTART:20260329T010000
END:DAYLIGHT
BEGIN:STANDARD
TZOFFSETFROM:+0200
TZOFFSETTO:+0100
TZNAME:CET
DTSTART:20261025T010000
END:STANDARD
BEGIN:DAYLIGHT
TZOFFSETFROM:+0100
TZOFFSETTO:+0200
TZNAME:CEST
DTSTART:20270328T010000
END:DAYLIGHT
BEGIN:STANDARD
TZOFFSETFROM:+0200
TZOFFSETTO:+0100
TZNAME:CET
DTSTART:20271031T010000
END:STANDARD
END:VTIMEZONE
BEGIN:VEVENT
DTSTART;TZID=Europe/Berlin:20260422T100000
DTEND;TZID=Europe/Berlin:20260422T160000
DTSTAMP:20260423T163757
CREATED:20260212T094136Z
LAST-MODIFIED:20260212T094136Z
UID:10007681-1776852000-1776873600@www.aachen.digital
SUMMARY:meet@fh-aachen
DESCRIPTION:Am 22. April 2026 findet im Messezelt am Campus Eupener Straße von 10 bis 16 Uhr die meet@FH-Aachen\, die Jobmesse für alle Fachbereiche statt. \nDie mehr als 30 Aussteller:innen stehen für Gespräche mit Studierenden und Interessierten aus Aachen und Umgebung zur Verfügung\, präsentieren ihre Unternehmen und geben Tipps für die Karriereplanung. \nAlle Informationen finden Sie auf der Seite der  meet@fh-aachen.de \nZUR ANMELDUNG
URL:https://www.aachen.digital/en/event/meetfh-aachen/
LOCATION:FH Aachen Campus Eupener Str.\, Eupener Straße 70\, Aachen\, 52066
ATTACH;FMTTYPE=image/jpeg:https://www.aachen.digital/wp-content/uploads/2026/02/Design-ohne-Titel-47.jpg
END:VEVENT
END:VCALENDAR