BEGIN:VCALENDAR
VERSION:2.0
PRODID:-//digitalHUB Aachen - ECPv6.15.20//NONSGML v1.0//EN
CALSCALE:GREGORIAN
METHOD:PUBLISH
X-ORIGINAL-URL:https://www.aachen.digital/en/
X-WR-CALDESC:Events for digitalHUB Aachen
REFRESH-INTERVAL;VALUE=DURATION:PT1H
X-Robots-Tag:noindex
X-PUBLISHED-TTL:PT1H
BEGIN:VTIMEZONE
TZID:Europe/Berlin
BEGIN:DAYLIGHT
TZOFFSETFROM:+0100
TZOFFSETTO:+0200
TZNAME:CEST
DTSTART:20250330T010000
END:DAYLIGHT
BEGIN:STANDARD
TZOFFSETFROM:+0200
TZOFFSETTO:+0100
TZNAME:CET
DTSTART:20251026T010000
END:STANDARD
BEGIN:DAYLIGHT
TZOFFSETFROM:+0100
TZOFFSETTO:+0200
TZNAME:CEST
DTSTART:20260329T010000
END:DAYLIGHT
BEGIN:STANDARD
TZOFFSETFROM:+0200
TZOFFSETTO:+0100
TZNAME:CET
DTSTART:20261025T010000
END:STANDARD
BEGIN:DAYLIGHT
TZOFFSETFROM:+0100
TZOFFSETTO:+0200
TZNAME:CEST
DTSTART:20270328T010000
END:DAYLIGHT
BEGIN:STANDARD
TZOFFSETFROM:+0200
TZOFFSETTO:+0100
TZNAME:CET
DTSTART:20271031T010000
END:STANDARD
END:VTIMEZONE
BEGIN:VEVENT
DTSTART;TZID=Europe/Berlin:20260129T140000
DTEND;TZID=Europe/Berlin:20260129T170000
DTSTAMP:20260423T201549
CREATED:20260116T160544Z
LAST-MODIFIED:20260116T160708Z
UID:10007664-1769695200-1769706000@www.aachen.digital
SUMMARY:DigiMach Kick-off-Workshop
DESCRIPTION:Das EU-Interreg-Projekt “DigiMach” unterstützt kostenfrei Unternehmen aus der Metallindustrie\, dem Maschinenbau und der zerspanenden Fertigung bei der Digitalisierung ihrer Produktionsprozesse. Der Fokus liegt auf der Entwicklung konkreter digitaler Use Cases und der praxisnahen Umsetzung digitaler Lösungen\, gemeinsam mit den Unternehmen. \nTeilnehmende Unternehmen profitieren unter anderem von: \n\nUnterstützung bei der Identifikation und Entwicklung digitaler Use Cases\nBegleitung bei der Implementierung digitaler Lösungen in der Produktion\nKostenlosen Workshops mit Austausch und Mitgestaltung\nZugang zu einer digitalen Austauschplattform mit fachlichen Inhalten und Videos\nEinbindung und Qualifizierung der Mitarbeitenden\n\nInhaltlich werden u. a. folgende Themen adressiert: \n\ndigitale Prozessmodelle und Digital Twins\nIoT\, Sensorik und Prozessmonitoring\ndatenbasierte Qualitätskontrolle\nMaschinenzustand und Anomalieerkennung\nKI-gestützte Assistenz- und Trainingssysteme\n\nEin erster Einstiegspunkt ist der DigiMach Kick-off-Workshop. \nHier stellen wir das Projekt\, die Säulen und erste Erkenntnisse vor und diskutieren gemeinsam mit Unternehmen\, welche Themen und Formate für sie den größten Mehrwert bieten. \nZUR ANMELDUNG\nDie Teilnahme ist kostenlos. \nWeitere Informationen zum Projekt finden Sie hier. \nDer Workshop wird veranstaltet durch die ITA Academy GmbH.
URL:https://www.aachen.digital/en/event/digimach-kick-off-workshop/
LOCATION:DICE – Digital Innovation Center Europe\, Vaalser Straße 460\, Aachen\, 52074
ATTACH;FMTTYPE=image/jpeg:https://www.aachen.digital/wp-content/uploads/2026/01/Design-ohne-Titel-26.jpg
END:VEVENT
END:VCALENDAR