BEGIN:VCALENDAR
VERSION:2.0
PRODID:-//digitalHUB Aachen - ECPv6.15.20//NONSGML v1.0//EN
CALSCALE:GREGORIAN
METHOD:PUBLISH
X-ORIGINAL-URL:https://www.aachen.digital/en/
X-WR-CALDESC:Events for digitalHUB Aachen
REFRESH-INTERVAL;VALUE=DURATION:PT1H
X-Robots-Tag:noindex
X-PUBLISHED-TTL:PT1H
BEGIN:VTIMEZONE
TZID:Europe/Berlin
BEGIN:DAYLIGHT
TZOFFSETFROM:+0100
TZOFFSETTO:+0200
TZNAME:CEST
DTSTART:20170326T010000
END:DAYLIGHT
BEGIN:STANDARD
TZOFFSETFROM:+0200
TZOFFSETTO:+0100
TZNAME:CET
DTSTART:20171029T010000
END:STANDARD
BEGIN:DAYLIGHT
TZOFFSETFROM:+0100
TZOFFSETTO:+0200
TZNAME:CEST
DTSTART:20180325T010000
END:DAYLIGHT
BEGIN:STANDARD
TZOFFSETFROM:+0200
TZOFFSETTO:+0100
TZNAME:CET
DTSTART:20181028T010000
END:STANDARD
BEGIN:DAYLIGHT
TZOFFSETFROM:+0100
TZOFFSETTO:+0200
TZNAME:CEST
DTSTART:20190331T010000
END:DAYLIGHT
BEGIN:STANDARD
TZOFFSETFROM:+0200
TZOFFSETTO:+0100
TZNAME:CET
DTSTART:20191027T010000
END:STANDARD
BEGIN:DAYLIGHT
TZOFFSETFROM:+0100
TZOFFSETTO:+0200
TZNAME:CEST
DTSTART:20200329T010000
END:DAYLIGHT
BEGIN:STANDARD
TZOFFSETFROM:+0200
TZOFFSETTO:+0100
TZNAME:CET
DTSTART:20201025T010000
END:STANDARD
BEGIN:DAYLIGHT
TZOFFSETFROM:+0100
TZOFFSETTO:+0200
TZNAME:CEST
DTSTART:20210328T010000
END:DAYLIGHT
BEGIN:STANDARD
TZOFFSETFROM:+0200
TZOFFSETTO:+0100
TZNAME:CET
DTSTART:20211031T010000
END:STANDARD
BEGIN:DAYLIGHT
TZOFFSETFROM:+0100
TZOFFSETTO:+0200
TZNAME:CEST
DTSTART:20220327T010000
END:DAYLIGHT
BEGIN:STANDARD
TZOFFSETFROM:+0200
TZOFFSETTO:+0100
TZNAME:CET
DTSTART:20221030T010000
END:STANDARD
END:VTIMEZONE
BEGIN:VEVENT
DTSTART;TZID=Europe/Berlin:20210525T133000
DTEND;TZID=Europe/Berlin:20210525T153000
DTSTAMP:20260423T220649
CREATED:20210428T130530Z
LAST-MODIFIED:20210528T085401Z
UID:10005886-1621949400-1621956600@www.aachen.digital
SUMMARY:Workshop digitalSUMMIT: Kooperationsrecht „Drafting an Agreement“
DESCRIPTION:Workshop im Rahmenprogramm des digitalSUMMIT 2021\nIn unserem Rahmenprogramm nehmen wir zusammen mit unseren Partnern das Motto des diesjährigen digitalSUMMIT „CoOperate or die: Zusammen in eine erfolgreiche Zukunft!“ auf und bieten etablierten Unternehmen und Startups an\, sich dem Thema „Kooperationen“ in interaktiven Workshops aus unterschiedlichen Perspektiven zu nähern. Erfahrt hier\, welche Arten von Kooperationen es gibt und wie diese euer Unternehmen voranbringen. \nIn dem kostenfreien Workshop „Drafting an Agreement“ gibt Olga Kunkel vom Kompetenzzentrum IT-Wirtschaft (KIW) Einblicke in die rechtlichen Wege und Mittel zur Minimierung von Risiken und Vermeidung von Konflikten in Kooperationsvereinbarungen. \nWas euch erwartet:\nDurch Vernetzung und Kooperationen entstehen für viele Unternehmen neue Chancen. Dabei wünscht sich jede:r eine erfolgreiche\, nachhaltige und konfliktarme Zusammenarbeit. Wie diese zu erreichen ist? Durch eine ausgewogene Vertragsgestaltung\, bei der sowohl die Interessen aller Partner als auch die geltenden Rechtsvorschriften berücksichtigt werden. \nIn diesem Workshop erfahrt ihr\, welche Arten der Zusammenarbeit das deutsche Recht zulässt und welche Vor- und Nachteile die jeweiligen Modelle der Kooperation in sich tragen. Außerdem geht die Referentin darauf ein\, welche Fragen für eine Kooperation von besonderer Bedeutung sind und damit einer vertraglichen Klärung bedürfen. Dabei bekommt ihr ein Muster an die Hand\, welches ihr in euren Kooperationen einsetzen könnt. \nIm Rahmen des Workshops könnt ihr unserer Referentin Olga Kunkel direkt und persönlich eure Fragen stellen und im Plenum diskutieren. \nWir freuen uns auf Ihre Teilnahme! \nKostenlose Anmeldung \n  \nDer Workshop findet im Rahmen des digitalSUMMIT Aachen statt. \nInfos unter: www.digitalSUMMIT.ac \n 
URL:https://www.aachen.digital/en/event/online-workshop-kooperationsrecht-drafting-an-agreement/
LOCATION:Jülicher Strasse 72a\, Aachen\, 52070\, Germany
ATTACH;FMTTYPE=image/jpeg:https://www.aachen.digital/wp-content/uploads/2021/04/200901_Visuals_digitalSUMMIT2020_stage-ohne-Text.jpg
ORGANIZER;CN="digitalHUB Aachen":MAILTO:kontakt@hubaachen.de
END:VEVENT
BEGIN:VEVENT
DTSTART;TZID=Europe/Berlin:20210422T100000
DTEND;TZID=Europe/Berlin:20210422T123000
DTSTAMP:20260423T220649
CREATED:20210308T105233Z
LAST-MODIFIED:20210308T105233Z
UID:10005404-1619085600-1619094600@www.aachen.digital
SUMMARY:Online-Workshop „Datenschutz-Compliance für Start Ups“
DESCRIPTION:Sie gründen ein Unternehmen und wollen den Datenschutz von Anfang an richtig machen? Sie wollen die Verarbeitung von personenbezogenen Daten in Ihrem jungen Unternehmen DSGVO-konform gestalten? Sie haben viel über die DSGVO gehört und gelesen\, sind sich aber nicht sicher\, wie Sie all die Vorgaben umsetzen sollen? Dann ist unser Workshop genau das Richtige für Sie! \nAblauf\n1.    Einführung in den Datenschutz und die DSGVO\n2.    Grundzüge der Compliance\n3.    Aufbau einer Datenschutz-Compliance\n4.    Handlungsempfehlungen und Checklisten für den Start\n5.    Besonders kritische Punkte\n6.    Ausblick und Fragen \nVoraussetzung für die Teilnahme: \nBitte beachten Sie\, dass die Anzahl der Teilnehmenden für dieses Webinar aus technischen Gründen auf 25 Personen begrenzt ist. Die Plätze werden nach Reihenfolge der Anmeldung vergeben. Sollten wir mehr Anmeldungen bekommen als Plätze verfügbar sind\, organisieren wir eine Folgeveranstaltung. Nach der Anmeldung erhalten Sie Ihre Einwahlinformationen sowie ergänzende technische Informationen. Um teilzunehmen\, ist keine spezifische technische Ausstattung notwendig. \nDiese Veranstaltung ist kostenfrei. Wir freuen uns auf Ihre Teilnahme! \nJETZT REGISTRIEREN
URL:https://www.aachen.digital/en/event/online-workshop-datenschutz-compliance-fuer-start-ups-2/
LOCATION:Jülicher Strasse 72a\, Aachen\, 52070\, Germany
ATTACH;FMTTYPE=image/jpeg:https://www.aachen.digital/wp-content/uploads/2021/03/AdobeStock_237056416_Gruppe_Tisch_schreibend_turquois-scaled-1.jpg
END:VEVENT
BEGIN:VEVENT
DTSTART;TZID=Europe/Berlin:20210414T100000
DTEND;TZID=Europe/Berlin:20210414T113000
DTSTAMP:20260423T220649
CREATED:20210308T103845Z
LAST-MODIFIED:20210308T115959Z
UID:10005403-1618394400-1618399800@www.aachen.digital
SUMMARY:BITMi Community Breakfast
DESCRIPTION:Der Bundesverband IT-Mittelstand e.V. (BITMi) und das KIW laden Sie herzlich ein zum ersten virtuellen Gemeinschaftsfrühstück! \nIm Fokus stehen die politische Verbandsarbeit des BITMi und die beiden aktuellen Projekte „Partnership between BITMi and ICT Chamber“ sowie die Arbeit des Kompetenzzentrum IT-Wirtschaft. Erfahren Sie\, welche Anknüpfungspunkte der BITMi für Ihr IT-Unternehmen bietet\, warum Sie sich heute noch mit strategischen Partnerschaften beschäftigen sollten und lassen Sie sich von aktuellen Digitalisierungsprojekten aus Ruanda inspirieren. \nDie Veranstaltung richtet sich vor allem an die Mitglieder des BITMi\, steht aber auch Verbandsinteressierten offen. Im Anschluss besteht die Möglichkeit zum offenen Austausch und Netzwerken. \nAgenda \n\n10:00 Uhr | Check-In: Willkommen & Begrüßung (Andreas Barke\, Moderator)\n10:15 Uhr | Politische Arbeit beim BITMi (Patrick Häuser)\n10:35 Uhr | Partnership between Bitmi and ICT Chamber (Dr. Geraldine Schmitz)\n10:55 Uhr | Strategische Kooperationen in der IT-Branche (Tarek Annan)\n11:15 Uhr | Fragerunde & offener Austausch\nca. 11:30 Uhr | Ende der Veranstaltung\n\nAllen Teilnehmenden\, die sich bis zum 01.04.2021 anmelden\, lassen wir eine kleine Frühstücksüberraschung zukommen\, so dass wir gemeinsam gestärkt in den Tag starten können. \nDiese Veranstaltung ist kostenfrei. Wir freuen uns auf Ihre Teilnahme! \nZur Anmeldung
URL:https://www.aachen.digital/en/event/bitmi-community-breakfast/
LOCATION:Jülicher Strasse 72a\, Aachen\, 52070\, Germany
ATTACH;FMTTYPE=image/jpeg:https://www.aachen.digital/wp-content/uploads/2021/03/AdobeStock_294094849-scaled-2.jpeg
ORGANIZER;CN="BITMi e.V.":MAILTO:kontakt@bitmi.de
END:VEVENT
BEGIN:VEVENT
DTSTART;TZID=Europe/Berlin:20210331T150000
DTEND;TZID=Europe/Berlin:20210331T160000
DTSTAMP:20260423T220649
CREATED:20210308T095225Z
LAST-MODIFIED:20210308T095225Z
UID:10005401-1617202800-1617206400@www.aachen.digital
SUMMARY:Kooperationen starten mit “IT2match”
DESCRIPTION:IT2match ist eine Matching-Plattform für Softwareanbieter. Lernen Sie die Funktionsweise und Möglichkeiten des Matching-Tools in einer Live-Demonstration kennen! \nMit IT2match können Softwareanbieter zu ihrem Produkt passende Lösungen von anderen Anbietern finden und sich mit diesen vernetzen. Ziel ist es – ganz im Sinne der bisherigen Arbeit des Kompetenzzentrums IT-Wirtschaft – Unternehmen zu Konsortien zusammenzuführen\, welche ihre verschiedenen Softwarelösungen zu einer Gesamtlösung bündeln\, um so eine Win-Win-Situation für die Unternehmen als auch die Kunden zu generieren. IT2match können Sie in der App und im Browser verwenden. \nJETZT REGISTRIEREN
URL:https://www.aachen.digital/en/event/kooperationen-starten-mit-it2match/
LOCATION:Jülicher Strasse 72a\, Aachen\, 52070\, Germany
ATTACH;FMTTYPE=image/jpeg:https://www.aachen.digital/wp-content/uploads/2021/03/stage-1-1.jpeg
END:VEVENT
BEGIN:VEVENT
DTSTART;VALUE=DATE:20210316
DTEND;VALUE=DATE:20210319
DTSTAMP:20260423T220649
CREATED:20210308T093650Z
LAST-MODIFIED:20210308T120053Z
UID:10005399-1615852800-1616111999@www.aachen.digital
SUMMARY:TWENTY2X Powerweek
DESCRIPTION:Geballtes Wissen für den Mittelstand\nDie TWENTY2X PowerWeek ist ein dreitägiges Online-Event vom 16. bis 18. März 2021 mit kompakten Informationen zu aktuellen Topthemen der Digitalwirtschaft. Im Vordergrund stehen Vorträge\, Best Practices und Diskussionen mit Vordenkern\, Anwendern\, Anbietern und Startups. \nIm Fokus der März-Veranstaltung stehen die Themen Data Management\, Digital Workplace und Nachhaltigkeit. \n16. März | Data Management\nWie machen sie mehr aus ihren gesammelten Daten? Daten aufwerten und in Business ummünzen. \n17. März | Workplace Management\nCOVID19 als Treiber der digitalen Zusammenarbeit? Zusammenarbeit mit und nach Corona. \n18. März | Digitalisierung und Nachhaltigkeit\nNachhaltig digital – when you throw something away\, there is no away! Wie schafft man es als KMU\, nachhaltige IT Lösungen zu gestalten? \nProgramm und Anmeldung \n  \nÜber die TWENTY2X \nEine zweite PowerWeek ist für September 2021 geplant. Die Event-Serie der TWENTY2X besteht aus drei Bausteinen: dem zentralen\, hybriden Live-Event TWENTY2X Kickstart im Juni in Hannover\, der virtuellen TWENTY2X PowerWeek mit geballtem Wissen an jeweils drei Veranstaltungstagen im März und September sowie der TWENTY2Xvirtual mit regelmäßigen Online-Seminaren am Monatsende. \nHier gibt es mehr Informationen über die TWENTY2X.
URL:https://www.aachen.digital/en/event/twenty2x-powerweek/
LOCATION:Jülicher Strasse 72a\, Aachen\, 52070\, Germany
ATTACH;FMTTYPE=image/jpeg:https://www.aachen.digital/wp-content/uploads/2021/03/AdobeStock_297840659_Faceshape_data-rise-12zu5-scaled.jpg
END:VEVENT
BEGIN:VEVENT
DTSTART;TZID=Europe/Berlin:20180928T160000
DTEND;TZID=Europe/Berlin:20180928T180000
DTSTAMP:20260423T220649
CREATED:20180823T110547Z
LAST-MODIFIED:20181018T103843Z
UID:10004795-1538150400-1538157600@www.aachen.digital
SUMMARY:Workshop Digitale Geschäftsmodelle
DESCRIPTION:Wie werden wir 2025 arbeiten\, wohnen\, einkaufen\, kommunizieren\, produzieren\, gesund leben\, lernen und mobil sein? Die Experten des Kompetenzzentrums IT-Wirtschaft werden am 28. September in einem Workshop das Zukunftsthema Digitale Geschäftsmodelle aufgreifen und mit Ihnen in einem spannenden Rahmen diskutieren. \nIhre kostenlose Anmeldung erfolgt über die offizielle Internetseite unter diesem Link: Kompetenzzentrum IT-Wirtschaft \nVeranstalter: Kompetenzzentrum IT-Wirtschaft und digitalHUB
URL:https://www.aachen.digital/en/event/workshop-digitale-geschaeftsmodelle/
LOCATION:Stadtbad Aachen\, Blücherplatz 24\, Aachen\, NRW\, 52068\, Deutschland
ATTACH;FMTTYPE=image/png:https://www.aachen.digital/wp-content/uploads/2018/08/logo-it-Kompetenzzentrum.png
END:VEVENT
END:VCALENDAR