BEGIN:VCALENDAR
VERSION:2.0
PRODID:-//digitalHUB Aachen - ECPv6.15.20//NONSGML v1.0//EN
CALSCALE:GREGORIAN
METHOD:PUBLISH
X-WR-CALNAME:digitalHUB Aachen
X-ORIGINAL-URL:https://www.aachen.digital/en/
X-WR-CALDESC:Events for digitalHUB Aachen
REFRESH-INTERVAL;VALUE=DURATION:PT1H
X-Robots-Tag:noindex
X-PUBLISHED-TTL:PT1H
BEGIN:VTIMEZONE
TZID:Europe/Berlin
BEGIN:DAYLIGHT
TZOFFSETFROM:+0100
TZOFFSETTO:+0200
TZNAME:CEST
DTSTART:20200329T010000
END:DAYLIGHT
BEGIN:STANDARD
TZOFFSETFROM:+0200
TZOFFSETTO:+0100
TZNAME:CET
DTSTART:20201025T010000
END:STANDARD
BEGIN:DAYLIGHT
TZOFFSETFROM:+0100
TZOFFSETTO:+0200
TZNAME:CEST
DTSTART:20210328T010000
END:DAYLIGHT
BEGIN:STANDARD
TZOFFSETFROM:+0200
TZOFFSETTO:+0100
TZNAME:CET
DTSTART:20211031T010000
END:STANDARD
BEGIN:DAYLIGHT
TZOFFSETFROM:+0100
TZOFFSETTO:+0200
TZNAME:CEST
DTSTART:20220327T010000
END:DAYLIGHT
BEGIN:STANDARD
TZOFFSETFROM:+0200
TZOFFSETTO:+0100
TZNAME:CET
DTSTART:20221030T010000
END:STANDARD
END:VTIMEZONE
BEGIN:VEVENT
DTSTART;VALUE=DATE:20211110
DTEND;VALUE=DATE:20211112
DTSTAMP:20260424T000633
CREATED:20211006T112911Z
LAST-MODIFIED:20211006T112911Z
UID:10006045-1636502400-1636675199@www.aachen.digital
SUMMARY:KVD SERVICE CONGRESS 2021
DESCRIPTION:Die Dienstleistungswende – Service neu gedacht\nWir sehen vier Faktoren\, die das Service-Business von Morgen ausmachen: Da ist zum einen die Kundenzentrierung\, dann das Thema Nachhaltigkeit\, und damit verbunden die Konzeption neuer\, innovativer Geschäftsmodelle. Ermöglicht wird das durch die Digitalisierung. \nWie Sie diese Faktoren für sich nutzen können\, um Ihren Erfolg zu gestalten\, darüber sprechen wir beim KVD Service Congress – digital 2021. In Keynotes und Workshops\, bei Podiumsdiskussionen und Expertenforen erfahren Sie genau das\, was für Ihre Praxis in Zukunft wichtig sein wird. \nHier Congress-Ticket sichern und weitere Informationen zu Agenda und Referenten erhalten. \nKVD-Mitglieder zahlen 199 €\, Nicht-Mitglieder 249 €.
URL:https://www.aachen.digital/en/event/kvd-service-congress-2021/
ATTACH;FMTTYPE=image/jpeg:https://www.aachen.digital/wp-content/uploads/2021/10/AdobeStock_358683095-scaled-1.jpeg
END:VEVENT
END:VCALENDAR