BEGIN:VCALENDAR
VERSION:2.0
PRODID:-//digitalHUB Aachen - ECPv6.15.20//NONSGML v1.0//EN
CALSCALE:GREGORIAN
METHOD:PUBLISH
X-ORIGINAL-URL:https://www.aachen.digital/en/
X-WR-CALDESC:Events for digitalHUB Aachen
REFRESH-INTERVAL;VALUE=DURATION:PT1H
X-Robots-Tag:noindex
X-PUBLISHED-TTL:PT1H
BEGIN:VTIMEZONE
TZID:Europe/Berlin
BEGIN:DAYLIGHT
TZOFFSETFROM:+0100
TZOFFSETTO:+0200
TZNAME:CEST
DTSTART:20180325T010000
END:DAYLIGHT
BEGIN:STANDARD
TZOFFSETFROM:+0200
TZOFFSETTO:+0100
TZNAME:CET
DTSTART:20181028T010000
END:STANDARD
BEGIN:DAYLIGHT
TZOFFSETFROM:+0100
TZOFFSETTO:+0200
TZNAME:CEST
DTSTART:20190331T010000
END:DAYLIGHT
BEGIN:STANDARD
TZOFFSETFROM:+0200
TZOFFSETTO:+0100
TZNAME:CET
DTSTART:20191027T010000
END:STANDARD
BEGIN:DAYLIGHT
TZOFFSETFROM:+0100
TZOFFSETTO:+0200
TZNAME:CEST
DTSTART:20200329T010000
END:DAYLIGHT
BEGIN:STANDARD
TZOFFSETFROM:+0200
TZOFFSETTO:+0100
TZNAME:CET
DTSTART:20201025T010000
END:STANDARD
END:VTIMEZONE
BEGIN:VEVENT
DTSTART;TZID=Europe/Berlin:20190624T140000
DTEND;TZID=Europe/Berlin:20190624T173000
DTSTAMP:20260423T220647
CREATED:20190612T084156Z
LAST-MODIFIED:20190612T084156Z
UID:10005336-1561384800-1561397400@www.aachen.digital
SUMMARY:Software Engineering: Innovation meets Industry
DESCRIPTION:Der Lehrstuhl für Software Engineering lädt herzlich ein zu zwei spannenden Vorträgen\, für die sie Ernst Denert\, den Gründer von sd&m\, den aktuellen Preisträger des Denert Preises fürs Software Engineering vergeben von der Gesellschaft für Informatik\, Hr. Ralf S. Engelschall und Volker Braun sowie Peter Dörfler von der IVU Traffic Technologies AG gewinnen konnten. \n14:00 Uhr – Vortrag: Software-Architektur betrieblicher Systeme\, Ernst Denert (Gründer sd&m\, München) & Ralf S. Engelschall\n16:00 Uhr – Vortrag: Leading Edge Technology und langlebige Produkte. Wie passt das zusammen? Volker Braun & Peter Dörfler (IVU Traffic Technologies AG\, Berlin und Aachen) \n\nim Informatik Zentrum\, Ahornstr. 55\, Hörsaal AH IV.\n\nZwischen den Vorträgen gibt es eine halbstündige Pause zum Networken. Details zu den Vorträgen und Infos über die Vortragenden können Sie hier finden. \n 
URL:https://www.aachen.digital/en/event/software-engineering-innovation-meets-industry/
LOCATION:Informatik-Zentrum RWTH\, Ahornstraße 55\, Aachen\, Nordrhein-Westfalen\, 52074\, Deutschland
ATTACH;FMTTYPE=image/jpeg:https://www.aachen.digital/wp-content/uploads/2019/06/AdobeStock_246750216.jpeg
END:VEVENT
BEGIN:VEVENT
DTSTART;TZID=Europe/Berlin:20190515T180000
DTEND;TZID=Europe/Berlin:20190515T200000
DTSTAMP:20260423T220647
CREATED:20190426T121506Z
LAST-MODIFIED:20190426T121813Z
UID:10004999-1557943200-1557950400@www.aachen.digital
SUMMARY:Vortrag: "Die Digitalisierung in der Automatisierung - neue Aufgaben für die Informatik"
DESCRIPTION:Der Lehrstuhl für Software Engineering der RWTH Aachen hat in diesem Semester die “Ringvorlesung Digitalisierung” ins Leben gerufen und hierfür eine Reihe spannende Vorträge aufgestellt. Der nächste Vortrag findet statt am \nMittwoch\, 15. Mai\, 18.15-19.45 Uhr\, \nim AH I des Informatikzentrums\, Ahornstraße 55\, 52074 Aachen \nThema: “Die Digitalisierung in der Automatisierung – neue Aufgaben für die Informatik”\nVortragender: Dr. Martin Witte\, Siemens AG\, Digital Industries \nAbstract: Programmable logic controllers (PLCs) are an established technology that is widely used in industry but poorly understood among software engineers. The talk gives an overview of the state of the practice\, explains why such an old technology persists\, and gives a critical analysis of the strengths and weaknesses of the dominant programming styles and execution semantics of PLCs.
URL:https://www.aachen.digital/en/event/vortrag-die-digitalisierung-in-der-automatisierung-neue-aufgaben-fuer-die-informatik/
LOCATION:Informatik-Zentrum RWTH\, Ahornstraße 55\, Aachen\, Nordrhein-Westfalen\, 52074\, Deutschland
ATTACH;FMTTYPE=image/jpeg:https://www.aachen.digital/wp-content/uploads/2019/04/AdobeStock_177732957.jpeg
END:VEVENT
END:VCALENDAR