BEGIN:VCALENDAR
VERSION:2.0
PRODID:-//digitalHUB Aachen - ECPv6.15.20//NONSGML v1.0//EN
CALSCALE:GREGORIAN
METHOD:PUBLISH
X-WR-CALNAME:digitalHUB Aachen
X-ORIGINAL-URL:https://www.aachen.digital/en/
X-WR-CALDESC:Events for digitalHUB Aachen
REFRESH-INTERVAL;VALUE=DURATION:PT1H
X-Robots-Tag:noindex
X-PUBLISHED-TTL:PT1H
BEGIN:VTIMEZONE
TZID:Europe/Berlin
BEGIN:DAYLIGHT
TZOFFSETFROM:+0100
TZOFFSETTO:+0200
TZNAME:CEST
DTSTART:20240331T010000
END:DAYLIGHT
BEGIN:STANDARD
TZOFFSETFROM:+0200
TZOFFSETTO:+0100
TZNAME:CET
DTSTART:20241027T010000
END:STANDARD
BEGIN:DAYLIGHT
TZOFFSETFROM:+0100
TZOFFSETTO:+0200
TZNAME:CEST
DTSTART:20250330T010000
END:DAYLIGHT
BEGIN:STANDARD
TZOFFSETFROM:+0200
TZOFFSETTO:+0100
TZNAME:CET
DTSTART:20251026T010000
END:STANDARD
BEGIN:DAYLIGHT
TZOFFSETFROM:+0100
TZOFFSETTO:+0200
TZNAME:CEST
DTSTART:20260329T010000
END:DAYLIGHT
BEGIN:STANDARD
TZOFFSETFROM:+0200
TZOFFSETTO:+0100
TZNAME:CET
DTSTART:20261025T010000
END:STANDARD
END:VTIMEZONE
BEGIN:VEVENT
DTSTART;TZID=Europe/Berlin:20251008T100000
DTEND;TZID=Europe/Berlin:20251008T190000
DTSTAMP:20260423T201527
CREATED:20250625T124143Z
LAST-MODIFIED:20250625T124143Z
UID:10007374-1759917600-1759950000@www.aachen.digital
SUMMARY:Growth across borders
DESCRIPTION:Networking Euregional BioMedTech and Life Science! \nThe Growth Across Borders event brings together companies from Germany\, the Netherlands and Belgium to support Euregional cooperation and economic success in the life sciences and BioMedTech sector. Growth Across Borders 2025 invites you to company tours\, workshops on euregional topics in B\,G\,NL\, keynotes\, panel discussions\, matchmaking\, exchange and networking. \nWe are looking forward to Edition 2025 – Growth Across Borders – this time in Aachen (D)! With new topics\, new networks\, many partners and you. \nShort program: (complete version can be found here) \n09:30 – 10:00 a.m. | Arrival & Registration for Morning Program \nBefore the main event\, there will be the opportunity to take part in company tours and workshops. Registration is required. \n10:00 – 11:30 a.m. | Workshops \nFour parallel workshops are offered. If you would like to attend\, please select only one workshop. \n11:30 am – 12:30 p.m. | Company tour \nGfPS mbH\, ECM Zertifizierungsgesellschaft für Medizinprodukte in Europa and Clinomic Group GmbH offer guided tours of their companies and information about their portfolios. \n12:00 p.m. | Arrival & Registration Afternoon Program \n12:30 – 1:30 p.m. | 1:1 Meetings & Lunch & Exhibition\, Networking \nIndividual networking opportunities enable targeted discussions between companies and potential partners. \nAppointments can be booked via Enterprise Europe Network [Link coming soon]. \n1:30 – 2:30 p.m. | Keynotes & Expert Session \nTopic: Strengths of cross-border cooperation including infrastructure & location advantages \n2:30 – 3:00 p.m. | Experience reports from entrepreneurs \nPractical insights into opportunities and challenges and solutions for international business models. \n3:00 – 4:00 p.m. | 1:1 Meetings & Exhibition \nExhibition tables can also be booked for a fee – make contacts and address new target groups. \n4:00 – 4:45 p.m. | Panel discussion Growth across borders: challenges and solutions \nExperts from business and administration will show ways forward and report on their experience. \n4:45 – 5:15 p.m. | Experience reports from entrepreneurs \nPractical insights into the opportunities and challenges of international business models. \n5:15 – 7:00 p.m. | 1:1 Meetings & Exhibition\, Networking & Conclusion \nOpportunity to exchange ideas over food and drinks with accompanying exhibition. \nREGISTER HERE
URL:https://www.aachen.digital/en/event/growth-across-borders-2/
LOCATION:digitalHUB Aachen\, Jülicher Str. 72a\, Aachen\, Nordrhein-Westfalen\, 52070\, Germany
ATTACH;FMTTYPE=image/jpeg:https://www.aachen.digital/wp-content/uploads/2025/06/growth-across-borders-.jpg
END:VEVENT
END:VCALENDAR