BEGIN:VCALENDAR
VERSION:2.0
PRODID:-//digitalHUB Aachen - ECPv6.15.20//NONSGML v1.0//EN
CALSCALE:GREGORIAN
METHOD:PUBLISH
X-ORIGINAL-URL:https://www.aachen.digital/en/
X-WR-CALDESC:Events for digitalHUB Aachen
REFRESH-INTERVAL;VALUE=DURATION:PT1H
X-Robots-Tag:noindex
X-PUBLISHED-TTL:PT1H
BEGIN:VTIMEZONE
TZID:Europe/Berlin
BEGIN:DAYLIGHT
TZOFFSETFROM:+0100
TZOFFSETTO:+0200
TZNAME:CEST
DTSTART:20250330T010000
END:DAYLIGHT
BEGIN:STANDARD
TZOFFSETFROM:+0200
TZOFFSETTO:+0100
TZNAME:CET
DTSTART:20251026T010000
END:STANDARD
BEGIN:DAYLIGHT
TZOFFSETFROM:+0100
TZOFFSETTO:+0200
TZNAME:CEST
DTSTART:20260329T010000
END:DAYLIGHT
BEGIN:STANDARD
TZOFFSETFROM:+0200
TZOFFSETTO:+0100
TZNAME:CET
DTSTART:20261025T010000
END:STANDARD
BEGIN:DAYLIGHT
TZOFFSETFROM:+0100
TZOFFSETTO:+0200
TZNAME:CEST
DTSTART:20270328T010000
END:DAYLIGHT
BEGIN:STANDARD
TZOFFSETFROM:+0200
TZOFFSETTO:+0100
TZNAME:CET
DTSTART:20271031T010000
END:STANDARD
END:VTIMEZONE
BEGIN:VEVENT
DTSTART;TZID=Europe/Berlin:20260312T180000
DTEND;TZID=Europe/Berlin:20260312T200000
DTSTAMP:20260423T175637
CREATED:20260302T153635Z
LAST-MODIFIED:20260302T153732Z
UID:10007693-1773338400-1773345600@www.aachen.digital
SUMMARY:Körperlose Zukunft? Eine Diskussion über das Verhältnis von Mensch und Maschine
DESCRIPTION:Mit Philosophin Prof. Dr. Suzana Alpsancar\, Heinz Nixdorf Institut\, Universität Paderborn; dem Psychologen Dr. Jürgen Buder\, Leibniz-Institut für Wissensmedien\, Tübingen; der Ökonomin Dr. Marina Chugunova\, Max-Planck-Institut für Innovation und Wettbewerb\, München und dem Soziologen Prof. Dr. Roger Häußling\, Institut für Soziologie\, RWTH Aachen\nModeration: Christian Schiffer\, Leiter des Ressorts „Netzwelt“\, Bayrischer Rundfunk \nIm Rahmen der Ausstellung KI$$ KI$$ von Shu Lea Cheang diskutieren renommierte Wissenschaftlerinnen und Wissenschaftler über unsere Zukunft im Zeitalter intelligenter Maschinen. \nAußer Kontrolle geratene Roboter\, ein KI-gesteuerter Avatar sowie die Kompostierung von digitalen Abfällen – die künstlerischen Welten der taiwanesisch-Amerikanischen Künstlerin öffnen uns einen spannenden wie spielerischen Einblick in ihre Zukunftsvisionen – und fordern uns gleichzeitig heraus\, die möglichen Konsequenzen technologischer Entwicklungen zu reflektieren. \nSeien Sie dabei und diskutieren Sie mit\, wenn im Ludwig Forum grundlegende Fragen zum Verhältnis von Mensch und Maschine\, Künstlicher Intelligenz\, Innovation und ihren gesellschaftlichen Folgen in den Fokus rücken. \nEinlass ab 17.30 Uhr. Die Veranstaltung findet in deutscher Sprache statt.\nEintritt frei. \nZUR ANMELDUNG
URL:https://www.aachen.digital/en/event/koerperlose-zukunft-eine-diskussion-ueber-das-verhaeltnis-von-mensch-und-maschine/
LOCATION:Ludwig Forum für Internationale Kunst\, Jülicher Str. 97-109\, Aachen\, 52070\, Deutschland
ATTACH;FMTTYPE=image/jpeg:https://www.aachen.digital/wp-content/uploads/2026/03/Design-ohne-Titel-52.jpg
END:VEVENT
END:VCALENDAR