BEGIN:VCALENDAR
VERSION:2.0
PRODID:-//digitalHUB Aachen - ECPv6.15.20//NONSGML v1.0//EN
CALSCALE:GREGORIAN
METHOD:PUBLISH
X-ORIGINAL-URL:https://www.aachen.digital/en/
X-WR-CALDESC:Events for digitalHUB Aachen
REFRESH-INTERVAL;VALUE=DURATION:PT1H
X-Robots-Tag:noindex
X-PUBLISHED-TTL:PT1H
BEGIN:VTIMEZONE
TZID:Europe/Berlin
BEGIN:DAYLIGHT
TZOFFSETFROM:+0100
TZOFFSETTO:+0200
TZNAME:CEST
DTSTART:20180325T010000
END:DAYLIGHT
BEGIN:STANDARD
TZOFFSETFROM:+0200
TZOFFSETTO:+0100
TZNAME:CET
DTSTART:20181028T010000
END:STANDARD
BEGIN:DAYLIGHT
TZOFFSETFROM:+0100
TZOFFSETTO:+0200
TZNAME:CEST
DTSTART:20190331T010000
END:DAYLIGHT
BEGIN:STANDARD
TZOFFSETFROM:+0200
TZOFFSETTO:+0100
TZNAME:CET
DTSTART:20191027T010000
END:STANDARD
BEGIN:DAYLIGHT
TZOFFSETFROM:+0100
TZOFFSETTO:+0200
TZNAME:CEST
DTSTART:20200329T010000
END:DAYLIGHT
BEGIN:STANDARD
TZOFFSETFROM:+0200
TZOFFSETTO:+0100
TZNAME:CET
DTSTART:20201025T010000
END:STANDARD
END:VTIMEZONE
BEGIN:VEVENT
DTSTART;TZID=Europe/Berlin:20190910T183000
DTEND;TZID=Europe/Berlin:20190910T223000
DTSTAMP:20260423T220647
CREATED:20190725T083344Z
LAST-MODIFIED:20190816T114424Z
UID:10005357-1568140200-1568154600@www.aachen.digital
SUMMARY:Marketing Club Aachen meets digitalHUB: Borussia - E-Sports
DESCRIPTION:Warum ein Bundesligist nicht mehr nur auf dem Rasen zockt\nMotivation\, Herangehensweise und Ziele des E-Sports-Engagements von Borussia Mönchengladbach \nE-Sports ist ein rasant wachsender Markt. Um junge Zielgruppen zu erreichen\, sind schon heute zahlreiche namhafte Unternehmen ins E-Sports-Sponsoring eingestiegen. Dabei ist die Szene mitunter noch schwer zu durchschauen und stark fragmentiert. Mit der richtigen Strategie und gründlicher Planung kann der Einstieg in diese junge Szene gelingen und der erhoffte (Marketing-)Erfolg sich nachhaltig einstellen. Davon ist Borussia Mönchengladbach ein gutes halbes Jahr nach dem Einstieg in den E-Sports mehr denn je überzeugt. Wie tickt die E-Sports-Szene in Deutschland? Welche Spieletitel\, Märkte und Prognosen gibt es? Und wie passt das zu einem Traditionsclub wie Borussia Mönchengladbach? Antworten darauf geben Andreas Cüppers\, Head of Digital bei Borussia und Daniel Luther\, Geschäftsführer der Agentur KiNG eSports in ihrem Vortrag. \nDie Teilnahme ist für digitalHUB und Marketing Club Mitglieder kostenlos. Die Teilnahmegebühr für Gäste beträgt 35€ + MwSt. \nHier geht es zur Anmeldung für Gäste und Mitglieder des Marketing Club Aachen. \nHier geht es zur Anmeldung für digitalHUB Mitglieder. Das Kennwort zur Anmeldung erhalten sie bei philicia.dickmeis@hubaachen.de.
URL:https://www.aachen.digital/en/event/borussia-e-sports/
LOCATION:digitalHUB Aachen\, Jülicher Str. 72a\, Aachen\, Nordrhein-Westfalen\, 52070\, Germany
ATTACH;FMTTYPE=image/jpeg:https://www.aachen.digital/wp-content/uploads/2019/07/AdobeStock_176715044.jpg
ORGANIZER;CN="Marketing Club Aachen e.V.":MAILTO:info@mcaachen.de
END:VEVENT
END:VCALENDAR