BEGIN:VCALENDAR
VERSION:2.0
PRODID:-//digitalHUB Aachen - ECPv6.15.20//NONSGML v1.0//EN
CALSCALE:GREGORIAN
METHOD:PUBLISH
X-WR-CALNAME:digitalHUB Aachen
X-ORIGINAL-URL:https://www.aachen.digital/en/
X-WR-CALDESC:Events for digitalHUB Aachen
REFRESH-INTERVAL;VALUE=DURATION:PT1H
X-Robots-Tag:noindex
X-PUBLISHED-TTL:PT1H
BEGIN:VTIMEZONE
TZID:Europe/Berlin
BEGIN:DAYLIGHT
TZOFFSETFROM:+0100
TZOFFSETTO:+0200
TZNAME:CEST
DTSTART:20180325T010000
END:DAYLIGHT
BEGIN:STANDARD
TZOFFSETFROM:+0200
TZOFFSETTO:+0100
TZNAME:CET
DTSTART:20181028T010000
END:STANDARD
BEGIN:DAYLIGHT
TZOFFSETFROM:+0100
TZOFFSETTO:+0200
TZNAME:CEST
DTSTART:20190331T010000
END:DAYLIGHT
BEGIN:STANDARD
TZOFFSETFROM:+0200
TZOFFSETTO:+0100
TZNAME:CET
DTSTART:20191027T010000
END:STANDARD
BEGIN:DAYLIGHT
TZOFFSETFROM:+0100
TZOFFSETTO:+0200
TZNAME:CEST
DTSTART:20200329T010000
END:DAYLIGHT
BEGIN:STANDARD
TZOFFSETFROM:+0200
TZOFFSETTO:+0100
TZNAME:CET
DTSTART:20201025T010000
END:STANDARD
END:VTIMEZONE
BEGIN:VEVENT
DTSTART;TZID=Europe/Berlin:20191107T163000
DTEND;TZID=Europe/Berlin:20191109T180000
DTSTAMP:20260423T230420
CREATED:20190912T123540Z
LAST-MODIFIED:20221213T132529Z
UID:10005413-1573144200-1573322400@www.aachen.digital
SUMMARY:Hack the #datadome Aachen
DESCRIPTION:Gemeinsam mit dem Medienhaus Aachen veranstalten wir von Donnerstag\, 7. bis Samstag\, 9. November 2019\, den Hackathon* “Smarter City – Hack the #datadome”. Das Event rund um die Frage\, wie das Leben in unserer Stadt angenehmer werden kann\, findet in Zusammenarbeit mit dem digitalHUB Aachen\, dem next media accelerator (NMA) aus Hamburg und der Google News Initiative statt. Unterstützt wird die Veranstaltung von Media Markt und NetAachen. \nEnglish version click here
URL:https://www.aachen.digital/en/event/hack-the-datadome-aachen-19/
LOCATION:digitalHUB Aachen\, Jülicher Str. 72a\, Aachen\, Nordrhein-Westfalen\, 52070\, Germany
ATTACH;FMTTYPE=image/jpeg:https://www.aachen.digital/wp-content/uploads/2019/10/stage_hackathon.jpg
ORGANIZER;CN="Mediahuis Aachen":MAILTO:info@aachener-zeitung.de
END:VEVENT
END:VCALENDAR