BEGIN:VCALENDAR
VERSION:2.0
PRODID:-//digitalHUB Aachen - ECPv6.15.20//NONSGML v1.0//EN
CALSCALE:GREGORIAN
METHOD:PUBLISH
X-WR-CALNAME:digitalHUB Aachen
X-ORIGINAL-URL:https://www.aachen.digital/en/
X-WR-CALDESC:Events for digitalHUB Aachen
REFRESH-INTERVAL;VALUE=DURATION:PT1H
X-Robots-Tag:noindex
X-PUBLISHED-TTL:PT1H
BEGIN:VTIMEZONE
TZID:Europe/Berlin
BEGIN:DAYLIGHT
TZOFFSETFROM:+0100
TZOFFSETTO:+0200
TZNAME:CEST
DTSTART:20200329T010000
END:DAYLIGHT
BEGIN:STANDARD
TZOFFSETFROM:+0200
TZOFFSETTO:+0100
TZNAME:CET
DTSTART:20201025T010000
END:STANDARD
BEGIN:DAYLIGHT
TZOFFSETFROM:+0100
TZOFFSETTO:+0200
TZNAME:CEST
DTSTART:20210328T010000
END:DAYLIGHT
BEGIN:STANDARD
TZOFFSETFROM:+0200
TZOFFSETTO:+0100
TZNAME:CET
DTSTART:20211031T010000
END:STANDARD
BEGIN:DAYLIGHT
TZOFFSETFROM:+0100
TZOFFSETTO:+0200
TZNAME:CEST
DTSTART:20220327T010000
END:DAYLIGHT
BEGIN:STANDARD
TZOFFSETFROM:+0200
TZOFFSETTO:+0100
TZNAME:CET
DTSTART:20221030T010000
END:STANDARD
END:VTIMEZONE
BEGIN:VEVENT
DTSTART;TZID=Europe/Berlin:20210425T090000
DTEND;TZID=Europe/Berlin:20210426T163000
DTSTAMP:20260423T230726
CREATED:20210422T122204Z
LAST-MODIFIED:20210422T122943Z
UID:10005883-1619341200-1619454600@www.aachen.digital
SUMMARY:"Biomedica on the move" und "MDR-CONFERENCE.NRW"
DESCRIPTION:Ab dem 26. Mai 2021 gilt die Medical Device Regulation (MDR) verpflichtend. Aus diesem Anlass laden der MedLife e.V. und das Cluster Medizin.NRW in Kooperation mit der IHK Aachen und weiteren Partnern in Life-Science-Netzwerken aus NRW zum zweitägigen Medizinprodukte-Event ein: der Biomedica on the move und der MDR-CONFERENCE.NRW. \nVorgestellt und diskutiert werden die Anforderungen an die neue MDR sowie der Prozess von der Idee\, über die Entwicklung\, die Zulassungsdokumentation und das Inverkehrbringen bis hin zur Marktüberwachung. Die Events bieten ein abwechslungsreiches Programm aus Workshops\, Pitches\, Matchmaking und Vorträgen. \nAmeldung \nWichtige Information\nDie Veranstaltung wird als hybride Veranstaltung stattfinden\, sodass max. 40 Personen vor Ort mit Abstand teilnehmen können. Alle anderen Teilnehmer können die Veranstaltung per Livestream mitverfolgen.\nDie Workshops am 25. Mai werden ausschließlich digital stattfinden. \n 
URL:https://www.aachen.digital/en/event/biomedica-on-the-move-und-mdr-conference-nrw/
LOCATION:Jülicher Strasse 72a\, Aachen\, 52070\, Germany
ATTACH;FMTTYPE=image/jpeg:https://www.aachen.digital/wp-content/uploads/2020/09/MedLife12zu5.PNG.jpg
END:VEVENT
BEGIN:VEVENT
DTSTART;TZID=Europe/Berlin:20210302T103000
DTEND;TZID=Europe/Berlin:20210302T143000
DTSTAMP:20260423T230726
CREATED:20210219T094827Z
LAST-MODIFIED:20210219T094950Z
UID:10005823-1614681000-1614695400@www.aachen.digital
SUMMARY:Minisymposium "Digitale Gesundheitsanwendungen in der klinischen Forschung"
DESCRIPTION:Am 02. März findet das erste virtuelle Minisymposium des Leuchtturms KliFoNet.NRW zum aktuellen Thema “Digitale Gesundheitsanwendungen in der klinischen Forschung” statt. \nDabei berichtet der HIH über den Stand der DiGA-Einführung in Deutschland und gibt einen Ausblick auf künftige Entwicklungen. Das BfArM gibt einen kurzen Einblick in die Zulassung von DiGA und den Nachweis positiver Versorgungsaspekte\, den DiGA erbringen müssen. Pioniere einer digitalen Gesundheitsanwendung aus NRW (Kalmeda von mynoise) berichten über ihre Erfahrungen und Expert:innen für (digitale) klinische Forschung beleuchten die Schnittstellen zwischen digitalen Interventionen – ob als Medizinprodukt und DiGA oder nicht – und der klinischen Forschung. \nAußerdem gibt es begrenzte Möglichkeiten für Teilnehmer:innen mit einem Kurzvortrag ihre aktuellen Projekte im Bereich der Digitalen Medizin einem interdisziplinären Publikum vorzustellen. Wenn Sie interessiert sind einen Kurzvortrag zu halten\, melden Sie sich gerne direkt bei uns unter medizin.nrw@dlr.de. \nProgramm und Anmeldung
URL:https://www.aachen.digital/en/event/minisymposium-digitale-gesundheitsanwendungen-in-der-klinischen-forschung/
LOCATION:Jülicher Strasse 72a\, Aachen\, 52070\, Germany
ATTACH;FMTTYPE=image/jpeg:https://www.aachen.digital/wp-content/uploads/2020/09/MedLife12zu5.PNG.jpg
END:VEVENT
END:VCALENDAR