BEGIN:VCALENDAR
VERSION:2.0
PRODID:-//digitalHUB Aachen - ECPv6.15.20//NONSGML v1.0//EN
CALSCALE:GREGORIAN
METHOD:PUBLISH
X-ORIGINAL-URL:https://www.aachen.digital/en/
X-WR-CALDESC:Events for digitalHUB Aachen
REFRESH-INTERVAL;VALUE=DURATION:PT1H
X-Robots-Tag:noindex
X-PUBLISHED-TTL:PT1H
BEGIN:VTIMEZONE
TZID:Europe/Berlin
BEGIN:DAYLIGHT
TZOFFSETFROM:+0100
TZOFFSETTO:+0200
TZNAME:CEST
DTSTART:20190331T010000
END:DAYLIGHT
BEGIN:STANDARD
TZOFFSETFROM:+0200
TZOFFSETTO:+0100
TZNAME:CET
DTSTART:20191027T010000
END:STANDARD
BEGIN:DAYLIGHT
TZOFFSETFROM:+0100
TZOFFSETTO:+0200
TZNAME:CEST
DTSTART:20200329T010000
END:DAYLIGHT
BEGIN:STANDARD
TZOFFSETFROM:+0200
TZOFFSETTO:+0100
TZNAME:CET
DTSTART:20201025T010000
END:STANDARD
BEGIN:DAYLIGHT
TZOFFSETFROM:+0100
TZOFFSETTO:+0200
TZNAME:CEST
DTSTART:20210328T010000
END:DAYLIGHT
BEGIN:STANDARD
TZOFFSETFROM:+0200
TZOFFSETTO:+0100
TZNAME:CET
DTSTART:20211031T010000
END:STANDARD
BEGIN:DAYLIGHT
TZOFFSETFROM:+0100
TZOFFSETTO:+0200
TZNAME:CEST
DTSTART:20220327T010000
END:DAYLIGHT
BEGIN:STANDARD
TZOFFSETFROM:+0200
TZOFFSETTO:+0100
TZNAME:CET
DTSTART:20221030T010000
END:STANDARD
BEGIN:DAYLIGHT
TZOFFSETFROM:+0100
TZOFFSETTO:+0200
TZNAME:CEST
DTSTART:20230326T010000
END:DAYLIGHT
BEGIN:STANDARD
TZOFFSETFROM:+0200
TZOFFSETTO:+0100
TZNAME:CET
DTSTART:20231029T010000
END:STANDARD
BEGIN:DAYLIGHT
TZOFFSETFROM:+0100
TZOFFSETTO:+0200
TZNAME:CEST
DTSTART:20240331T010000
END:DAYLIGHT
BEGIN:STANDARD
TZOFFSETFROM:+0200
TZOFFSETTO:+0100
TZNAME:CET
DTSTART:20241027T010000
END:STANDARD
BEGIN:DAYLIGHT
TZOFFSETFROM:+0100
TZOFFSETTO:+0200
TZNAME:CEST
DTSTART:20250330T010000
END:DAYLIGHT
BEGIN:STANDARD
TZOFFSETFROM:+0200
TZOFFSETTO:+0100
TZNAME:CET
DTSTART:20251026T010000
END:STANDARD
BEGIN:DAYLIGHT
TZOFFSETFROM:+0100
TZOFFSETTO:+0200
TZNAME:CEST
DTSTART:20260329T010000
END:DAYLIGHT
BEGIN:STANDARD
TZOFFSETFROM:+0200
TZOFFSETTO:+0100
TZNAME:CET
DTSTART:20261025T010000
END:STANDARD
BEGIN:DAYLIGHT
TZOFFSETFROM:+0100
TZOFFSETTO:+0200
TZNAME:CEST
DTSTART:20270328T010000
END:DAYLIGHT
BEGIN:STANDARD
TZOFFSETFROM:+0200
TZOFFSETTO:+0100
TZNAME:CET
DTSTART:20271031T010000
END:STANDARD
END:VTIMEZONE
BEGIN:VEVENT
DTSTART;TZID=Europe/Berlin:20260210T170000
DTEND;TZID=Europe/Berlin:20260210T190000
DTSTAMP:20260423T165129
CREATED:20260122T085127Z
LAST-MODIFIED:20260122T090941Z
UID:10007667-1770742800-1770750000@www.aachen.digital
SUMMARY:Life Science Expert Meetup
DESCRIPTION:Der lockere Austausch unter „Gleichgesinnten“ – findet viermal im Jahr statt. \nDas Life Science Expert Meetup bietet Expert*innen und Interessierten die Gelegenheit\, sich in entspannter Atmosphäre über aktuelle Themen im Bereich Life Science auszutauschen. \nDas Thema diesmal: Was soll ich beim Gründen beachten? \nMit diesem Meetup wollen wir Interessenten ansprechen\, die gerade auf dem Sprung sind und sich die Frage stellen\, ob all das reicht um den langen Weg in den LifeScience/DeepTech durchzuhalten. \n\nWie finde ich Mitgründer:innen?\nWie/wann soll ich gründen?\n\nEs sind wie immer interessante Experten:innen eingeladen\, die Eure Fragen zu dem Thema beantworten  – also schaut einfach vorbei!\nModeration: Michael P. Hüllenkremer\, MedLife Beauftragter für Start-Ups in Life Sciences der Region Aachen.\n\nAls Experten:inn laden wir ein:\n\neine(n) aktiven Unternehmer\neine(n) erfahrenen Unterstützer/Mentor\neine(n) Personalentwickler/Coach und\neinen Patent/Markenrechtler\n\nExperten:innen: \n\nMaximilian J. Wagner\, Spezialist für Markenanmeldung\, Markenüberwachung\, Designschutz.\nweitere tba\n\nUm Anmeldung wird gebeten \nANMELDUNG \nOrganisiert wird das Life Science Expert Meetup vom MedLife e.V.\, AGIT mbH\, RWTH Innovation\, Region Aachen Zweckverband | RAZV und digitalHUB Aachen e.V. . \nDas Innovationsprojekt Care for Sustainable Innovation wird im Rahmen des Förderaufrufes Regio.NRW – Transformation aus Mitteln des Europäischen Fonds für regionale Entwicklung (EFRE) und des Landes Nordrhein-Westfalen gefördert und baut auf den Ergebnissen des EFRE-Projektes Care and Mobility Innovation auf.
URL:https://www.aachen.digital/en/event/life-science-expert-meetup-3/
LOCATION:Collective Incubator\, Jülicher Str. 209 q-s\, Aachen\, 52070
ATTACH;FMTTYPE=image/jpeg:https://www.aachen.digital/wp-content/uploads/2025/12/Design-ohne-Titel-36.jpg
END:VEVENT
BEGIN:VEVENT
DTSTART;TZID=Europe/Berlin:20251216T170000
DTEND;TZID=Europe/Berlin:20251216T190000
DTSTAMP:20260423T165129
CREATED:20251202T104547Z
LAST-MODIFIED:20260122T085227Z
UID:10007548-1765904400-1765911600@www.aachen.digital
SUMMARY:Life Science Expert Meetup
DESCRIPTION:Der lockere Austausch unter „Gleichgesinnten“ – findet viermal im Jahr statt.\nDas Thema im Dezember: Finanzierungsstrategien für Life Science und Deep-Tech-Start-Ups \nWer investiert überhaupt\, wie viel und wie lange in Startups\, welche Bedingungen sind in der jeweiligen Investoren-Gruppe zu beachten\, was bedeutet das Investment dieser Gruppen für die Startups und welche Vorbereitungen kann/muss man treffen. \n\nWelche Strategien gibt es?\nWelche Vor-/Nachteile haben diese?\nWie sortiert sich da der Business Angel (BA) bzw. ein Family Office (FO) ein?\nWas ist für den BA / das FO wichtig?\nGibt es Unterschiede zwischen BA\, FO und VC bei der Bewertung?\nWas sind die Besonderheiten in den LifeScience (bzw. Deep-Tech) gegenüber Geschäftsmodellen mit schnellen Break-Even?\n\nEs sind wie immer interessante ExpertenInnen eingeladen\, die Eure Fragen zu dem Thema beantworten – also schaut einfach vorbei!\nAls Gäste konnten wir gewinnen: \n\nein(en)e erfahrenen Unternehmer*in\neinen Vertreter*in eines VC´s\neinen Berater*in zum non-dilutive Funding\n\nDie Experten: \n\nMaximillian Obring: (FUNDED- Your partner for non-dilutive fundraising)\nJan Linzner: (Investment Analyst @TVF)\nAlexander Zink: (Xlife Sciences AG)\n\nGeben Input\, beantworten Eure Fragen und mehr… \nGemeinsam mit dem Region Aachen Zweckverband\, der AGIT mbH\, dem digiHub Aachen und der RWTH Innovation GmbH\, bringt der MedLife e. V. Expert:innen auf die Bühne\, die praxisnahe Tipps und wertvolle Insights geben \nANMELDUNG
URL:https://www.aachen.digital/en/event/life-science-expert-meetup-2/
LOCATION:Collective Incubator\, Jülicher Str. 209 q-s\, Aachen\, 52070
ATTACH;FMTTYPE=image/jpeg:https://www.aachen.digital/wp-content/uploads/2025/12/Design-ohne-Titel-36.jpg
END:VEVENT
BEGIN:VEVENT
DTSTART;TZID=Europe/Berlin:20251111T143000
DTEND;TZID=Europe/Berlin:20251111T190000
DTSTAMP:20260423T165129
CREATED:20251030T105910Z
LAST-MODIFIED:20251030T105910Z
UID:10007488-1762871400-1762887600@www.aachen.digital
SUMMARY:BioTech and Start-ups – What’s happening in the region?
DESCRIPTION:Due to their innovative potential\, biotech start-ups contribute significantly to health\, sustainability and economic strength in our region. Nevertheless\, many founders face a variety of challenges that are difficult to overcome on their own. A functioning network is crucial for the successful establishment of a biotech start-up that also benefits society. \nConsequently\, with this workshop MedLife aims to connect stakeholders from the biotechnology and start-up ecosystem to discuss threats and opportunities of successfully developing bio-inspired business models. \nThis event will: \nHighlight the biotech potential for society – Insights into current developments and exciting projects\nIntroduce promising biotech start-ups and supporters\nBe an excellent opportunity to get in touch with the ecosystem\, to exchange ideas\, challenges\, and solutions \nInputs: \nNRW Biotech – today and tomorrow – Nils Schrader │ Bio.NRW\nIntroduction of Material Labs Incubator – Maximilian Ruschmeier ǀ Lehrstuhl für Biotechnologie\, RWTH Aachen\nHow and where do biotech founders find (lab)space? – Dirk Pfeifferling ǀ its Baesweiler & Frank Leisten ǀ AGIT mbH\nLessons learned on the path to a successful biotech/medtech start-up – Artur Janiszek │ elevate.tech GmbH\nFrom Idea to Products and Applications – Stefan Verseck ǀ Lehrstuhl für Biotechnologie\, RWTH Aachen \nProgram: WS BioTech – What’s happening in the region? \nIf you are interested in participating in this workshop\, please register until November 9\, 12 pm. \nTarget Audience:\nBiotech related stakeholders\, in particular students and researchers interested in starting a business\, entrepreneurs and supporters \nLocation\nCollective Incubator\, Jülicher Straße 209\, 52070 Aachen \nRegister
URL:https://www.aachen.digital/en/event/biotech-and-start-ups-whats-happening-in-the-region/
LOCATION:Collective Incubator\, Jülicher Str. 209 q-s\, Aachen\, 52070
ATTACH;FMTTYPE=image/jpeg:https://www.aachen.digital/wp-content/uploads/2025/10/Design-ohne-Titel-9.jpg
END:VEVENT
BEGIN:VEVENT
DTSTART;TZID=Europe/Berlin:20251008T100000
DTEND;TZID=Europe/Berlin:20251008T190000
DTSTAMP:20260423T165129
CREATED:20250625T124143Z
LAST-MODIFIED:20250625T124143Z
UID:10007374-1759917600-1759950000@www.aachen.digital
SUMMARY:Growth across borders
DESCRIPTION:Networking Euregional BioMedTech and Life Science! \nThe Growth Across Borders event brings together companies from Germany\, the Netherlands and Belgium to support Euregional cooperation and economic success in the life sciences and BioMedTech sector. Growth Across Borders 2025 invites you to company tours\, workshops on euregional topics in B\,G\,NL\, keynotes\, panel discussions\, matchmaking\, exchange and networking. \nWe are looking forward to Edition 2025 – Growth Across Borders – this time in Aachen (D)! With new topics\, new networks\, many partners and you. \nShort program: (complete version can be found here) \n09:30 – 10:00 a.m. | Arrival & Registration for Morning Program \nBefore the main event\, there will be the opportunity to take part in company tours and workshops. Registration is required. \n10:00 – 11:30 a.m. | Workshops \nFour parallel workshops are offered. If you would like to attend\, please select only one workshop. \n11:30 am – 12:30 p.m. | Company tour \nGfPS mbH\, ECM Zertifizierungsgesellschaft für Medizinprodukte in Europa and Clinomic Group GmbH offer guided tours of their companies and information about their portfolios. \n12:00 p.m. | Arrival & Registration Afternoon Program \n12:30 – 1:30 p.m. | 1:1 Meetings & Lunch & Exhibition\, Networking \nIndividual networking opportunities enable targeted discussions between companies and potential partners. \nAppointments can be booked via Enterprise Europe Network [Link coming soon]. \n1:30 – 2:30 p.m. | Keynotes & Expert Session \nTopic: Strengths of cross-border cooperation including infrastructure & location advantages \n2:30 – 3:00 p.m. | Experience reports from entrepreneurs \nPractical insights into opportunities and challenges and solutions for international business models. \n3:00 – 4:00 p.m. | 1:1 Meetings & Exhibition \nExhibition tables can also be booked for a fee – make contacts and address new target groups. \n4:00 – 4:45 p.m. | Panel discussion Growth across borders: challenges and solutions \nExperts from business and administration will show ways forward and report on their experience. \n4:45 – 5:15 p.m. | Experience reports from entrepreneurs \nPractical insights into the opportunities and challenges of international business models. \n5:15 – 7:00 p.m. | 1:1 Meetings & Exhibition\, Networking & Conclusion \nOpportunity to exchange ideas over food and drinks with accompanying exhibition. \nREGISTER HERE
URL:https://www.aachen.digital/en/event/growth-across-borders-2/
LOCATION:digitalHUB Aachen\, Jülicher Str. 72a\, Aachen\, Nordrhein-Westfalen\, 52070\, Germany
ATTACH;FMTTYPE=image/jpeg:https://www.aachen.digital/wp-content/uploads/2025/06/growth-across-borders-.jpg
END:VEVENT
BEGIN:VEVENT
DTSTART;TZID=Europe/Berlin:20250916T170000
DTEND;TZID=Europe/Berlin:20250916T190000
DTSTAMP:20260423T165129
CREATED:20250828T074636Z
LAST-MODIFIED:20250828T074636Z
UID:10007415-1758042000-1758049200@www.aachen.digital
SUMMARY:Life Science Expert Meetup: Business development – Weiterentwicklung nach Gründung
DESCRIPTION:Life Science Expert Meetup – der lockere Austausch unter „Gleichgesinnten“ – findet viermal im Jahr statt. \nThema im September: “Business development – Weiterentwicklung nach Gründung” \nDie eingeladenen Expert*innen vertreten … \n    einen erfahrenen Unternehmer*in\n    einen jungen Unternehmer*in\n    ein(en)e Teamentwickler*in und\n    eine Person aus dem Thema Strategie + Markt \nAls Experten sind dabei: \nGernot Sümmermann\, ein Seriengründer mit Erfahrungen in vielen Bereichen \nEnno Dülberg\, ein erfahrener Gründer und CEO der AUXSYS GmbH \nDr. Miriam Zeichner\, systemische Coachin\, zertifizierte Diversity & Inclusion Managerin und Head of Corporate Consulting beim digitalHUB Aachen e.V.\, mit über zehn Jahren Führungserfahrung bringt sie umfassende Expertise in Transformation\, Unternehmenskultur und Innovation mit. \nweitere folgen… \nDatum: 16.09.2025\nZeit: 17:00-19:00 Uhr\nZu beachten der CI ist auf dem Gelände umgezogen ins Gebäude gegenüber. \nWo: Collective Incubator | Jülicher Straße 209 s-q| Auditorium 2OG| 52070 Aachen \nDer Workshop ist kostenfrei\, zur besseren Planung ist eine verbindliche Anmeldung bis zum 12. Juni jedoch erforderlich. \nHier anmelden \nWeitere Life Science Expert Meetup Termine: \n09. Dezember\, Dienstag
URL:https://www.aachen.digital/en/event/life-science-expert-meetup-business-development-weiterentwicklung-nach-gruendung/
LOCATION:Collective Incubator\, Jülicher Str. 209 q-s\, Aachen\, 52070
ATTACH;FMTTYPE=image/jpeg:https://www.aachen.digital/wp-content/uploads/2025/05/LifeScienceExperts-scaled.jpg
END:VEVENT
BEGIN:VEVENT
DTSTART;TZID=Europe/Berlin:20250617T170000
DTEND;TZID=Europe/Berlin:20250617T190000
DTSTAMP:20260423T165129
CREATED:20250526T073948Z
LAST-MODIFIED:20250526T082234Z
UID:10007335-1750179600-1750186800@www.aachen.digital
SUMMARY:Life Science Expert Meetup: “Product Market-Fit Validierung”
DESCRIPTION:Life Science Expert Meetup – der lockere Austausch unter „Gleichgesinnten“ – findet viermal im Jahr statt. \nThema im Juni: “Product Market-Fit Validierung” \nEs passt eigentlich nie\nDann kommt die Suche nach der passenden Applikation oder die Anpassung des Produktes\nWie gehen erfolgreiche Unternehmen mit innovativen Produkten vor? \nWas genau bedeutet Product-Market Fit (PMF). Das PMF bezeichnet den Zustand\, in dem ein Produkt die Bedürfnisse eines spezifischen Marktes optimal erfüllt. Es ist der Punkt\, an dem ein Unternehmen ein Produkt entwickelt hat\, das nicht nur von den Kunden gewünscht wird\, sondern auch deren Probleme effektiv löst und entsprechend gewinnbringend verkauft wird. \nValidierung des Product-Market Fit -Validierung bezieht sich auf den Prozess\, durch den Unternehmen sicherstellen\, dass ihr Produkt tatsächlich den Bedürfnissen des Marktes entspricht. Dies geschieht häufig durch die Entwicklung eines Minimum Viable Product (MVP)\, das die grundlegenden Funktionen des Produkts bietet\, um frühes Feedback von Nutzern zu sammeln. Durch diese Rückmeldungen können Unternehmen Anpassungen vornehmen und das Produkt weiterentwickeln\, bis es den PMF erreicht. Ein gängiger Ansatz zur Validierung ist die Durchführung von Umfragen\, bei denen Kunden gefragt werden\, wie enttäuscht sie wären\, wenn das Produkt nicht mehr verfügbar wäre. Ein Wert von über 40 % der Befragten\, die angeben\, dass sie sehr enttäuscht wären\, gilt als Indikator für einen erreichten PMF. \nExpert*innen: \nGeorg Strömer (LIMS at Work\, GmbH)\nFranziska Uber (Syneos Health)\nMichael Klöppels (Berater für BÖSL Medizintechnik GmbH)\nDr. Michael Hoffmann (Hemoteq AG) \nWann: Dienstag\, 17.06.2025 um 17:00 Uhr\nZu beachten der CI ist auf dem Gelände umgezogen ins Gebäude gegenüber. \nWo: Collective Incubator | Jülicher Straße 209 s-q| Auditorium 2OG| 52070 Aachen \nDer Workshop ist kostenfrei\, zur besseren Planung ist eine verbindliche Anmeldung bis zum 12. Juni jedoch erforderlich. \nHier anmelden \nWeitere Life Science Expert Meetup Termine: \n16. September\, Dienstag \n09. Dezember\, Dienstag
URL:https://www.aachen.digital/en/event/life-science-expert-meetup-product-market-fit-validierung/
LOCATION:Collective Incubator\, Jülicher Str. 209 q-s\, Aachen\, 52070
ATTACH;FMTTYPE=image/jpeg:https://www.aachen.digital/wp-content/uploads/2025/05/LifeScienceExperts-scaled.jpg
END:VEVENT
BEGIN:VEVENT
DTSTART;TZID=Europe/Berlin:20250605T153000
DTEND;TZID=Europe/Berlin:20250605T183000
DTSTAMP:20260423T165129
CREATED:20250603T131404Z
LAST-MODIFIED:20250603T131404Z
UID:10007343-1749137400-1749148200@www.aachen.digital
SUMMARY:QM-RA BaseCamp – Pragmatische QM-Lösungen
DESCRIPTION:Wie navigiert man als junges Unternehmen durch den Dschungel regulatorischer Anforderungen in der Medizintechnik? Welche Dokumentationen sind notwendig? Wie funktioniert eine Auditierung – und wie kann Künstliche Intelligenz dabei unterstützen? Antworten auf diese und viele weitere Fragen liefert das QM-RA BaseCamp von MedLife e. V. – eine kompakte\, interaktive Veranstaltung für Gründer*innen\, Start-ups und junge MedTech-Unternehmen. \nDas QM-RA BaseCamp (Qualitätsmanagement & Regulatory Affairs) richtet sich gezielt an Unternehmen\, die sich in der frühen Phase mit diesen Anforderungen auseinandersetzen – praxisnah\, verständlich und lösungsorientiert. \nNach einer einführenden Keynote zum Thema Dokumentation in der MedTechBranche erwartet die Teilnehmenden ein intensiver Austausch in den Workshops sowie eine gemeinsame Diskussion der Ergebnisse. \nProgramm: \n\nBegrüßung und Moderation (Dr. Theophil Rieger\, Rieger QMS)\nKeynote – Dokumentation in der MedTechBranche – Dokumente werden in allen Abteilungen eines Medizinprodukteunternehmens erstellt und benötigt. Aber was sind die Unterschiede der verschiedenen Dokumentationen? Ab wann muss man dokumentieren? (Melanie Oelbracht\, bytec LM GmbH)\nParallele Workshops\nPlenum Ergebnispräsentation\n\nThemen der Workshops: \n\nDiGA vs. Medizinprodukt – Was macht ein Medizinprodukt aus – und was unterscheidet eine DiGA davon? In diesem interaktiven Workshop erarbeiten Sie die regulatorischen Anforderungen beider Produktarten und präsentieren Ihre Ergebnisse. – Meike Kreutel (Kreutel Engineering GmbH)\, Dr. Marcus Reinartz (OAK Software GmbH)\nAuditierung – Gemeinsam erarbeiten wir in einem Workshop die Grundlagen eines Audits und sammeln die ersten Erfahrungen in der Bewertung von Auditsituationen – Melanie Oelbracht (bytec LM GmbH)\nKI tools im QM – KI-Software erleichtert und unterstützt an vielen Stellen unsere tägliche Arbeit. Wir wollen unsere Erfahrungen im QM-Bereich austauschen\, mögliche (weitere) Einsatzgebiete identifizieren und Anforderungen an QM-konforme KI-Tools zusammentragen\, um die Entscheidung für passende KI zu erleichtern. – Prof. Christina Feldmann (FH Aachen – Geräte- & Verfahrenstechnik in der Medizin) – Peter Knipp\, (qcmed GmbH)\n\nUnsere ExpertInnen: \n\nDr. Theophil Rieger (Dr. Rieger QMS)\nMelanie Oelbracht (bytec LM GmbH)\nMeike Kreutel (Kreutel Engineering GmbH)\nDr. Marcus Reinartz (OAK Software GmbH)\nProf. Christina Feldmann (FH Aachen)\nPeter Knipp (qcmed GmbH)\n\nBei der Anmeldung wählen Sie bitte den gewünschten Workshop aus! \nDer Workshop ist kostenfrei\, eine verbindliche Anmeldung bis zum 3. Juni ist jedoch erforderlich. \nOrt:\nCollective Incubator I Räume 1 OG\nJülicherstr. 209 s-q\n52070 Aachen \nEin Produktion der MedLife-Mitglieder\, dem Netzwerk für Life Sciences und BioMedTech in der Region Aachen gemeinsam mit den lokalen Akteuren und Unterstützern: \nRAZV\, AGITmbH\, Digital Hub Aachen e. V. und RWTH Innovation GmbH \n \n \nMit freundlicher Unterstüzung der RWTH Innovation GmbH:
URL:https://www.aachen.digital/en/event/qm-ra-basecamp-pragmatische-qm-loesungen/
LOCATION:Collective Incubator\, Jülicher Str. 209 q-s\, Aachen\, 52070
ATTACH;FMTTYPE=image/jpeg:https://www.aachen.digital/wp-content/uploads/2025/06/qm-ra-basecamp.jpg
END:VEVENT
BEGIN:VEVENT
DTSTART;TZID=Europe/Berlin:20250318T170000
DTEND;TZID=Europe/Berlin:20250318T190000
DTSTAMP:20260423T165129
CREATED:20250226T093700Z
LAST-MODIFIED:20250226T093700Z
UID:10007231-1742317200-1742324400@www.aachen.digital
SUMMARY:Life Science Expert Meetup
DESCRIPTION:Beim Life Science Expert Meetup treffen sich Expert:innen und Gleichgesinnte zu einem lockeren Austausch rund um das Thema Life Science. Die Experten Dirk Reckert\, Patrick Müller\, Hans Dieter Jostarndt\, Bertram Geinitz\, Alan Mertens und Marieke Sternkopf geben dieses Mal Input und beantworten Fragen zum Thema „Verträge und Deals – das A & O“. \nFür eine bessere Planung bitten die Veranstalter um eine Anmeldung.\n \nZUR ANMELDUNG
URL:https://www.aachen.digital/en/event/life-science-expert-meetup/
LOCATION:digitalHUB Aachen\, Jülicher Str. 72a\, Aachen\, Nordrhein-Westfalen\, 52070\, Germany
ATTACH;FMTTYPE=image/jpeg:https://www.aachen.digital/wp-content/uploads/2025/02/LifeScienceExpertMeetup-25-scaled.jpg
END:VEVENT
BEGIN:VEVENT
DTSTART;TZID=Europe/Berlin:20241210T170000
DTEND;TZID=Europe/Berlin:20241210T190000
DTSTAMP:20260423T165129
CREATED:20241122T085604Z
LAST-MODIFIED:20241128T095825Z
UID:10006952-1733850000-1733857200@www.aachen.digital
SUMMARY:Life Science Expert Meetup – “VC´s & LifeScience Start-ups”
DESCRIPTION:Beim Life Science Expert Meetup treffen Gleichgesinnte aufeinander\, um sich in lockerer Atmosphäre auszutauschen. \nDieses Mal dreht sich alles um das Thema VC’s im Kontext der Life Science: \n\n“Von ganz oben\, bis ganz unten” alias: „der richtige Umgang/Zugang mit/zu VC-Gesellschaften“ – die Besonderheiten der Life Sciences\nWie gelingt der Dialog mit VCs?\nErfolgreich VC-Gesellschaften gewinnen! – Investionshürden?\nWie finden Life Science Start-Ups die passenden VCs?\nWelche Erwartungen haben VCs und Start-ups?\nWelche Rahmendbedingungen sind zu beachten?\n\nAls Experti:innen sind Ina Mayländer (TechVisionFond)\, Fabian Mimberg (Osborne Clarke GmbH)\, Oliver Marseille (Hemovent GmbH) und Niklas Steuer\, HBOX Therapies GmbH vor Ort. \nZUR ANMELDUNG
URL:https://www.aachen.digital/en/event/life-science-expert-meetup-vcs-lifescience-start-ups/
LOCATION:Collective Incubator\, Jülicher Str. 209 q-s\, Aachen\, 52070
ATTACH;FMTTYPE=image/jpeg:https://www.aachen.digital/wp-content/uploads/2024/11/Life-Science-Expert-Stage-1920-x-1080.jpg
END:VEVENT
BEGIN:VEVENT
DTSTART;TZID=Europe/Berlin:20240910T170000
DTEND;TZID=Europe/Berlin:20240910T190000
DTSTAMP:20260423T165129
CREATED:20240904T080559Z
LAST-MODIFIED:20240904T083221Z
UID:10006868-1725987600-1725994800@www.aachen.digital
SUMMARY:Life Science Expert Meetup - Wie positioniere ich mein Unternehmen im Markt?
DESCRIPTION:Life Science Expert Meetup: Erfolgreiche Marktpositionierung \nDas Life Science Expert Meetup im Collective Incubator in Aachen findet dieses mal zum Thema “Wie positioniere ich mein Unternehmen im Markt?” statt. Diskutieren Sie mit Branchenexpert:innen\, wie Sie Ihre Kunden besser verstehen\, Ihre Value Proposition schärfen und Ihre Marktpositionierung optimal kommunizieren. Nutzen Sie die Chance zum Austausch und zur Vernetzung mit Gleichgesinnten. \nSeien Sie dabei und bringen Sie Ihre Unternehmensstrategie auf das nächste Level! \nHier mehr erfahren und anmelden!
URL:https://www.aachen.digital/en/event/life-science-expert-meetup-wie-positioniere-ich-mein-unternehmen-im-markt/
LOCATION:Collective Incubator\, Jülicher Str. 209 q-s\, Aachen\, 52070
ATTACH;FMTTYPE=image/jpeg:https://www.aachen.digital/wp-content/uploads/2024/03/life-science-expert.jpg
END:VEVENT
BEGIN:VEVENT
DTSTART;TZID=Europe/Berlin:20240704T140000
DTEND;TZID=Europe/Berlin:20240704T160000
DTSTAMP:20260423T165129
CREATED:20240521T104252Z
LAST-MODIFIED:20240614T082052Z
UID:10006156-1720101600-1720108800@www.aachen.digital
SUMMARY:Gründung – Life Science Netzwerk in der Region gesucht? – WER ist der MedLife e. V. und WIE unterstützen wir Startups?
DESCRIPTION:MedLife ist der Verband der forschenden Biomedizintechnik (BioMedTech) in der EuRegio. \nDurch ein exzellentes regionales- und grenzüberschreitendes Netzwerk aus Unternehmen\, Forschungseinrichtungen und Unterstützer:innen schafft MedLife einen Mehrwert in der akademisch-industriellen Wertschöpfungskette. \nIhr Ziel ist es\, innovative Ideen zu bewegen und die Weiterentwicklung der BioMedTech-Region durch akademisch-industrielle Gemeinschaftsforschung\, Fortbildungen und Netzwerkveranstaltungen zu unterstützen. \nIm Rahmen der STARTUP WEEK könnt ihr erfahren\, welche Angebote und Unterstützung MedLife mit ihrem Netzwerk Gründer:innen bieten können. Neben speziellen Events für Startups\, bieten sie eine Vielfalt an Kontakten (z.B. zu Unternehmen\, VCs\, Expert:innen\, regionalen Akteur:innen)\, Projektkompetenzen\, Veranstaltungen zu Life Science und mehr. Also kommt vorbei! \nDieses Event ist Teil der STARTUP WEEK AACHEN. \nJetzt anmelden! \n  \nSTARTUP WEEK AACHEN: \nVom 01.07.2024 bis zum 05.07.2024 kommt die gesamte Startup-Szene der Aachener Region zusammen und teilt mit euch Know-how und spannende\, innovative Ideen für die Zukunft! In dieser Woche erwarten euch zahlreiche Veranstaltungen rund um die Themen Startup\, Wachstum\, Digitalisierung und Innovation. Das Angebot reicht von Workshops\, Keynotes und TalkUp Stories bis hin zum TOP-Event: #neuland x atec am 02. und 03.07.2024 (Aachener Technologie- und Entrepreneurship-Kongress). \nZur Webseite
URL:https://www.aachen.digital/en/event/gruendung-life-science-netzwerk-in-der-region-gesucht-wer-ist-der-medlife-e-v-und-wie-unterstuetzen-wir-start-ups/
ATTACH;FMTTYPE=image/jpeg:https://www.aachen.digital/wp-content/uploads/2024/06/stage-startupweek.jpg
END:VEVENT
BEGIN:VEVENT
DTSTART;TZID=Europe/Berlin:20240701T150000
DTEND;TZID=Europe/Berlin:20240701T180000
DTSTAMP:20260423T165129
CREATED:20240521T105626Z
LAST-MODIFIED:20240614T081427Z
UID:10006794-1719846000-1719856800@www.aachen.digital
SUMMARY:Suddenly Employer in Aachen
DESCRIPTION:After founding phase a startup typically wants to hire additional people for growing. There are legal\, tax and health insurance issues to be clarified\, especially if the colleagues come from abroad. \nAll these things may drive your attention away from what you really want to do. Therefore we would like to offer a workshop with some experts from our network to give first hints and contact points. \nOur Experts will be: \n\nA lawyer with expertise in employment law\nA colleague from a health insurance provider\nA manager of a start-up company with practical experience\nA start-up supporter from the Netherlands\nAn colleague from EURES (EURopean Employment Services)\n\nThe concept of the workshop is to have short impulse contributions from the experts and after a break a panel discussion of the experts with startup interested people from the audience. Some of the talks will be in German\, questions may be in English. \nThis event is part of STARTUP WEEK AACHEN. \nRegister Now! \n  \nSTARTUP WEEK AACHEN: \nFrom 07/01/2024 to 07/5/2024\, the entire start-up scene of the Aachen Area will come together and share know-how and exciting\, innovative ideas for the future with you! During this week you will meet numerous events around the topics start-up\, growth\, digitalization and innovation. The offer ranges from workshops\, keynote speeches and TalkUp Stories to the TOP Event: #neuland x atec on 02. and 03.07.2024 (Aachen Technology and Entrepreneurship Congress). \nTo the Website
URL:https://www.aachen.digital/en/event/suddenly-employer-in-aachen/
ATTACH;FMTTYPE=image/jpeg:https://www.aachen.digital/wp-content/uploads/2024/06/stage-startupweek.jpg
END:VEVENT
BEGIN:VEVENT
DTSTART;TZID=Europe/Berlin:20200325T163000
DTEND;TZID=Europe/Berlin:20200325T190000
DTSTAMP:20260423T165129
CREATED:20200204T090523Z
LAST-MODIFIED:20200204T090523Z
UID:10005519-1585153800-1585162800@www.aachen.digital
SUMMARY:Workshop: Start-up in Life Science
DESCRIPTION:Wie kann ich mein Intellectual Property (IP) schützen (lassen)? Marken- Patentanmeldung oder einfach schneller sein als andere Marktteilnehmer?\nMedLife e. V. lädt ein: Start-up Interessierte [m/w/d] \nWo:\nCenter for Biohybrid Medical Systems \nForckenbeckstraße 55 \n52074 Aachen \nWann:\nMittwoch 25.03.2020\, 16:30 – 19:00 Uhr \nKosten:\nFür die genannte Zielgruppe ist dieser Workshop kostenfrei. Aufgrund begrenzter Teilnehmerplätze wird um rechtzeitige Anmeldung gebeten. Vergabe vorgenannter Teilnahmeplätze nach Eingang. \nVortragende:\nRon Meyer Start-up: Intellectual Property (IP) als Unternehmensgrundlage InfanDx AG \nDr. Simon Sonntag Start-up: Herausforderungen bei der Patentierung von Software Virtonomy GmbH \nDr. Julian Boor Rechtsfragen bei den ersten Schritten: Besonderheiten Venture-Capital-Geber\, Bindung von Know-how-Trägern Notare Auernhammer & Dr. Boor \nCarsten Koch Intellectual Property (IP) richtig schützen Farago Patentanwälte \nMatthias Guth Der Frühphaseninvestor – mehr als nur Geldgeber? MIG Verwaltung AG \n  \nIm Anschluss an die Impulsvorträge hast Du die Möglichkeit\, Fragen/Herausforderungen zu diskutieren/Dein erfolgreiches Netzwerk aufzubauen. \n  \nFragen:\nDeine Fragen beantwortet gerne Christa Roos. \nTelefon: +49 241 47583 486 \nroos@medlife-ev.de \n  \n  \n 
URL:https://www.aachen.digital/en/event/workshop-start-up-in-life-science/
LOCATION:Center for Biohybrid Medical Systems – CMBS\, Forckenbeckstraße 55\, Aachen\, 52074\, Deutschland
ATTACH;FMTTYPE=image/jpeg:https://www.aachen.digital/wp-content/uploads/2020/02/mindmap-2123973_1920.jpg
END:VEVENT
END:VCALENDAR