BEGIN:VCALENDAR
VERSION:2.0
PRODID:-//digitalHUB Aachen - ECPv6.15.20//NONSGML v1.0//EN
CALSCALE:GREGORIAN
METHOD:PUBLISH
X-ORIGINAL-URL:https://www.aachen.digital/en/
X-WR-CALDESC:Events for digitalHUB Aachen
REFRESH-INTERVAL;VALUE=DURATION:PT1H
X-Robots-Tag:noindex
X-PUBLISHED-TTL:PT1H
BEGIN:VTIMEZONE
TZID:Europe/Berlin
BEGIN:DAYLIGHT
TZOFFSETFROM:+0100
TZOFFSETTO:+0200
TZNAME:CEST
DTSTART:20240331T010000
END:DAYLIGHT
BEGIN:STANDARD
TZOFFSETFROM:+0200
TZOFFSETTO:+0100
TZNAME:CET
DTSTART:20241027T010000
END:STANDARD
BEGIN:DAYLIGHT
TZOFFSETFROM:+0100
TZOFFSETTO:+0200
TZNAME:CEST
DTSTART:20250330T010000
END:DAYLIGHT
BEGIN:STANDARD
TZOFFSETFROM:+0200
TZOFFSETTO:+0100
TZNAME:CET
DTSTART:20251026T010000
END:STANDARD
BEGIN:DAYLIGHT
TZOFFSETFROM:+0100
TZOFFSETTO:+0200
TZNAME:CEST
DTSTART:20260329T010000
END:DAYLIGHT
BEGIN:STANDARD
TZOFFSETFROM:+0200
TZOFFSETTO:+0100
TZNAME:CET
DTSTART:20261025T010000
END:STANDARD
END:VTIMEZONE
BEGIN:VEVENT
DTSTART;VALUE=DATE:20251117
DTEND;VALUE=DATE:20251121
DTSTAMP:20260423T203014
CREATED:20250123T103657Z
LAST-MODIFIED:20250123T103657Z
UID:10007182-1763337600-1763683199@www.aachen.digital
SUMMARY:MEDICA 2025 - „Meet Health. Future. People.“
DESCRIPTION:„Meet Health. Future. People.“ – so lautet das Kampagnenmotto\, mit dem die MEDICA im neuen Messejahr 2025 in Richtung Zukunft durchstarten wird. \nDie MEDICA in Düsseldorf ist mit über 5.000 Ausstellern aus 72 Nationen und 80.000 Besuchern eine der größten medizinischen B2B-Fachmessen weltweit. \nHier werden eine Vielzahl von innovativen Produkten und Dienstleistungen aus den Bereichen Medizinische Bildgebung\, Labortechnik\, Diagnostika\, Health-IT\, mobile Health sowie Physiotherapie-/ Orthopädietechnik und medizinische Verbrauchsmaterialien präsentiert. Das umfangreiche Programm der erstklassigen Foren\, Konferenzen und Sonderschauen bietet Gelegenheiten für interessante Präsentationen und Diskussionen mit Experten und Politikern und umfasst auch Pitches von neuen Produkten und Preisverleihungen.
URL:https://www.aachen.digital/en/event/medica-messe-2025/
LOCATION:Messe Düsseldorf\, Stockumer Kirchstr. 61\, Düsseldorf\, 40474\, Germany
ATTACH;FMTTYPE=image/jpeg:https://www.aachen.digital/wp-content/uploads/2025/01/MEDICA-2025.jpg
END:VEVENT
END:VCALENDAR