BEGIN:VCALENDAR
VERSION:2.0
PRODID:-//digitalHUB Aachen - ECPv6.15.20//NONSGML v1.0//EN
CALSCALE:GREGORIAN
METHOD:PUBLISH
X-WR-CALNAME:digitalHUB Aachen
X-ORIGINAL-URL:https://www.aachen.digital/en/
X-WR-CALDESC:Events for digitalHUB Aachen
REFRESH-INTERVAL;VALUE=DURATION:PT1H
X-Robots-Tag:noindex
X-PUBLISHED-TTL:PT1H
BEGIN:VTIMEZONE
TZID:Europe/Berlin
BEGIN:DAYLIGHT
TZOFFSETFROM:+0100
TZOFFSETTO:+0200
TZNAME:CEST
DTSTART:20210328T010000
END:DAYLIGHT
BEGIN:STANDARD
TZOFFSETFROM:+0200
TZOFFSETTO:+0100
TZNAME:CET
DTSTART:20211031T010000
END:STANDARD
BEGIN:DAYLIGHT
TZOFFSETFROM:+0100
TZOFFSETTO:+0200
TZNAME:CEST
DTSTART:20220327T010000
END:DAYLIGHT
BEGIN:STANDARD
TZOFFSETFROM:+0200
TZOFFSETTO:+0100
TZNAME:CET
DTSTART:20221030T010000
END:STANDARD
BEGIN:DAYLIGHT
TZOFFSETFROM:+0100
TZOFFSETTO:+0200
TZNAME:CEST
DTSTART:20230326T010000
END:DAYLIGHT
BEGIN:STANDARD
TZOFFSETFROM:+0200
TZOFFSETTO:+0100
TZNAME:CET
DTSTART:20231029T010000
END:STANDARD
END:VTIMEZONE
BEGIN:VEVENT
DTSTART;TZID=Europe/Berlin:20220628T093000
DTEND;TZID=Europe/Berlin:20220629T180000
DTSTAMP:20260423T235831
CREATED:20220512T120643Z
LAST-MODIFIED:20220523T100622Z
UID:10006243-1656408600-1656525600@www.aachen.digital
SUMMARY:#neuland - Creating the digital & sustainable future together
DESCRIPTION:Der Kongress #neuland – Creating the digital & sustainable future together stellt einen Think Tank für Vordenker:innen auf dem Weg in eine effiziente\, aber ebenso ökologisch und ökonomisch nachhaltige Zukunft dar. \nDer digitalHUB ist mit dem DWNRW-Stand bei #neuland vertreten und entsendet Startups ins Pitch Battle! \nDie Vision von #neuland ist die Vernetzung und Mobilisierung der Menschen in der fünftgrößten Metropolregion Europas: Rhein-Ruhr. Gemeinsam sollen Innovationen zum „Leben und Arbeiten in einer nachhaltigen urbanen Metropolregion“ in folgenden Bereichen entwickelt und gefördert werden: Digitalisierung\, Nachhaltigkeit\, Mobilität\, Sport & Kultur\, Energie und Smart City. \n#neuland bildet den Rahmen und Think Tank für Vordenker:innen und Akteur:innen\, welche die Zukunft aktiv mitgestalten wollen. Neben Entscheidungsträger:innen der Wirtschaft\, der Sport- und Kulturwelt\, Visionär:innen\, Wissenschaftler:innen und Politiker:innen\, stellen zusätzlich Investoren und Startups den enorm wichtigen Netzwerk-Charakter der Veranstaltung hervor\, welcher zur Entwicklung neuer Geschäftsideen führen soll. \nFür Startups aus dem digitalHUB Aachen ist die Teilnahme kostenlos. Für den Rabattcode wendet euch bitte an events@hubaachen.de. \nWeitere Infos und Anmeldung
URL:https://www.aachen.digital/en/event/neuland-creating-the-digital-sustainable-future-together/
LOCATION:DAS LIEBIG\, Liebigstraße 19\, Aachen\, 52070
ATTACH;FMTTYPE=image/jpeg:https://www.aachen.digital/wp-content/uploads/2022/05/Kopie-von-Stage_sustainability-1632x644-6.jpg
END:VEVENT
END:VCALENDAR