BEGIN:VCALENDAR
VERSION:2.0
PRODID:-//digitalHUB Aachen - ECPv6.15.20//NONSGML v1.0//EN
CALSCALE:GREGORIAN
METHOD:PUBLISH
X-ORIGINAL-URL:https://www.aachen.digital/en/
X-WR-CALDESC:Events for digitalHUB Aachen
REFRESH-INTERVAL;VALUE=DURATION:PT1H
X-Robots-Tag:noindex
X-PUBLISHED-TTL:PT1H
BEGIN:VTIMEZONE
TZID:Europe/Berlin
BEGIN:DAYLIGHT
TZOFFSETFROM:+0100
TZOFFSETTO:+0200
TZNAME:CEST
DTSTART:20240331T010000
END:DAYLIGHT
BEGIN:STANDARD
TZOFFSETFROM:+0200
TZOFFSETTO:+0100
TZNAME:CET
DTSTART:20241027T010000
END:STANDARD
BEGIN:DAYLIGHT
TZOFFSETFROM:+0100
TZOFFSETTO:+0200
TZNAME:CEST
DTSTART:20250330T010000
END:DAYLIGHT
BEGIN:STANDARD
TZOFFSETFROM:+0200
TZOFFSETTO:+0100
TZNAME:CET
DTSTART:20251026T010000
END:STANDARD
BEGIN:DAYLIGHT
TZOFFSETFROM:+0100
TZOFFSETTO:+0200
TZNAME:CEST
DTSTART:20260329T010000
END:DAYLIGHT
BEGIN:STANDARD
TZOFFSETFROM:+0200
TZOFFSETTO:+0100
TZNAME:CET
DTSTART:20261025T010000
END:STANDARD
END:VTIMEZONE
BEGIN:VEVENT
DTSTART;TZID=Europe/Berlin:20250908T133000
DTEND;TZID=Europe/Berlin:20250908T193000
DTSTAMP:20260423T214036
CREATED:20250610T140429Z
LAST-MODIFIED:20250708T121547Z
UID:10007345-1757338200-1757359800@www.aachen.digital
SUMMARY:Innovationskongress NRW 2025
DESCRIPTION:Der Innovationskongress richtet sich an Akteurinnen und Akteure des Innovationsökosystems NRW sowie an jene\, die sich für den Innovationsstandort interessieren. \nDazu gehören Vertreterinnen und Vertreter der Wirtschaft (sowohl global agierende Konzerne als auch der Mittelstand und Startups)\, der Wissenschaft (Hochschulen und Forschungseinrichtungen)\, von Intermediären (bspw. Innovationsförderagenturen\, Cluster\, Netzwerke\, Organisationen der Wirtschaftsförderung\, Kammern) und der Politik. Er dient als Plattform zur Vernetzung und bietet die Möglichkeit zum Austausch über aktuelle Fragen des Innovationsstandorts. \nINFORMATION & ANMELDUNG \n 
URL:https://www.aachen.digital/en/event/innovationskongress-nrw-2025/
LOCATION:EUREF Campus Düsseldorf\, Rathausufer 23\, Düsseldorf\, NRW\, 40213\, Germany
ATTACH;FMTTYPE=image/jpeg:https://www.aachen.digital/wp-content/uploads/2025/06/innovationskongress-nrw.jpg
ORGANIZER;CN="Ministerium f%C3%BCr Wirtschaft%2C Industrie%2C Klimaschutz und Energie des Landes Nordrhein-Westfalen":MAILTO:poststelle@mwike.nrw.de
END:VEVENT
END:VCALENDAR