BEGIN:VCALENDAR
VERSION:2.0
PRODID:-//digitalHUB Aachen - ECPv6.15.20//NONSGML v1.0//EN
CALSCALE:GREGORIAN
METHOD:PUBLISH
X-WR-CALNAME:digitalHUB Aachen
X-ORIGINAL-URL:https://www.aachen.digital/en/
X-WR-CALDESC:Events for digitalHUB Aachen
REFRESH-INTERVAL;VALUE=DURATION:PT1H
X-Robots-Tag:noindex
X-PUBLISHED-TTL:PT1H
BEGIN:VTIMEZONE
TZID:Europe/Berlin
BEGIN:DAYLIGHT
TZOFFSETFROM:+0100
TZOFFSETTO:+0200
TZNAME:CEST
DTSTART:20200329T010000
END:DAYLIGHT
BEGIN:STANDARD
TZOFFSETFROM:+0200
TZOFFSETTO:+0100
TZNAME:CET
DTSTART:20201025T010000
END:STANDARD
BEGIN:DAYLIGHT
TZOFFSETFROM:+0100
TZOFFSETTO:+0200
TZNAME:CEST
DTSTART:20210328T010000
END:DAYLIGHT
BEGIN:STANDARD
TZOFFSETFROM:+0200
TZOFFSETTO:+0100
TZNAME:CET
DTSTART:20211031T010000
END:STANDARD
BEGIN:DAYLIGHT
TZOFFSETFROM:+0100
TZOFFSETTO:+0200
TZNAME:CEST
DTSTART:20220327T010000
END:DAYLIGHT
BEGIN:STANDARD
TZOFFSETFROM:+0200
TZOFFSETTO:+0100
TZNAME:CET
DTSTART:20221030T010000
END:STANDARD
END:VTIMEZONE
BEGIN:VEVENT
DTSTART;TZID=Europe/Berlin:20211214T100000
DTEND;TZID=Europe/Berlin:20211214T110000
DTSTAMP:20260423T230329
CREATED:20211118T133123Z
LAST-MODIFIED:20211118T133123Z
UID:10006069-1639476000-1639479600@www.aachen.digital
SUMMARY:Datenschutz-News 2021
DESCRIPTION:Bei den Datenschutz-News bieten wir mit Datenschutz-Expertin Olga Kunkel einen besonderes Jahresrückblick und fassen die Ereignisse zusammen\, die aus Sicht des Datenschutzes besonders interessant und relevant im Jahr 2021 waren. \nSie erfahren\, u.a. wie sich die E-Privacy-Verordnung entwickelt; warum große amerikanische Unternehmen in der EU eine datenschutztechnisch schwierigere Stellung haben müssten\, aber noch nicht haben; wieso dem Datenschutz gerne Schuld an unzureichender Pandemiebekämpfung gegeben wird; wer von den Änderungen an der DSGVO profitiert; was in der DSGVO nach wie vor falsch verstanden wird. \nAblauf\n– Begrüßung\n– DSGVO: ein Überblick\n– Datenschutznews 2021\n– Datenschutz-Compliance\n– Fragenrunde \nIm Rahmen dieser Veranstaltung können Sie unserer Referentin Olga Kunkel direkt und persönlich Ihre Fragen stellen. Diese Veranstaltung ist kostenfrei. Wir freuen uns auf Ihre Teilnahme! \nWeitere Informationen und die Anmeldung finden Sie hier.
URL:https://www.aachen.digital/en/event/datenschutz-news-2021/
LOCATION:Jülicher Strasse 72a\, Aachen\, 52070\, Germany
ATTACH;FMTTYPE=image/jpeg:https://www.aachen.digital/wp-content/uploads/2021/07/AdobeStock_211845830_Data-control-wall-scaled.jpeg
END:VEVENT
BEGIN:VEVENT
DTSTART;TZID=Europe/Berlin:20211028T140000
DTEND;TZID=Europe/Berlin:20211028T180000
DTSTAMP:20260423T230329
CREATED:20211005T095100Z
LAST-MODIFIED:20211005T113103Z
UID:10006032-1635429600-1635444000@www.aachen.digital
SUMMARY:Mittelstand-Digital Kongress 2021 – Neues wagen\, Zukunft sichern
DESCRIPTION:Mittelstand-Digital lädt kleine und mittelständische Unternehmen sowie Multiplikatoren zu seinem achten Kongress als Online-Veranstaltung ein. \nUnter dem Motto „Neues wagen\, Zukunft sichern“ blicken wir zuversichtlich in eine digitalisierte Zukunft: Wie gehen Unternehmen erfolgreich die aktuellen Herausforderungen wie die Corona-Pandemie\, den Klimawandel und eine immer schnellere technologische Entwicklung an? Welche Digitalisierungsprojekte sind erfolgreich? Wie können Mittelständler bei der Transformation von Start-ups profitieren? \nPandemie\, Klimawandel und technologische Entwicklung setzen die gesamte Wirtschaft unter Druck\, aber statt passiv zuzusehen\, gestalten viele Unternehmen mit Kreativität und Innovation ihre Zukunft. Sie transformieren sich im Rekordtempo\, digitalisieren ihre Prozesse und Wertschöpfungsstrukturen\, erschließen digitale Marktplätze\, etablieren innovative Vertriebskanäle und profitieren so insgesamt von der Digitalisierung. \nWeitere Infos und Anmeldung \nViele mittelständische Betriebe aus dem Umfeld von Mittelstand-Digital konnten sich trotz Krise positiv weiterentwickeln. Mit Unterstützung der Expertinnen und Experten von Mittelstand-Digital haben sie Neues gewagt\, um sich betriebswirtschaftlich stabil und resilient aufzustellen\, ökologisch auszurichten und ihre Flexibilität zu erhöhen. Was Schnelligkeit\, Experimentierfreude und Innovation betrifft\, sind Start-ups häufig gute Vorbilder für kleine und mittlere Unternehmen. Dies gilt insbesondere für die Entwicklung digitaler Geschäftsmodelle\, die bei der überwiegenden Mehrheit der Start-ups von vorneherein angelegt sind. \nWas Sie erwartet:\nBeim Mittelstand-Digital Kongress 2021 werden ermutigende und impulsgebende Beispiele aus dem Mittelstand-Digital Umfeld aus erster Hand präsentiert. Professor Dr. Dr. Ortwin Renn\, wissenschaftlicher Direktor am Institut für transformative Nachhaltigkeitsforschung IASS in Potsdam\, wird auf die Notwendigkeit und Möglichkeiten einer nachhaltigen Transformation der Unternehmen in seiner Keynote-Präsentation eingehen. In einer Diskussionsrunde werden Expert:innen aus dem Netzwerk der Frage nachgehen\, wie kleine und mittlere Unternehmen erfolgreich den Weg der Nachhaltigkeit beschreiten können. \nDer Mittelstand-Digital Kongress 2021 bietet Ihnen die Möglichkeit\, die vorgestellten Digitalisierungsbeispiele zu diskutieren und Ihre Fragen zu stellen. In mehreren virtuellen Gruppenräumen stehen Ihnen die beteiligten Unternehmen und Zentren aus dem Netzwerk von Mittelstand-Digital Rede und Antwort. \nDie Veranstaltung ist kostenfrei\, um Anmeldung wird gebeten.
URL:https://www.aachen.digital/en/event/digitalkiwork/
LOCATION:Jülicher Strasse 72a\, Aachen\, 52070\, Germany
ATTACH;FMTTYPE=image/jpeg:https://www.aachen.digital/wp-content/uploads/2021/03/AdobeStock_211845830_Data-control-wall-1-scaled.jpeg
END:VEVENT
BEGIN:VEVENT
DTSTART;TZID=Europe/Berlin:20211012T170000
DTEND;TZID=Europe/Berlin:20211012T190000
DTSTAMP:20260423T230329
CREATED:20210930T112957Z
LAST-MODIFIED:20210930T112957Z
UID:10006030-1634058000-1634065200@www.aachen.digital
SUMMARY:Platforms are eating the world – still
DESCRIPTION:Weshalb digitale Plattformen und Ökosysteme das klassische Produktgeschäft schlagen!\nWachen Sie nachts auch manchmal mit folgenden Fragestellungen auf: \n“Was macht Plattformen eigentlich so erfolgreich?”\n“Wie unterscheiden sie sich von klassischen\, linearen Geschäftsmodellen?”\n“Traditionelle Strategie vs. Plattformstrategie – The inverted firm am Beispiel von Bosch Rexroth (von der Maschine zum Device)\n“Welche Möglichkeiten existieren\, sich hin zu einer Plattform oder zu einem Ökosystem zu entwickeln?”\nDies sind alles komplexe Fragen\, aber exakt die\, die Sie sich stellen sollten\, um zukünftig am Markt erfolgreich zu sein. Lassen Sie uns deshalb gemeinsam Antworten auf diese Fragen finden! \nZielgruppe:\nDer Cybinar richtet sich vorrangig an Unternehmen\, die sich im Rahmen der Digitalisierung mit den Themen der Plattformökonomie sowie digitalen Ökosystemen beschäftigen. \nReferent:\nNicolas A. Dürr sieht sich als Brückenbauer zwischen Technologie und Business – denn nur in Einheit kann dies zum Erfolg führen. Neben dem Impulsvortrag ist Zeit für Fragen\, die anregende Diskussion und den fachlichen und persönlichen Erfahrungsaustausch unter den Teilnehmenden und mit dem Referenten vorgesehen. \nAnmeldung \nDie Online-Veranstaltung wird über Zoom abgehalten. Die Teilnahme ist kostenfrei\, eine vorherige Registrierung ist erforderlich. Wir versenden einige Tage vor dem Cybinar den Zugangslink.
URL:https://www.aachen.digital/en/event/platforms-are-eating-the-world-still/
LOCATION:Jülicher Strasse 72a\, Aachen\, 52070\, Germany
ATTACH;FMTTYPE=image/jpeg:https://www.aachen.digital/wp-content/uploads/2021/03/AdobeStock_268786932_edited-scaled.jpg
END:VEVENT
BEGIN:VEVENT
DTSTART;TZID=Europe/Berlin:20210618T153000
DTEND;TZID=Europe/Berlin:20210618T170000
DTSTAMP:20260423T230329
CREATED:20210616T114229Z
LAST-MODIFIED:20210616T114229Z
UID:10005945-1624030200-1624035600@www.aachen.digital
SUMMARY:IT-Stammtisch „Nachhaltigkeit & Digitalisierung“
DESCRIPTION:In Zeiten von Homeoffice etwas für das strategische Business tun und in der eigenen Branche nach den neuesten Entwicklungen schauen: Das können IT-Unternehmerinnen und IT-Unternehmer beim bundesweiten und virtuellen IT-Stammtisch.  \nDas vom Bundesverband IT-Mittelstand e.V. (BITMi) und dem Kompetenzzentrum IT-Wirtschaft (KIW) initiierte Meet-Up\, ermöglicht einen unmittelbaren Kontaktaufbau zwischen IT-Unternehmen. Der offene IT-Stammtisch wird als Online-Meeting durchgeführt. Es soll auch ein Türöffner für mögliche Kooperationen sein sowie dem Ideen- und Erfahrungsaustausch im IT-Mittelstand dienen. \nThema: „Nachhaltigkeit & Digitalisierung“ \nFür den vierten IT-Stammtisch konnten wir Prof. Dr. Stefan Naumann gewinnen. Er ist an der Hochschule Trier am Umwelt-Campus Birkenfeld beschäftigt. Seine Lehrgebiete sind Grundlagen der Informatik und Mathematik mit Schwerpunkt Umwelt- und Nachhaltigkeitsinformatik. Er hat die Entwicklung des Siegels „Blauer Engel für Ressourcen- und energieeffiziente Softwareprodukte“ maßgeblich geprägt. Prof Naumann ist Sprecher der Fachgruppe Umweltinformatik der Gesellschaft für Informatik und wird einen Impuls zur nachhaltigen Softwareentwicklung geben und aufzeigen\, warum offene API-Dokumentationen nachhaltig wirken. \nIm Anschluss wird er in die Runde des IT-Stammtisches einsteigen. Wie immer sind auch andere Themen rund um Kooperationen und die mittelständisch geprägte IT-Branche Teil dieses Formats. Ziel ist es\, den Teilnehmenden die Möglichkeit zu geben\, ihre Erfahrungen im Bereich Kooperationen zu teilen\, zu diskutieren und weiterzugeben. Ihr Gastgeber zu dieser vierten Ausgabe wird Tarek Annan\, stellvertretender Geschäftsführer des Kompetenzzentrums IT-Wirtschaft\, sein. \nDiese Veranstaltung ist kostenfrei. Die Logindaten sendet man Ihnen eine Woche vor dem Event zu. \nBitte melden Sie sich hier an. \n  \nDieser IT-Stammtisch findet in Kooperation mit dem Bundesverband IT-Mittelstand e.V. und dem Digitaltag 2021 statt.
URL:https://www.aachen.digital/en/event/it-stammtisch-nachhaltigkeit-digitalisierung/
LOCATION:Jülicher Strasse 72a\, Aachen\, 52070\, Germany
ATTACH;FMTTYPE=image/jpeg:https://www.aachen.digital/wp-content/uploads/2021/06/AdobeStock_224358016_Mittelstand-innovativdigital-scaled.jpeg
END:VEVENT
BEGIN:VEVENT
DTSTART;TZID=Europe/Berlin:20210520T160000
DTEND;TZID=Europe/Berlin:20210520T170000
DTSTAMP:20260423T230329
CREATED:20210512T070300Z
LAST-MODIFIED:20210512T070300Z
UID:10005456-1621526400-1621530000@www.aachen.digital
SUMMARY:Strategische Kooperationen in der IT-Branche
DESCRIPTION:Am 20.05. um 16:00 Uhr sind wir zu Gast beim Cyberforum und geben einen Einstieg in das Thema der IT-Kooperation. Nach dem Impulsvortrag besteht die Möglichkeit zum virtuellen Netzwerken. \nStrategien zur Geschäftsmodellinnovation hin zu kooperativen Geschäftsmodellen sind für IT-Unternehmen zukunftsweisend und die Antwort auf sich verändernde Märkte und komplexer werdende Kundenbedürfnisse. In seinem Vortrag spricht Tarek Annan u.a. darüber\, wie IT-Kooperationen erfolgreich umgesetzt werden\, welche Schritte hinsichtlich der Partnersuche (Matching)\, IT-Schnittstellen\, Kooperationsrecht\, Datenschutz und IT-Sicherheit zu gehen sind und welche Tools dabei unterstützen. Praxisbeispiele geben dabei anschaulich wieder\, welche Potenziale und Chancen sich für alle Beteiligten Unternehmen in IT-Kooperationen ergeben haben. \nZielgruppe \nIT-Unternehmer:innen und Start-Ups \nÜber den Referenten \nTarek Annan ist stellv. Geschäftsführer am Kompetenzzentrum IT-Wirtschaft und mit der Kooperation von IT-Unternehmen beauftragt. Er beschäftigt sich mit nachhaltiger Software und kooperative Geschäftsmodelle. Zudem ist er Mitglied der bundesweiten Arbeitsgruppe künstliche Intelligenz und Kenner der mittelständisch geprägten IT-Branche. \nDiese Veranstaltung findet in Kooperation mit dem Cyberforum Baden-Baden\, unserem KIW-Stützpunkt Süd\, statt. \nAnmeldung \nWir freuen uns auf Ihre Teilnahme!
URL:https://www.aachen.digital/en/event/strategische-kooperationen-in-der-it-branche/
LOCATION:Jülicher Strasse 72a\, Aachen\, 52070\, Germany
ATTACH;FMTTYPE=image/jpeg:https://www.aachen.digital/wp-content/uploads/2021/03/AdobeStock_268786932_edited-scaled.jpg
END:VEVENT
BEGIN:VEVENT
DTSTART;TZID=Europe/Berlin:20210518T143000
DTEND;TZID=Europe/Berlin:20210518T160000
DTSTAMP:20260423T230329
CREATED:20210415T094843Z
LAST-MODIFIED:20210415T094843Z
UID:10005879-1621348200-1621353600@www.aachen.digital
SUMMARY:Digitale Prozesse in der Praxis – Beispiele aus Handwerk\, Logistik und der IT-Branche
DESCRIPTION:Die Kompetenzzentren Ilmenau\, Planen und Bauen\, eStandards und IT-Wirtschaft laden Sie ein sich zu vernetzen.\n \nUnternehmen digitalisieren in zunehmenden Maße ihre Geschäftsprozesse. Ob im Handwerk\, im Baugewerbe\, im Handel\, in der Produktion oder in der Logistik können so Prozesse effizient gestaltet werden. \nIn diesem Kooperationsworkshop stellen die Mittelstand 4.0-Kompetenzzentren aktuelle Beispiele digitaler Geschäftsprozesse zur Unterstützung von Unternehmen bei ihren Produktions- und Geschäftsabläufen vor. \nDarüber hinaus wird mit der Online-Plattform „Demonstratoren Management“ eine umfangreiche Datenbank weiterer innovativer und leicht umsetzbarer Digitalisierungslösungen für Unternehmen präsentiert. \n\nAblauf & Beteiligung des Kompetenzzentrums IT-Wirtschaft \n\n\nBegrüßung und Vorstellung verschiedener Demonstratoren zur Optimierung digitaler Prozesse\nJanek Götze spricht über durchgängige Prozesse durch Software-Kooperationen am Beispiel des Demonstrator für das Facility Management\nKooperationsgespräche & Netzwerken\nGemeinsamer Abschluss\n\nWeitere Informationen und die umfassende Agenda finden Sie hier. \nZur Anmeldung \nWir freuen uns auf den Austausch mit Ihnen!
URL:https://www.aachen.digital/en/event/digitale-prozesse-in-der-praxis-beispiele-aus-handwerk-logistik-und-der-it-branche/
LOCATION:Jülicher Strasse 72a\, Aachen\, 52070\, Germany
ATTACH;FMTTYPE=image/jpeg:https://www.aachen.digital/wp-content/uploads/2021/03/AdobeStock_211845830_Data-control-wall-1-scaled.jpeg
END:VEVENT
BEGIN:VEVENT
DTSTART;TZID=Europe/Berlin:20210121T140000
DTEND;TZID=Europe/Berlin:20210121T150000
DTSTAMP:20260423T230329
CREATED:20210105T172404Z
LAST-MODIFIED:20210105T172404Z
UID:10005772-1611237600-1611241200@www.aachen.digital
SUMMARY:Sprechstunde IT-Sicherheit
DESCRIPTION:Die digitale Sprechstunde bietet IT-Unternehmen einen Raum für Ihre individuellen Fragen rund um das Thema IT-Sicherheit. Unsere Fachexperten informieren Sie zu ihrem Fachthema und IT-Kooperationen. \nWas Sie erwartet \nAntwort auf die folgenden Fragen: \n\nWie kann die IT-Sicherheit in Kooperationen gewährleistet werden?\nWelche Schutzmaßnahmen gibt es?\nWelche Angebote zur IT-Sicherheit in Kooperationen bietet das KIW an?\n\nZielgruppe \nDie Sprech­stunde richtet sich gezielt an kleine und mittlere Unter­nehmen der IT-Branche sowie an Start-Ups und findet per Webmeeting statt. \nHIER GEHT’S ZUR ANMELDUNG. \n  \nWir freuen uns auf Ihre Teilnahme! \nDisclaimer: Grundsätzlich versuchen wir\, das Mittelstand 4.0-Kompetenzzentrum IT-Wirtschaft\, nur solche Tools und Lösungen zu nutzen\, die geltendes Datenschutzrecht einhalten. Gleichzeitig können wir leider keine Gewähr und keine Haftung für die DSGVO-Konformität anderer Unternehmen\, Lösungen oder Tools übernehmen. Wir weisen Sie fürsorglich darauf hin\, dass Sie bei die Nutzung aller Tools und Lösungen\, auch solcher\, die von uns empfohlen sind\, stets auf eigene Gefahr handeln. Wir hoffen\, dass der Datenschutz Ihnen genauso wichtig ist wie uns. \nMit der Teilnahme erklären Sie Ihr Einverständnis\, dass das dabei von uns oder in unserem Auftrag erstellte Foto- oder Videomaterial für Dokumentationszwecke sowie für unsere Presse- und Öffentlichkeitsarbeit eingesetzt werden kann (Druckmedien\, Internet\, Soziale Medien). Mit der Teilnahme geben Sie zusätzlich Ihr Verständnis\, dass wir Sie ggf. zu einem späteren Zeitpunkt im Rahmen der wissenschaftlichen Begleitung durch unser Evaluationsteam zu dieser Veranstaltung befragen dürfen. Diese Befragung wird anonym und durch einen Online-Fragebogen erfolgen.
URL:https://www.aachen.digital/en/event/sprechstunde-it-sicherheit/
LOCATION:Jülicher Strasse 72a\, Aachen\, 52070\, Germany
ATTACH;FMTTYPE=image/jpeg:https://www.aachen.digital/wp-content/uploads/2020/04/AdobeStock_301171343-1-Konvertiert.jpg
END:VEVENT
BEGIN:VEVENT
DTSTART;TZID=Europe/Berlin:20210120T103000
DTEND;TZID=Europe/Berlin:20210120T120000
DTSTAMP:20260423T230329
CREATED:20201201T100025Z
LAST-MODIFIED:20201201T100025Z
UID:10005739-1611138600-1611144000@www.aachen.digital
SUMMARY:Online-Workshop „Datenschutz-Compliance für Start Ups“
DESCRIPTION:Sie gründen ein Unternehmen und wollen den Datenschutz von Anfang an richtig machen? Sie wollen die Verarbeitung von personenbezogenen Daten in Ihrem jungen Unternehmen DSGVO-konform gestalten? Sie haben viel über die DSGVO gehört und gelesen\, sind sich aber nicht sicher\, wie Sie all die Vorgaben umsetzen sollen? Dann ist unser Workshop genau das Richtige für Sie! \nAblauf\n1.    Einführung in den Datenschutz und die DSGVO\n2.    Grundzüge der Compliance\n3.    Aufbau einer Datenschutz-Compliance\n4.    Handlungsempfehlungen und Checklisten für den Start\n5.    Besonders kritische Punkte\n6.    Ausblick und Fragen \nDiese Veranstaltung ist kostenfrei. Bitte beachten Sie\, dass die Anzahl der Teilnehmer für dieses Webinar aus technischen Gründen limitiert ist. Nach der Anmeldung erhalten Sie rechtzeitig vor Beginn des Webinars Ihre Einwahlinformationen sowie ergänzende technische Informationen. Um teilzunehmen\, ist keine spezifische technische Ausstattung notwendig. \nHIER GEHT’S ZUR ANMELDUNG.
URL:https://www.aachen.digital/en/event/online-workshop-datenschutz-compliance-fuer-start-ups/
LOCATION:Jülicher Strasse 72a\, Aachen\, 52070\, Germany
ATTACH;FMTTYPE=image/jpeg:https://www.aachen.digital/wp-content/uploads/2019/07/CyberSecurity_Datenschutz_12zu5.jpg
END:VEVENT
BEGIN:VEVENT
DTSTART;TZID=Europe/Berlin:20210113T090000
DTEND;TZID=Europe/Berlin:20210113T100000
DTSTAMP:20260423T230329
CREATED:20210105T170326Z
LAST-MODIFIED:20210105T170326Z
UID:10005771-1610528400-1610532000@www.aachen.digital
SUMMARY:Online-Seminar: Kunden und Märkte dank Digi­ta­li­sie­rung besser verstehen
DESCRIPTION:Die zuneh­mende Digi­ta­li­sie­rung sorgt dafür\, dass Infor­ma­tionen zu Märkten und Kunden in der Online-Welt frei verfügbar sind. Doch wie können diese Infor­ma­tionen gezielt gefunden und insbe­son­dere bei kleinen und mittleren Unter­nehmen genutzt werden\, um Märkte und Kunden besser zu verstehen? \nIm Rahmen des Online-Seminars zeigt Dr. Jan Kukulies vom Team social.​you auf\, wie markt- und kunden­re­le­vante Infor­ma­tionen auf digitalen Kanälen und Online-Platt­formen erfasst und zu unter­neh­me­ri­schen Zwecken ausge­wertet werden können. Hierbei werden Lösungs­an­sätze aufge­zeigt\, mit denen auch kleine und mittlere Unter­nehmen ohne große Markt­for­schungs­ab­tei­lung ihre Märkte und Kunden besser verstehen können. \nAußerdem erhalten Sie einen kurzen Überblick über alle weiteren kosten­freien Unter­stüt­zungs­an­ge­bote von Digital in NRW. Abschlie­ßend bleibt ausrei­chend Zeit zur Beant­wor­tungen Ihrer Fragen. \nMittwoch\, 13. Januar 2021 | 09:00 bis 10:00 Uhr\nonline | bundes­weit \nDie Teilnahme an der Online-Veran­stal­tung ist kosten­frei und richtet sich gezielt an kleine und mittlere Unter­nehmen. Es sind keine Vorkennt­nisse erfor­der­lich. \nAnmel­de­schluss ist der 12.01.2021 um 17:00 Uhr. \nNach Ihrer Anmeldung senden wir Ihnen eine Teil­nah­me­be­stä­ti­gung. Vom Online-Konferenz-System folgt eine weitere Mail\, mit der Sie sich aktiv für das Seminar regis­trieren. Nach Ihrer Regis­trie­rung erhalten Sie die Zugangs­daten für das Seminar – ebenfalls per Mail. \nBei Rück­fragen wenden Sie sich gerne an Dr. Jan Kukulies\, Telefon 0241 89438410. \nHIER GEHT’S ZUR ANMELDUNG.
URL:https://www.aachen.digital/en/event/online-seminar-kunden-und-maerkte-dank-digitalisierung-besser-verstehen/
LOCATION:Jülicher Strasse 72a\, Aachen\, 52070\, Germany
ATTACH;FMTTYPE=image/jpeg:https://www.aachen.digital/wp-content/uploads/2020/01/AdobeStock_86653082.jpeg
END:VEVENT
END:VCALENDAR